Index of /checkResults/3.19/bioc-LATEST/IVAS/raw-results/nebbiolo1

[ICO]NameLast modifiedSizeDescription

[DIR]Parent Directory  -  
[TXT]buildsrc-out.txt15-Jun-2024 03:37 857  
[   ]buildsrc-summary.dcf15-Jun-2024 03:37 408  
[TXT]checksrc-out.txt15-Jun-2024 03:37 3.8K 
[   ]checksrc-summary.dcf15-Jun-2024 03:37 408  
[TXT]install-out.txt15-Jun-2024 03:37 1.0K 
[   ]install-summary.dcf15-Jun-2024 03:37 253