Index of /checkResults/3.19/bioc-LATEST/IVAS/raw-results/merida1

[ICO]NameLast modifiedSizeDescription

[DIR]Parent Directory  -  
[   ]install-summary.dcf17-Jul-2024 06:41 263  
[   ]buildsrc-summary.dcf17-Jul-2024 06:41 419  
[   ]checksrc-summary.dcf17-Jul-2024 06:41 438  
[   ]buildbin-summary.dcf17-Jul-2024 06:41 512  
[TXT]buildsrc-out.txt17-Jul-2024 06:41 867  
[TXT]install-out.txt17-Jul-2024 06:41 1.0K 
[TXT]buildbin-out.txt17-Jul-2024 06:41 1.2K 
[TXT]checksrc-out.txt17-Jul-2024 06:41 3.9K