Index of /checkResults/3.19/bioc-LATEST/IVAS/raw-results/merida1

[ICO]NameLast modifiedSizeDescription

[DIR]Parent Directory  -  
[TXT]buildbin-out.txt05-Mar-2024 01:39 1.2K 
[   ]buildbin-summary.dcf05-Mar-2024 01:39 513  
[TXT]buildsrc-out.txt05-Mar-2024 01:39 867  
[   ]buildsrc-summary.dcf05-Mar-2024 01:39 419  
[TXT]checksrc-out.txt05-Mar-2024 01:39 3.9K 
[   ]checksrc-summary.dcf05-Mar-2024 01:39 438  
[TXT]install-out.txt05-Mar-2024 01:39 1.0K 
[   ]install-summary.dcf05-Mar-2024 01:39 263