Index of /checkResults/3.19/bioc-LATEST/IVAS/raw-results/kunpeng2

[ICO]NameLast modifiedSizeDescription

[DIR]Parent Directory  -  
[TXT]buildsrc-out.txt10-May-2024 00:41 868  
[   ]buildsrc-summary.dcf10-May-2024 00:41 419  
[TXT]checksrc-out.txt10-May-2024 00:41 3.9K 
[   ]checksrc-summary.dcf10-May-2024 00:41 445  
[TXT]install-out.txt10-May-2024 00:41 1.0K 
[   ]install-summary.dcf10-May-2024 00:41 264