Index of /checkResults/3.19/bioc-LATEST/HELP/raw-results/lconway

[ICO]NameLast modifiedSizeDescription

[DIR]Parent Directory  -  
[TXT]buildbin-out.txt12-Jun-2024 03:42 1.1K 
[   ]buildbin-summary.dcf12-Jun-2024 03:42 511  
[TXT]buildsrc-out.txt12-Jun-2024 03:42 867  
[   ]buildsrc-summary.dcf12-Jun-2024 03:42 418  
[TXT]checksrc-out.txt12-Jun-2024 03:42 17K 
[   ]checksrc-summary.dcf12-Jun-2024 03:42 431  
[TXT]install-out.txt12-Jun-2024 03:42 1.0K 
[   ]install-summary.dcf12-Jun-2024 03:42 263