Index of /checkResults/3.19/bioc-LATEST/GenomicScores/raw-results/nebbiolo1

[ICO]NameLast modifiedSizeDescription

[DIR]Parent Directory  -  
[TXT]buildsrc-out.txt19-Jun-2024 06:57 830  
[   ]buildsrc-summary.dcf19-Jun-2024 06:57 436  
[TXT]checksrc-out.txt19-Jun-2024 06:57 3.7K 
[   ]checksrc-summary.dcf19-Jun-2024 06:57 438  
[TXT]install-out.txt19-Jun-2024 06:57 970  
[   ]install-summary.dcf19-Jun-2024 06:57 271