Index of /checkResults/3.19/bioc-LATEST/GenomicScores/raw-results/merida1

[ICO]NameLast modifiedSizeDescription

[DIR]Parent Directory  -  
[TXT]buildbin-out.txt19-Jun-2024 07:00 1.2K 
[   ]buildbin-summary.dcf19-Jun-2024 07:00 566  
[TXT]buildsrc-out.txt19-Jun-2024 07:00 840  
[   ]buildsrc-summary.dcf19-Jun-2024 07:00 446  
[TXT]checksrc-out.txt19-Jun-2024 07:00 3.9K 
[   ]checksrc-summary.dcf19-Jun-2024 07:00 468  
[TXT]install-out.txt19-Jun-2024 07:00 1.0K 
[   ]install-summary.dcf19-Jun-2024 07:00 281