Index of /checkResults/3.19/bioc-LATEST/GenomicScores/raw-results

[ICO]NameLast modifiedSizeDescription

[DIR]Parent Directory  -  
[   ]info.dcf19-May-2024 00:35 287  
[DIR]kunpeng2/10-May-2024 00:40 -  
[DIR]lconway/19-May-2024 00:37 -  
[DIR]merida1/05-Mar-2024 01:39 -  
[DIR]nebbiolo1/19-May-2024 00:36 -  
[DIR]palomino3/19-May-2024 00:36 -