Index of /checkResults/3.19/bioc-LATEST/GeneBreak/raw-results/palomino3

[ICO]NameLast modifiedSizeDescription

[DIR]Parent Directory  -  
[TXT]buildbin-out.txt29-Jun-2024 06:41 1.2K 
[   ]buildbin-summary.dcf29-Jun-2024 06:41 527  
[TXT]buildsrc-out.txt29-Jun-2024 06:41 909  
[   ]buildsrc-summary.dcf29-Jun-2024 06:41 460  
[TXT]checksrc-out.txt29-Jun-2024 06:41 4.2K 
[   ]checksrc-summary.dcf29-Jun-2024 06:41 455  
[TXT]install-out.txt29-Jun-2024 06:41 1.0K 
[   ]install-summary.dcf29-Jun-2024 06:41 272