Index of /checkResults/3.19/bioc-LATEST/GeneBreak/raw-results/nebbiolo1

[ICO]NameLast modifiedSizeDescription

[DIR]Parent Directory  -  
[TXT]buildsrc-out.txt10-Jul-2024 06:39 877  
[   ]buildsrc-summary.dcf10-Jul-2024 06:39 422  
[TXT]checksrc-out.txt10-Jul-2024 06:39 4.0K 
[   ]checksrc-summary.dcf10-Jul-2024 06:39 422  
[TXT]install-out.txt10-Jul-2024 06:39 1.0K 
[   ]install-summary.dcf10-Jul-2024 06:39 263