Index of /checkResults/3.19/bioc-LATEST/GeneBreak/raw-results/lconway

[ICO]NameLast modifiedSizeDescription

[DIR]Parent Directory  -  
[TXT]buildbin-out.txt12-Jun-2024 03:42 1.2K 
[   ]buildbin-summary.dcf12-Jun-2024 03:42 542  
[TXT]buildsrc-out.txt12-Jun-2024 03:42 887  
[   ]buildsrc-summary.dcf12-Jun-2024 03:42 433  
[TXT]checksrc-out.txt12-Jun-2024 03:42 4.3K 
[   ]checksrc-summary.dcf12-Jun-2024 03:42 452  
[TXT]install-out.txt12-Jun-2024 03:42 1.0K 
[   ]install-summary.dcf12-Jun-2024 03:42 273