Back to Multiple platform build/check report for BioC 3.19:   simplified   long
ABCDEF[G]HIJKLMNOPQRSTUVWXYZ

This page was generated on 2024-05-22 11:34:02 -0400 (Wed, 22 May 2024).

HostnameOSArch (*)R versionInstalled pkgs
nebbiolo1Linux (Ubuntu 22.04.3 LTS)x86_644.4.0 (2024-04-24) -- "Puppy Cup" 4751
palomino3Windows Server 2022 Datacenterx644.4.0 (2024-04-24 ucrt) -- "Puppy Cup" 4485
lconwaymacOS 12.7.1 Montereyx86_644.4.0 (2024-04-24) -- "Puppy Cup" 3444
Click on any hostname to see more info about the system (e.g. compilers)      (*) as reported by 'uname -p', except on Windows and Mac OS X

All results for package GOstats


To the developers/maintainers of the GOstats package:
- Allow up to 24 hours (and sometimes 48 hours) for your latest push to git@git.bioconductor.org:packages/GOstats.git to reflect on this report. See Troubleshooting Build Report for more information.
- Use the following Renviron settings to reproduce errors and warnings.
- If 'R CMD check' started to fail recently on the Linux builder(s) over a missing dependency, add the missing dependency to 'Suggests:' in your DESCRIPTION file. See Renviron.bioc for more information.

raw results

Package 899/2300HostnameOS / ArchINSTALLBUILDCHECKBUILD BIN
GOstats 2.70.0  (landing page)
Bioconductor Package Maintainer
Snapshot Date: 2024-05-21 14:00:15 -0400 (Tue, 21 May 2024)
git_url: https://git.bioconductor.org/packages/GOstats
git_branch: RELEASE_3_19
git_last_commit: f0d76ff
git_last_commit_date: 2024-04-30 10:12:40 -0400 (Tue, 30 Apr 2024)
nebbiolo1Linux (Ubuntu 22.04.3 LTS) / x86_64  OK    OK    OK  UNNEEDED, same version is already published
palomino3Windows Server 2022 Datacenter / x64  OK    OK    OK    OK  UNNEEDED, same version is already published
lconwaymacOS 12.7.1 Monterey / x86_64  OK    OK    OK    OK  UNNEEDED, same version is already published
kjohnson3macOS 13.6.5 Ventura / arm64see weekly results here

Results for Bioconductor software packages that depend directly on package GOstats

QUICK STATSOS / ArchINSTALLBUILDCHECKBUILD BIN
nebbiolo1Linux (Ubuntu 22.04.3 LTS) / x86_64
0013
0112
0147
palomino3Windows Server 2022 Datacenter / x64
0013
0112
0138
0012
lconwaymacOS 12.7.1 Monterey / x86_64
094
094
0013
004
Package 1/13HostnameOS / ArchINSTALLBUILDCHECKBUILD BIN
affycoretools 1.76.0  (landing page)
James W. MacDonald
git_last_commit: 4733a16
git_last_commit_date: 2024-04-30 10:14:41 -0400
nebbiolo1Linux (Ubuntu 22.04.3 LTS) / x86_64  OK    OK    OK  UNNEEDED, same version is already published
palomino3Windows Server 2022 Datacenter / x64  OK    OK    OK    OK  UNNEEDED, same version is already published
lconwaymacOS 12.7.1 Monterey / x86_64  ERROR    ERROR  skippedskipped
kjohnson3macOS 13.6.5 Ventura / arm64see weekly results here
Package 2/13HostnameOS / ArchINSTALLBUILDCHECKBUILD BIN
attract 1.56.0  (landing page)
Samuel Zimmerman
git_last_commit: bbedc77
git_last_commit_date: 2024-04-30 10:22:07 -0400
nebbiolo1Linux (Ubuntu 22.04.3 LTS) / x86_64  OK    OK    OK  UNNEEDED, same version is already published
palomino3Windows Server 2022 Datacenter / x64  OK    OK    OK    OK  UNNEEDED, same version is already published
lconwaymacOS 12.7.1 Monterey / x86_64  OK    OK    OK    OK  UNNEEDED, same version is already published
kjohnson3macOS 13.6.5 Ventura / arm64see weekly results here
Package 3/13HostnameOS / ArchINSTALLBUILDCHECKBUILD BIN
categoryCompare 1.48.0  (landing page)
Robert M. Flight
git_last_commit: 50862bb
git_last_commit_date: 2024-04-30 10:27:40 -0400
nebbiolo1Linux (Ubuntu 22.04.3 LTS) / x86_64  OK    OK    OK  UNNEEDED, same version is already published
palomino3Windows Server 2022 Datacenter / x64  OK    OK    OK    OK  UNNEEDED, same version is already published
lconwaymacOS 12.7.1 Monterey / x86_64  OK    OK    OK    OK  UNNEEDED, same version is already published
kjohnson3macOS 13.6.5 Ventura / arm64see weekly results here
Package 4/13HostnameOS / ArchINSTALLBUILDCHECKBUILD BIN
GmicR 1.18.0  (landing page)
Richard Virgen-Slane
git_last_commit: 58968ed
git_last_commit_date: 2024-04-30 11:17:51 -0400
nebbiolo1Linux (Ubuntu 22.04.3 LTS) / x86_64  OK    OK    WARNINGS  UNNEEDED, same version is already published
palomino3Windows Server 2022 Datacenter / x64  OK    OK    WARNINGS    OK  UNNEEDED, same version is already published
lconwaymacOS 12.7.1 Monterey / x86_64  OK    OK    WARNINGS    OK  UNNEEDED, same version is already published
kjohnson3macOS 13.6.5 Ventura / arm64see weekly results here
Package 5/13HostnameOS / ArchINSTALLBUILDCHECKBUILD BIN
ideal 1.28.0  (landing page)
Federico Marini
git_last_commit: b369208
git_last_commit_date: 2024-04-30 10:58:01 -0400
nebbiolo1Linux (Ubuntu 22.04.3 LTS) / x86_64  OK    OK    OK  NO, package depends on 'goseq' which is not available
palomino3Windows Server 2022 Datacenter / x64  OK    OK    OK    OK  NO, package depends on 'goseq' which is not available
lconwaymacOS 12.7.1 Monterey / x86_64  ERROR    ERROR  skippedskipped
kjohnson3macOS 13.6.5 Ventura / arm64see weekly results here
Package 6/13HostnameOS / ArchINSTALLBUILDCHECKBUILD BIN
MineICA 1.44.0  (landing page)
Anne Biton
git_last_commit: eae2b7a
git_last_commit_date: 2024-04-30 10:30:34 -0400
nebbiolo1Linux (Ubuntu 22.04.3 LTS) / x86_64  OK    OK    WARNINGS  UNNEEDED, same version is already published
palomino3Windows Server 2022 Datacenter / x64  OK    OK    ERROR    OK  
lconwaymacOS 12.7.1 Monterey / x86_64  ERROR    ERROR  skippedskipped
kjohnson3macOS 13.6.5 Ventura / arm64see weekly results here
Package 7/13HostnameOS / ArchINSTALLBUILDCHECKBUILD BIN
miRLAB 1.34.0  (landing page)
Thuc Duy Le
git_last_commit: 4534ec8
git_last_commit_date: 2024-04-30 10:44:45 -0400
nebbiolo1Linux (Ubuntu 22.04.3 LTS) / x86_64  OK    OK    WARNINGS  UNNEEDED, same version is already published
palomino3Windows Server 2022 Datacenter / x64  OK    OK    WARNINGS    OK  UNNEEDED, same version is already published
lconwaymacOS 12.7.1 Monterey / x86_64  ERROR    ERROR  skippedskipped
kjohnson3macOS 13.6.5 Ventura / arm64see weekly results here
Package 8/13HostnameOS / ArchINSTALLBUILDCHECKBUILD BIN
netZooR 1.8.0  (landing page)
Marouen Ben Guebila
git_last_commit: 61e96b6
git_last_commit_date: 2024-04-30 11:39:26 -0400
nebbiolo1Linux (Ubuntu 22.04.3 LTS) / x86_64  OK    OK    OK  UNNEEDED, same version is already published
palomino3Windows Server 2022 Datacenter / x64  OK    OK    OK    OK  UNNEEDED, same version is already published
lconwaymacOS 12.7.1 Monterey / x86_64  ERROR    ERROR  skippedskipped
kjohnson3macOS 13.6.5 Ventura / arm64see weekly results here
Package 9/13HostnameOS / ArchINSTALLBUILDCHECKBUILD BIN
pcaExplorer 2.30.0  (landing page)
Federico Marini
git_last_commit: f513ba6
git_last_commit_date: 2024-04-30 10:50:20 -0400
nebbiolo1Linux (Ubuntu 22.04.3 LTS) / x86_64  OK    OK    OK  UNNEEDED, same version is already published
palomino3Windows Server 2022 Datacenter / x64  OK    OK    OK    OK  UNNEEDED, same version is already published
lconwaymacOS 12.7.1 Monterey / x86_64  ERROR    ERROR  skippedskipped
kjohnson3macOS 13.6.5 Ventura / arm64see weekly results here
Package 10/13HostnameOS / ArchINSTALLBUILDCHECKBUILD BIN
PloGO2 1.16.0  (landing page)
Jemma Wu , Dana Pascovici
git_last_commit: 7b91b7d
git_last_commit_date: 2024-04-30 11:23:06 -0400
nebbiolo1Linux (Ubuntu 22.04.3 LTS) / x86_64  OK    OK    ERROR  
palomino3Windows Server 2022 Datacenter / x64  OK    OK    OK    OK  UNNEEDED, same version is already published
lconwaymacOS 12.7.1 Monterey / x86_64  OK    OK    OK    OK  UNNEEDED, same version is already published
kjohnson3macOS 13.6.5 Ventura / arm64see weekly results here
Package 11/13HostnameOS / ArchINSTALLBUILDCHECKBUILD BIN
ReportingTools 2.44.0  (landing page)
Jason A. Hackney , Gabriel Becker
git_last_commit: 6c9e290
git_last_commit_date: 2024-04-30 10:29:01 -0400
nebbiolo1Linux (Ubuntu 22.04.3 LTS) / x86_64  OK    OK    OK  UNNEEDED, same version is already published
palomino3Windows Server 2022 Datacenter / x64  OK    OK    OK    OK  UNNEEDED, same version is already published
lconwaymacOS 12.7.1 Monterey / x86_64  ERROR    ERROR  skippedskipped
kjohnson3macOS 13.6.5 Ventura / arm64see weekly results here
Package 12/13HostnameOS / ArchINSTALLBUILDCHECKBUILD BIN
scTensor 2.14.0  (landing page)
Koki Tsuyuzaki
git_last_commit: 5ee2a91
git_last_commit_date: 2024-04-30 11:11:18 -0400
nebbiolo1Linux (Ubuntu 22.04.3 LTS) / x86_64  OK    OK    WARNINGS  UNNEEDED, same version is already published
palomino3Windows Server 2022 Datacenter / x64  OK    OK    WARNINGS    OK  UNNEEDED, same version is already published
lconwaymacOS 12.7.1 Monterey / x86_64  ERROR    ERROR  skippedskipped
kjohnson3macOS 13.6.5 Ventura / arm64see weekly results here
Package 13/13HostnameOS / ArchINSTALLBUILDCHECKBUILD BIN
SGCP 1.4.0  (landing page)
Niloofar AghaieAbiane
git_last_commit: b7e7662
git_last_commit_date: 2024-04-30 11:46:28 -0400
nebbiolo1Linux (Ubuntu 22.04.3 LTS) / x86_64  OK    ERROR  skipped
palomino3Windows Server 2022 Datacenter / x64  OK    ERROR  skippedskipped
lconwaymacOS 12.7.1 Monterey / x86_64  ERROR    ERROR  skippedskipped
kjohnson3macOS 13.6.5 Ventura / arm64see weekly results here