Index of /checkResults/3.19/bioc-LATEST/EMDomics/raw-results/nebbiolo1

[ICO]NameLast modifiedSizeDescription

[DIR]Parent Directory  -  
[TXT]buildsrc-out.txt15-Jun-2024 03:37 850  
[   ]buildsrc-summary.dcf15-Jun-2024 03:37 420  
[TXT]checksrc-out.txt15-Jun-2024 03:37 5.0K 
[   ]checksrc-summary.dcf15-Jun-2024 03:37 417  
[TXT]install-out.txt15-Jun-2024 03:37 947  
[   ]install-summary.dcf15-Jun-2024 03:37 260