Index of /checkResults/3.19/bioc-LATEST/DiffBind/raw-results/palomino3

[ICO]NameLast modifiedSizeDescription

[DIR]Parent Directory  -  
[TXT]buildbin-out.txt29-Jun-2024 06:41 9.0K 
[   ]buildbin-summary.dcf29-Jun-2024 06:41 522  
[TXT]buildsrc-out.txt29-Jun-2024 06:41 936  
[   ]buildsrc-summary.dcf29-Jun-2024 06:41 457  
[TXT]checksrc-out.txt29-Jun-2024 06:41 17K 
[   ]checksrc-summary.dcf29-Jun-2024 06:41 451  
[TXT]install-out.txt29-Jun-2024 06:41 8.8K 
[   ]install-summary.dcf29-Jun-2024 06:41 271