Index of /checkResults/3.19/bioc-LATEST/DiffBind/raw-results/nebbiolo1

[ICO]NameLast modifiedSizeDescription

[DIR]Parent Directory  -  
[TXT]buildsrc-out.txt17-Jul-2024 06:38 903  
[   ]buildsrc-summary.dcf17-Jul-2024 06:38 421  
[TXT]checksrc-out.txt17-Jul-2024 06:38 17K 
[   ]checksrc-summary.dcf17-Jul-2024 06:38 418  
[TXT]install-out.txt17-Jul-2024 06:38 7.8K 
[   ]install-summary.dcf17-Jul-2024 06:38 261