Index of /checkResults/3.19/bioc-LATEST/DiffBind/raw-results/merida1

[ICO]NameLast modifiedSizeDescription

[DIR]Parent Directory  -  
[TXT]buildbin-out.txt20-Jul-2024 06:39 13K 
[   ]buildbin-summary.dcf20-Jul-2024 06:39 537  
[TXT]buildsrc-out.txt20-Jul-2024 06:39 913  
[   ]buildsrc-summary.dcf20-Jul-2024 06:39 431  
[TXT]checksrc-out.txt20-Jul-2024 06:39 17K 
[   ]checksrc-summary.dcf20-Jul-2024 06:39 449  
[TXT]install-out.txt20-Jul-2024 06:39 10K 
[   ]install-summary.dcf20-Jul-2024 06:39 272