Index of /checkResults/3.19/bioc-LATEST/DiffBind/raw-results/lconway

[ICO]NameLast modifiedSizeDescription

[DIR]Parent Directory  -  
[TXT]buildbin-out.txt12-Jun-2024 03:42 13K 
[   ]buildbin-summary.dcf12-Jun-2024 03:42 536  
[TXT]buildsrc-out.txt12-Jun-2024 03:42 913  
[   ]buildsrc-summary.dcf12-Jun-2024 03:42 431  
[TXT]checksrc-out.txt12-Jun-2024 03:42 17K 
[   ]checksrc-summary.dcf12-Jun-2024 03:42 448  
[TXT]install-out.txt12-Jun-2024 03:42 10K 
[   ]install-summary.dcf12-Jun-2024 03:42 272