Index of /checkResults/3.19/bioc-LATEST/DiffBind/raw-results/kjohnson3

[ICO]NameLast modifiedSizeDescription

[DIR]Parent Directory  -  
[TXT]buildbin-out.txt12-Jun-2024 03:43 13K 
[   ]buildbin-summary.dcf12-Jun-2024 03:43 537  
[TXT]buildsrc-out.txt12-Jun-2024 03:43 913  
[   ]buildsrc-summary.dcf12-Jun-2024 03:43 431  
[TXT]checksrc-out.txt12-Jun-2024 03:43 17K 
[   ]checksrc-summary.dcf12-Jun-2024 03:43 449  
[TXT]install-out.txt12-Jun-2024 03:43 10K 
[   ]install-summary.dcf12-Jun-2024 03:43 272