Index of /checkResults/3.19/bioc-LATEST/DiffBind/raw-results/kjohnson1

[ICO]NameLast modifiedSizeDescription

[DIR]Parent Directory  -  
[TXT]buildbin-out.txt17-Jul-2024 06:42 13K 
[   ]buildbin-summary.dcf17-Jul-2024 06:42 536  
[TXT]buildsrc-out.txt17-Jul-2024 06:42 913  
[   ]buildsrc-summary.dcf17-Jul-2024 06:42 431  
[TXT]checksrc-out.txt17-Jul-2024 06:42 17K 
[   ]checksrc-summary.dcf17-Jul-2024 06:42 448  
[TXT]install-out.txt17-Jul-2024 06:42 10K 
[   ]install-summary.dcf17-Jul-2024 06:42 271