Back to Multiple platform build/check report for BioC 3.19:   simplified   long
ABC[D]EFGHIJKLMNOPQRSTUVWXYZ

This page was generated on 2024-05-25 11:35:36 -0400 (Sat, 25 May 2024).

HostnameOSArch (*)R versionInstalled pkgs
nebbiolo1Linux (Ubuntu 22.04.3 LTS)x86_644.4.0 (2024-04-24) -- "Puppy Cup" 4751
lconwaymacOS 12.7.1 Montereyx86_644.4.0 (2024-04-24) -- "Puppy Cup" 4516
Click on any hostname to see more info about the system (e.g. compilers)      (*) as reported by 'uname -p', except on Windows and Mac OS X

Package 568/2300HostnameOS / ArchINSTALLBUILDCHECKBUILD BIN
DiffBind 3.14.0  (landing page)
Rory Stark
Snapshot Date: 2024-05-24 14:00:07 -0400 (Fri, 24 May 2024)
git_url: https://git.bioconductor.org/packages/DiffBind
git_branch: RELEASE_3_19
git_last_commit: e0ff4b5
git_last_commit_date: 2024-04-30 10:25:38 -0400 (Tue, 30 Apr 2024)
nebbiolo1Linux (Ubuntu 22.04.3 LTS) / x86_64  OK    OK    OK  UNNEEDED, same version is already published
lconwaymacOS 12.7.1 Monterey / x86_64  OK    OK    OK    OK  UNNEEDED, same version is already published
kjohnson3macOS 13.6.5 Ventura / arm64see weekly results here

BUILD BIN results for DiffBind on lconway


To the developers/maintainers of the DiffBind package:
- Allow up to 24 hours (and sometimes 48 hours) for your latest push to git@git.bioconductor.org:packages/DiffBind.git to reflect on this report. See Troubleshooting Build Report for more information.
- Use the following Renviron settings to reproduce errors and warnings.
- If 'R CMD check' started to fail recently on the Linux builder(s) over a missing dependency, add the missing dependency to 'Suggests:' in your DESCRIPTION file. See Renviron.bioc for more information.

raw results


Summary

Package: DiffBind
Version: 3.14.0
Command: rm -rf DiffBind.buildbin-libdir && mkdir DiffBind.buildbin-libdir && /Users/biocbuild/BBS/utils/build-universal.sh DiffBind_3.14.0.tar.gz /Library/Frameworks/R.framework/Resources/bin/R DiffBind.buildbin-libdir
StartedAt: 2024-05-25 01:13:48 -0400 (Sat, 25 May 2024)
EndedAt: 2024-05-25 01:15:48 -0400 (Sat, 25 May 2024)
EllapsedTime: 120.1 seconds
RetCode: 0
Status:   OK  
PackageFile: DiffBind_3.14.0.tgz
PackageFileSize: 7.018 MiB

Command output

##############################################################################
##############################################################################
###
### Running command:
###
###   rm -rf DiffBind.buildbin-libdir && mkdir DiffBind.buildbin-libdir && /Users/biocbuild/BBS/utils/build-universal.sh DiffBind_3.14.0.tar.gz /Library/Frameworks/R.framework/Resources/bin/R DiffBind.buildbin-libdir
###
##############################################################################
##############################################################################


>>>>>>> 
>>>>>>> INSTALLATION WITH 'R CMD INSTALL --preclean --no-multiarch --library=DiffBind.buildbin-libdir DiffBind_3.14.0.tar.gz'
>>>>>>> 

* installing *source* package ‘DiffBind’ ...
** using staged installation
** libs
using C compiler: ‘Apple clang version 14.0.0 (clang-1400.0.29.202)’
using C++ compiler: ‘Apple clang version 14.0.0 (clang-1400.0.29.202)’
using SDK: ‘MacOSX11.3.sdk’
clang++ -arch x86_64 -std=gnu++17 -I"/Library/Frameworks/R.framework/Resources/include" -DNDEBUG -D_FILE_OFFSET_BITS=64 -I'/Library/Frameworks/R.framework/Versions/4.4-x86_64/Resources/library/Rhtslib/include' -I'/Library/Frameworks/R.framework/Versions/4.4-x86_64/Resources/library/Rcpp/include' -I/opt/R/x86_64/include    -fPIC  -falign-functions=64 -Wall -g -O2   -c RcppExports.cpp -o RcppExports.o
clang++ -arch x86_64 -std=gnu++17 -I"/Library/Frameworks/R.framework/Resources/include" -DNDEBUG -D_FILE_OFFSET_BITS=64 -I'/Library/Frameworks/R.framework/Versions/4.4-x86_64/Resources/library/Rhtslib/include' -I'/Library/Frameworks/R.framework/Versions/4.4-x86_64/Resources/library/Rcpp/include' -I/opt/R/x86_64/include    -fPIC  -falign-functions=64 -Wall -g -O2   -c bamReader.cpp -o bamReader.o
clang -arch x86_64 -I"/Library/Frameworks/R.framework/Resources/include" -DNDEBUG -D_FILE_OFFSET_BITS=64 -I'/Library/Frameworks/R.framework/Versions/4.4-x86_64/Resources/library/Rhtslib/include' -I'/Library/Frameworks/R.framework/Versions/4.4-x86_64/Resources/library/Rcpp/include' -I/opt/R/x86_64/include    -fPIC  -falign-functions=64 -Wall -g -O2  -c bam_plbuf.c -o bam_plbuf.o
clang++ -arch x86_64 -std=gnu++17 -I"/Library/Frameworks/R.framework/Resources/include" -DNDEBUG -D_FILE_OFFSET_BITS=64 -I'/Library/Frameworks/R.framework/Versions/4.4-x86_64/Resources/library/Rhtslib/include' -I'/Library/Frameworks/R.framework/Versions/4.4-x86_64/Resources/library/Rcpp/include' -I/opt/R/x86_64/include    -fPIC  -falign-functions=64 -Wall -g -O2   -c bedReader.cpp -o bedReader.o
clang++ -arch x86_64 -std=gnu++17 -I"/Library/Frameworks/R.framework/Resources/include" -DNDEBUG -D_FILE_OFFSET_BITS=64 -I'/Library/Frameworks/R.framework/Versions/4.4-x86_64/Resources/library/Rhtslib/include' -I'/Library/Frameworks/R.framework/Versions/4.4-x86_64/Resources/library/Rcpp/include' -I/opt/R/x86_64/include    -fPIC  -falign-functions=64 -Wall -g -O2   -c bitBucket.cpp -o bitBucket.o
clang++ -arch x86_64 -std=gnu++17 -I"/Library/Frameworks/R.framework/Resources/include" -DNDEBUG -D_FILE_OFFSET_BITS=64 -I'/Library/Frameworks/R.framework/Versions/4.4-x86_64/Resources/library/Rhtslib/include' -I'/Library/Frameworks/R.framework/Versions/4.4-x86_64/Resources/library/Rcpp/include' -I/opt/R/x86_64/include    -fPIC  -falign-functions=64 -Wall -g -O2   -c croi_func.cpp -o croi_func.o
clang++ -arch x86_64 -std=gnu++17 -I"/Library/Frameworks/R.framework/Resources/include" -DNDEBUG -D_FILE_OFFSET_BITS=64 -I'/Library/Frameworks/R.framework/Versions/4.4-x86_64/Resources/library/Rhtslib/include' -I'/Library/Frameworks/R.framework/Versions/4.4-x86_64/Resources/library/Rcpp/include' -I/opt/R/x86_64/include    -fPIC  -falign-functions=64 -Wall -g -O2   -c croi_main.cpp -o croi_main.o
clang++ -arch x86_64 -std=gnu++17 -I"/Library/Frameworks/R.framework/Resources/include" -DNDEBUG -D_FILE_OFFSET_BITS=64 -I'/Library/Frameworks/R.framework/Versions/4.4-x86_64/Resources/library/Rhtslib/include' -I'/Library/Frameworks/R.framework/Versions/4.4-x86_64/Resources/library/Rcpp/include' -I/opt/R/x86_64/include    -fPIC  -falign-functions=64 -Wall -g -O2   -c densitySet.cpp -o densitySet.o
clang++ -arch x86_64 -std=gnu++17 -I"/Library/Frameworks/R.framework/Resources/include" -DNDEBUG -D_FILE_OFFSET_BITS=64 -I'/Library/Frameworks/R.framework/Versions/4.4-x86_64/Resources/library/Rhtslib/include' -I'/Library/Frameworks/R.framework/Versions/4.4-x86_64/Resources/library/Rcpp/include' -I/opt/R/x86_64/include    -fPIC  -falign-functions=64 -Wall -g -O2   -c iBucket.cpp -o iBucket.o
clang++ -arch x86_64 -std=gnu++17 -I"/Library/Frameworks/R.framework/Resources/include" -DNDEBUG -D_FILE_OFFSET_BITS=64 -I'/Library/Frameworks/R.framework/Versions/4.4-x86_64/Resources/library/Rhtslib/include' -I'/Library/Frameworks/R.framework/Versions/4.4-x86_64/Resources/library/Rcpp/include' -I/opt/R/x86_64/include    -fPIC  -falign-functions=64 -Wall -g -O2   -c interval.cpp -o interval.o
clang++ -arch x86_64 -std=gnu++17 -I"/Library/Frameworks/R.framework/Resources/include" -DNDEBUG -D_FILE_OFFSET_BITS=64 -I'/Library/Frameworks/R.framework/Versions/4.4-x86_64/Resources/library/Rhtslib/include' -I'/Library/Frameworks/R.framework/Versions/4.4-x86_64/Resources/library/Rcpp/include' -I/opt/R/x86_64/include    -fPIC  -falign-functions=64 -Wall -g -O2   -c intervalDensity.cpp -o intervalDensity.o
clang++ -arch x86_64 -std=gnu++17 -I"/Library/Frameworks/R.framework/Resources/include" -DNDEBUG -D_FILE_OFFSET_BITS=64 -I'/Library/Frameworks/R.framework/Versions/4.4-x86_64/Resources/library/Rhtslib/include' -I'/Library/Frameworks/R.framework/Versions/4.4-x86_64/Resources/library/Rcpp/include' -I/opt/R/x86_64/include    -fPIC  -falign-functions=64 -Wall -g -O2   -c intervalNode.cpp -o intervalNode.o
clang++ -arch x86_64 -std=gnu++17 -I"/Library/Frameworks/R.framework/Resources/include" -DNDEBUG -D_FILE_OFFSET_BITS=64 -I'/Library/Frameworks/R.framework/Versions/4.4-x86_64/Resources/library/Rhtslib/include' -I'/Library/Frameworks/R.framework/Versions/4.4-x86_64/Resources/library/Rcpp/include' -I/opt/R/x86_64/include    -fPIC  -falign-functions=64 -Wall -g -O2   -c intervalSet.cpp -o intervalSet.o
clang++ -arch x86_64 -std=gnu++17 -I"/Library/Frameworks/R.framework/Resources/include" -DNDEBUG -D_FILE_OFFSET_BITS=64 -I'/Library/Frameworks/R.framework/Versions/4.4-x86_64/Resources/library/Rhtslib/include' -I'/Library/Frameworks/R.framework/Versions/4.4-x86_64/Resources/library/Rcpp/include' -I/opt/R/x86_64/include    -fPIC  -falign-functions=64 -Wall -g -O2   -c intervalTree.cpp -o intervalTree.o
clang++ -arch x86_64 -std=gnu++17 -I"/Library/Frameworks/R.framework/Resources/include" -DNDEBUG -D_FILE_OFFSET_BITS=64 -I'/Library/Frameworks/R.framework/Versions/4.4-x86_64/Resources/library/Rhtslib/include' -I'/Library/Frameworks/R.framework/Versions/4.4-x86_64/Resources/library/Rcpp/include' -I/opt/R/x86_64/include    -fPIC  -falign-functions=64 -Wall -g -O2   -c merge.cpp -o merge.o
clang -arch x86_64 -I"/Library/Frameworks/R.framework/Resources/include" -DNDEBUG -D_FILE_OFFSET_BITS=64 -I'/Library/Frameworks/R.framework/Versions/4.4-x86_64/Resources/library/Rhtslib/include' -I'/Library/Frameworks/R.framework/Versions/4.4-x86_64/Resources/library/Rcpp/include' -I/opt/R/x86_64/include    -fPIC  -falign-functions=64 -Wall -g -O2  -c mergeOne.c -o mergeOne.o
clang++ -arch x86_64 -std=gnu++17 -I"/Library/Frameworks/R.framework/Resources/include" -DNDEBUG -D_FILE_OFFSET_BITS=64 -I'/Library/Frameworks/R.framework/Versions/4.4-x86_64/Resources/library/Rhtslib/include' -I'/Library/Frameworks/R.framework/Versions/4.4-x86_64/Resources/library/Rcpp/include' -I/opt/R/x86_64/include    -fPIC  -falign-functions=64 -Wall -g -O2   -c nodeGroup.cpp -o nodeGroup.o
clang++ -arch x86_64 -std=gnu++17 -I"/Library/Frameworks/R.framework/Resources/include" -DNDEBUG -D_FILE_OFFSET_BITS=64 -I'/Library/Frameworks/R.framework/Versions/4.4-x86_64/Resources/library/Rhtslib/include' -I'/Library/Frameworks/R.framework/Versions/4.4-x86_64/Resources/library/Rcpp/include' -I/opt/R/x86_64/include    -fPIC  -falign-functions=64 -Wall -g -O2   -c peakOrder.cpp -o peakOrder.o
clang++ -arch x86_64 -std=gnu++17 -I"/Library/Frameworks/R.framework/Resources/include" -DNDEBUG -D_FILE_OFFSET_BITS=64 -I'/Library/Frameworks/R.framework/Versions/4.4-x86_64/Resources/library/Rhtslib/include' -I'/Library/Frameworks/R.framework/Versions/4.4-x86_64/Resources/library/Rcpp/include' -I/opt/R/x86_64/include    -fPIC  -falign-functions=64 -Wall -g -O2   -c reader.cpp -o reader.o
clang++ -arch x86_64 -std=gnu++17 -I"/Library/Frameworks/R.framework/Resources/include" -DNDEBUG -D_FILE_OFFSET_BITS=64 -I'/Library/Frameworks/R.framework/Versions/4.4-x86_64/Resources/library/Rhtslib/include' -I'/Library/Frameworks/R.framework/Versions/4.4-x86_64/Resources/library/Rcpp/include' -I/opt/R/x86_64/include    -fPIC  -falign-functions=64 -Wall -g -O2   -c sequence.cpp -o sequence.o
clang++ -arch x86_64 -std=gnu++17 -I"/Library/Frameworks/R.framework/Resources/include" -DNDEBUG -D_FILE_OFFSET_BITS=64 -I'/Library/Frameworks/R.framework/Versions/4.4-x86_64/Resources/library/Rhtslib/include' -I'/Library/Frameworks/R.framework/Versions/4.4-x86_64/Resources/library/Rcpp/include' -I/opt/R/x86_64/include    -fPIC  -falign-functions=64 -Wall -g -O2   -c util.cpp -o util.o
clang++ -arch x86_64 -std=gnu++17 -dynamiclib -Wl,-headerpad_max_install_names -undefined dynamic_lookup -L/Library/Frameworks/R.framework/Resources/lib -L/opt/R/x86_64/lib -o DiffBind.so RcppExports.o bamReader.o bam_plbuf.o bedReader.o bitBucket.o croi_func.o croi_main.o densitySet.o iBucket.o interval.o intervalDensity.o intervalNode.o intervalSet.o intervalTree.o merge.o mergeOne.o nodeGroup.o peakOrder.o reader.o sequence.o util.o /Library/Frameworks/R.framework/Versions/4.4-x86_64/Resources/library/Rhtslib/usrlib/libhts.a -lcurl -lbz2 -llzma -lz -F/Library/Frameworks/R.framework/.. -framework R -Wl,-framework -Wl,CoreFoundation
installing to /Users/biocbuild/bbs-3.19-bioc/meat/DiffBind.buildbin-libdir/00LOCK-DiffBind/00new/DiffBind/libs
** R
** data
** inst
** byte-compile and prepare package for lazy loading
** help
*** installing help indices
** building package indices
** installing vignettes
** testing if installed package can be loaded from temporary location
** checking absolute paths in shared objects and dynamic libraries
** testing if installed package can be loaded from final location
** testing if installed package keeps a record of temporary installation path
* DONE (DiffBind)


>>>>>>> 
>>>>>>> FIXING PATHS TO DYNAMIC LIBRARIES FOR DiffBind.buildbin-libdir/DiffBind/libs/DiffBind.so
>>>>>>> 

>>>>>>> Paths before fix:
DiffBind.buildbin-libdir/DiffBind/libs/DiffBind.so:
	DiffBind.so (compatibility version 0.0.0, current version 0.0.0)
	/usr/lib/libcurl.4.dylib (compatibility version 7.0.0, current version 9.0.0)
	/usr/lib/libbz2.1.0.dylib (compatibility version 1.0.0, current version 1.0.5)
	/usr/lib/liblzma.5.dylib (compatibility version 6.0.0, current version 6.3.0)
	/usr/lib/libz.1.dylib (compatibility version 1.0.0, current version 1.2.11)
	/Library/Frameworks/R.framework/Versions/4.4-x86_64/Resources/lib/libR.dylib (compatibility version 4.4.0, current version 4.4.0)
	/System/Library/Frameworks/CoreFoundation.framework/Versions/A/CoreFoundation (compatibility version 150.0.0, current version 1775.118.101)
	/usr/lib/libc++.1.dylib (compatibility version 1.0.0, current version 905.6.0)
	/usr/lib/libSystem.B.dylib (compatibility version 1.0.0, current version 1292.100.5)

>>>>>>> Fix with install_name_tool:
install_name_tool -change "/usr/local/lib/libgcc_s.1.1.dylib" "/Library/Frameworks/R.framework/Versions/4.4-x86_64/Resources/lib/libgcc_s.1.1.dylib" "DiffBind.buildbin-libdir/DiffBind/libs/DiffBind.so"
install_name_tool -change "/usr/local/lib/libgfortran.5.dylib" "/Library/Frameworks/R.framework/Versions/4.4-x86_64/Resources/lib/libgfortran.5.dylib" "DiffBind.buildbin-libdir/DiffBind/libs/DiffBind.so"
install_name_tool -change "/usr/local/lib/libquadmath.0.dylib" "/Library/Frameworks/R.framework/Versions/4.4-x86_64/Resources/lib/libquadmath.0.dylib" "DiffBind.buildbin-libdir/DiffBind/libs/DiffBind.so"

>>>>>>> Paths after fix:
DiffBind.buildbin-libdir/DiffBind/libs/DiffBind.so:
	DiffBind.so (compatibility version 0.0.0, current version 0.0.0)
	/usr/lib/libcurl.4.dylib (compatibility version 7.0.0, current version 9.0.0)
	/usr/lib/libbz2.1.0.dylib (compatibility version 1.0.0, current version 1.0.5)
	/usr/lib/liblzma.5.dylib (compatibility version 6.0.0, current version 6.3.0)
	/usr/lib/libz.1.dylib (compatibility version 1.0.0, current version 1.2.11)
	/Library/Frameworks/R.framework/Versions/4.4-x86_64/Resources/lib/libR.dylib (compatibility version 4.4.0, current version 4.4.0)
	/System/Library/Frameworks/CoreFoundation.framework/Versions/A/CoreFoundation (compatibility version 150.0.0, current version 1775.118.101)
	/usr/lib/libc++.1.dylib (compatibility version 1.0.0, current version 905.6.0)
	/usr/lib/libSystem.B.dylib (compatibility version 1.0.0, current version 1292.100.5)