Index of /checkResults/3.19/bioc-LATEST/DelayedDataFrame/raw-results/nebbiolo1

[ICO]NameLast modifiedSizeDescription

[DIR]Parent Directory  -  
[TXT]buildsrc-out.txt22-Jun-2024 06:38 842  
[   ]buildsrc-summary.dcf22-Jun-2024 06:38 444  
[TXT]checksrc-out.txt22-Jun-2024 06:38 3.4K 
[   ]checksrc-summary.dcf22-Jun-2024 06:38 450  
[TXT]install-out.txt22-Jun-2024 06:38 1.0K 
[   ]install-summary.dcf22-Jun-2024 06:38 277