Index of /checkResults/3.19/bioc-LATEST/DelayedDataFrame/raw-results/merida1

[ICO]NameLast modifiedSizeDescription

[DIR]Parent Directory  -  
[TXT]buildbin-out.txt15-Feb-2024 03:20 1.2K 
[   ]buildbin-summary.dcf15-Feb-2024 03:20 584  
[TXT]buildsrc-out.txt05-Mar-2024 01:39 1.1K 
[   ]buildsrc-summary.dcf05-Mar-2024 01:39 361  
[TXT]checksrc-out.txt15-Feb-2024 03:20 3.5K 
[   ]checksrc-summary.dcf15-Feb-2024 03:20 480  
[TXT]install-out.txt05-Mar-2024 01:39 1.0K 
[   ]install-summary.dcf05-Mar-2024 01:39 287