Index of /checkResults/3.19/bioc-LATEST/DelayedDataFrame/raw-results/lconway

[ICO]NameLast modifiedSizeDescription

[DIR]Parent Directory  -  
[TXT]install-out.txt12-Jun-2024 03:42 1.0K 
[   ]install-summary.dcf12-Jun-2024 03:42 287  
[TXT]buildsrc-out.txt12-Jun-2024 03:42 852  
[   ]buildsrc-summary.dcf12-Jun-2024 03:42 454  
[TXT]checksrc-out.txt12-Jun-2024 03:42 3.5K 
[   ]checksrc-summary.dcf12-Jun-2024 03:42 480  
[TXT]buildbin-out.txt12-Jun-2024 03:42 1.2K 
[   ]buildbin-summary.dcf12-Jun-2024 03:42 584