Index of /checkResults/3.19/bioc-LATEST/DelayedDataFrame/raw-results/kunpeng2

[ICO]NameLast modifiedSizeDescription

[DIR]Parent Directory  -  
[TXT]install-out.txt10-May-2024 00:40 1.0K 
[   ]install-summary.dcf10-May-2024 00:40 288  
[TXT]buildsrc-out.txt10-May-2024 00:40 853  
[   ]buildsrc-summary.dcf10-May-2024 00:40 455  
[TXT]checksrc-out.txt10-May-2024 00:40 3.5K 
[   ]checksrc-summary.dcf10-May-2024 00:40 487