Back to Multiple platform build/check report for BioC 3.19:   simplified   long
ABC[D]EFGHIJKLMNOPQRSTUVWXYZ

This page was generated on 2024-05-25 11:34:37 -0400 (Sat, 25 May 2024).

HostnameOSArch (*)R versionInstalled pkgs
nebbiolo1Linux (Ubuntu 22.04.3 LTS)x86_644.4.0 (2024-04-24) -- "Puppy Cup" 4751
lconwaymacOS 12.7.1 Montereyx86_644.4.0 (2024-04-24) -- "Puppy Cup" 4516
Click on any hostname to see more info about the system (e.g. compilers)      (*) as reported by 'uname -p', except on Windows and Mac OS X

All results for package DelayedArray


To the developers/maintainers of the DelayedArray package:
- Allow up to 24 hours (and sometimes 48 hours) for your latest push to git@git.bioconductor.org:packages/DelayedArray.git to reflect on this report. See Troubleshooting Build Report for more information.
- Use the following Renviron settings to reproduce errors and warnings.
- If 'R CMD check' started to fail recently on the Linux builder(s) over a missing dependency, add the missing dependency to 'Suggests:' in your DESCRIPTION file. See Renviron.bioc for more information.

raw results

Package 536/2300HostnameOS / ArchINSTALLBUILDCHECKBUILD BIN
DelayedArray 0.30.1  (landing page)
Hervé Pagès
Snapshot Date: 2024-05-24 14:00:07 -0400 (Fri, 24 May 2024)
git_url: https://git.bioconductor.org/packages/DelayedArray
git_branch: RELEASE_3_19
git_last_commit: 099a643
git_last_commit_date: 2024-05-06 19:22:25 -0400 (Mon, 06 May 2024)
nebbiolo1Linux (Ubuntu 22.04.3 LTS) / x86_64  OK    OK    WARNINGS  UNNEEDED, same version is already published
lconwaymacOS 12.7.1 Monterey / x86_64  OK    OK    WARNINGS    OK  UNNEEDED, same version is already published
kjohnson3macOS 13.6.5 Ventura / arm64see weekly results here

Results for Bioconductor software packages that depend directly on package DelayedArray

QUICK STATSOS / ArchINSTALLBUILDCHECKBUILD BIN
nebbiolo1Linux (Ubuntu 22.04.3 LTS) / x86_64
0093
0291
031573
lconwaymacOS 12.7.1 Monterey / x86_64
0093
0390
011673
0090
Package 1/93HostnameOS / ArchINSTALLBUILDCHECKBUILD BIN
adverSCarial 1.2.0  (landing page)
Ghislain FIEVET
git_last_commit: 0edb731
git_last_commit_date: 2024-04-30 11:49:59 -0400
nebbiolo1Linux (Ubuntu 22.04.3 LTS) / x86_64  OK    OK    WARNINGS  UNNEEDED, same version is already published
lconwaymacOS 12.7.1 Monterey / x86_64  OK    OK    WARNINGS    OK  UNNEEDED, same version is already published
kjohnson3macOS 13.6.5 Ventura / arm64see weekly results here
Package 2/93HostnameOS / ArchINSTALLBUILDCHECKBUILD BIN
alabaster.matrix 1.4.0  (landing page)
Aaron Lun
git_last_commit: d0aba74
git_last_commit_date: 2024-04-30 11:47:22 -0400
nebbiolo1Linux (Ubuntu 22.04.3 LTS) / x86_64  OK    OK    OK  UNNEEDED, same version is already published
lconwaymacOS 12.7.1 Monterey / x86_64  OK    OK    OK    OK  UNNEEDED, same version is already published
kjohnson3macOS 13.6.5 Ventura / arm64see weekly results here
Package 3/93HostnameOS / ArchINSTALLBUILDCHECKBUILD BIN
AUCell 1.26.0  (landing page)
Gert Hulselmans
git_last_commit: eb8e5c7
git_last_commit_date: 2024-04-30 11:00:40 -0400
nebbiolo1Linux (Ubuntu 22.04.3 LTS) / x86_64  OK    OK    OK  UNNEEDED, same version is already published
lconwaymacOS 12.7.1 Monterey / x86_64  OK    OK    OK    OK  UNNEEDED, same version is already published
kjohnson3macOS 13.6.5 Ventura / arm64see weekly results here
Package 4/93HostnameOS / ArchINSTALLBUILDCHECKBUILD BIN
batchelor 1.20.0  (landing page)
Aaron Lun
git_last_commit: d14eff8
git_last_commit_date: 2024-04-30 11:13:32 -0400
nebbiolo1Linux (Ubuntu 22.04.3 LTS) / x86_64  OK    OK    OK  UNNEEDED, same version is already published
lconwaymacOS 12.7.1 Monterey / x86_64  OK    OK    OK    OK  UNNEEDED, same version is already published
kjohnson3macOS 13.6.5 Ventura / arm64see weekly results here
Package 5/93HostnameOS / ArchINSTALLBUILDCHECKBUILD BIN
beachmat 2.20.0  (landing page)
Aaron Lun
git_last_commit: fe0b119
git_last_commit_date: 2024-04-30 10:59:08 -0400
nebbiolo1Linux (Ubuntu 22.04.3 LTS) / x86_64  OK    OK    OK  UNNEEDED, same version is already published
lconwaymacOS 12.7.1 Monterey / x86_64  OK    OK    OK    OK  UNNEEDED, same version is already published
kjohnson3macOS 13.6.5 Ventura / arm64see weekly results here
Package 6/93HostnameOS / ArchINSTALLBUILDCHECKBUILD BIN
beachmat.hdf5 1.2.0  (landing page)
Aaron Lun
git_last_commit: 4e2ef7a
git_last_commit_date: 2024-04-30 11:50:56 -0400
nebbiolo1Linux (Ubuntu 22.04.3 LTS) / x86_64  OK    OK    WARNINGS  UNNEEDED, same version is already published
lconwaymacOS 12.7.1 Monterey / x86_64  OK    OK    WARNINGS    OK  UNNEEDED, same version is already published
kjohnson3macOS 13.6.5 Ventura / arm64see weekly results here
Package 7/93HostnameOS / ArchINSTALLBUILDCHECKBUILD BIN
BiocSingular 1.20.0  (landing page)
Aaron Lun
git_last_commit: c5dafa5
git_last_commit_date: 2024-04-30 11:12:31 -0400
nebbiolo1Linux (Ubuntu 22.04.3 LTS) / x86_64  OK    OK    OK  UNNEEDED, same version is already published
lconwaymacOS 12.7.1 Monterey / x86_64  OK    OK    OK    OK  UNNEEDED, same version is already published
kjohnson3macOS 13.6.5 Ventura / arm64see weekly results here
Package 8/93HostnameOS / ArchINSTALLBUILDCHECKBUILD BIN
bsseq 1.40.0  (landing page)
Kasper Daniel Hansen
git_last_commit: bfe7511
git_last_commit_date: 2024-04-30 10:28:16 -0400
nebbiolo1Linux (Ubuntu 22.04.3 LTS) / x86_64  OK    OK    OK  UNNEEDED, same version is already published
lconwaymacOS 12.7.1 Monterey / x86_64  OK    OK    OK    OK  UNNEEDED, same version is already published
kjohnson3macOS 13.6.5 Ventura / arm64see weekly results here
Package 9/93HostnameOS / ArchINSTALLBUILDCHECKBUILD BIN
CAGEr 2.10.0  (landing page)
Charles Plessy
git_last_commit: 6c8b145
git_last_commit_date: 2024-04-30 10:30:39 -0400
nebbiolo1Linux (Ubuntu 22.04.3 LTS) / x86_64  OK    OK    OK  UNNEEDED, same version is already published
lconwaymacOS 12.7.1 Monterey / x86_64  OK    OK    OK    OK  UNNEEDED, same version is already published
kjohnson3macOS 13.6.5 Ventura / arm64see weekly results here
Package 10/93HostnameOS / ArchINSTALLBUILDCHECKBUILD BIN
celaref 1.22.0  (landing page)
Sarah Williams
git_last_commit: 0f17788
git_last_commit_date: 2024-04-30 11:08:16 -0400
nebbiolo1Linux (Ubuntu 22.04.3 LTS) / x86_64  OK    OK    OK  UNNEEDED, same version is already published
lconwaymacOS 12.7.1 Monterey / x86_64  OK    OK    OK    OK  UNNEEDED, same version is already published
kjohnson3macOS 13.6.5 Ventura / arm64see weekly results here
Package 11/93HostnameOS / ArchINSTALLBUILDCHECKBUILD BIN
celda 1.20.0  (landing page)
Joshua Campbell
git_last_commit: 7e5755c
git_last_commit_date: 2024-04-30 11:14:54 -0400
nebbiolo1Linux (Ubuntu 22.04.3 LTS) / x86_64  OK    OK    OK  UNNEEDED, same version is already published
lconwaymacOS 12.7.1 Monterey / x86_64  OK    OK    OK    OK  UNNEEDED, same version is already published
kjohnson3macOS 13.6.5 Ventura / arm64see weekly results here
Package 12/93HostnameOS / ArchINSTALLBUILDCHECKBUILD BIN
Cepo 1.10.0  (landing page)
Hani Jieun Kim
git_last_commit: d41912a
git_last_commit_date: 2024-04-30 11:38:35 -0400
nebbiolo1Linux (Ubuntu 22.04.3 LTS) / x86_64  OK    ERROR  skipped
lconwaymacOS 12.7.1 Monterey / x86_64  OK    ERROR  skippedskipped
kjohnson3macOS 13.6.5 Ventura / arm64see weekly results here
Package 13/93HostnameOS / ArchINSTALLBUILDCHECKBUILD BIN
chihaya 1.4.0  (landing page)
Aaron Lun
git_last_commit: 3096782
git_last_commit_date: 2024-04-30 11:47:46 -0400
nebbiolo1Linux (Ubuntu 22.04.3 LTS) / x86_64  OK    OK    WARNINGS  UNNEEDED, same version is already published
lconwaymacOS 12.7.1 Monterey / x86_64  OK    OK    WARNINGS    OK  UNNEEDED, same version is already published
kjohnson3macOS 13.6.5 Ventura / arm64see weekly results here
Package 14/93HostnameOS / ArchINSTALLBUILDCHECKBUILD BIN
ChromSCape 1.14.0  (landing page)
Pacome Prompsy
git_last_commit: ecb3c51
git_last_commit_date: 2024-04-30 11:27:45 -0400
nebbiolo1Linux (Ubuntu 22.04.3 LTS) / x86_64  OK    OK    WARNINGS  UNNEEDED, same version is already published
lconwaymacOS 12.7.1 Monterey / x86_64  OK    OK    WARNINGS    OK  UNNEEDED, same version is already published
kjohnson3macOS 13.6.5 Ventura / arm64see weekly results here
Package 15/93HostnameOS / ArchINSTALLBUILDCHECKBUILD BIN
clusterExperiment 2.24.0  (landing page)
Elizabeth Purdom
git_last_commit: 7bc9ecb
git_last_commit_date: 2024-04-30 10:52:11 -0400
nebbiolo1Linux (Ubuntu 22.04.3 LTS) / x86_64  OK    OK    WARNINGS  UNNEEDED, same version is already published
lconwaymacOS 12.7.1 Monterey / x86_64  OK    OK    WARNINGS    OK  UNNEEDED, same version is already published
kjohnson3macOS 13.6.5 Ventura / arm64see weekly results here
Package 16/93HostnameOS / ArchINSTALLBUILDCHECKBUILD BIN
compartmap 1.22.0  (landing page)
Benjamin Johnson
git_last_commit: 8d4beb1
git_last_commit_date: 2024-04-30 11:11:00 -0400
nebbiolo1Linux (Ubuntu 22.04.3 LTS) / x86_64  OK    OK    ERROR  
lconwaymacOS 12.7.1 Monterey / x86_64  OK    OK    OK    OK  UNNEEDED, same version is already published
kjohnson3macOS 13.6.5 Ventura / arm64see weekly results here
Package 17/93HostnameOS / ArchINSTALLBUILDCHECKBUILD BIN
concordexR 1.4.0  (landing page)
Kayla Jackson
git_last_commit: bebac5d
git_last_commit_date: 2024-04-30 11:48:52 -0400
nebbiolo1Linux (Ubuntu 22.04.3 LTS) / x86_64  OK    OK    OK  UNNEEDED, same version is already published
lconwaymacOS 12.7.1 Monterey / x86_64  OK    OK    OK    OK  UNNEEDED, same version is already published
kjohnson3macOS 13.6.5 Ventura / arm64see weekly results here
Package 18/93HostnameOS / ArchINSTALLBUILDCHECKBUILD BIN
CRISPRseek 1.44.0  (landing page)
Lihua Julie Zhu
git_last_commit: e23777b
git_last_commit_date: 2024-04-30 10:34:25 -0400
nebbiolo1Linux (Ubuntu 22.04.3 LTS) / x86_64  OK    OK    OK  UNNEEDED, same version is already published
lconwaymacOS 12.7.1 Monterey / x86_64  OK    OK    OK    OK  UNNEEDED, same version is already published
kjohnson3macOS 13.6.5 Ventura / arm64see weekly results here
Package 19/93HostnameOS / ArchINSTALLBUILDCHECKBUILD BIN
cytomapper 1.16.0  (landing page)
Lasse Meyer
git_last_commit: 5eb8951
git_last_commit_date: 2024-04-30 11:22:25 -0400
nebbiolo1Linux (Ubuntu 22.04.3 LTS) / x86_64  OK    OK    OK  UNNEEDED, same version is already published
lconwaymacOS 12.7.1 Monterey / x86_64  OK    OK    OK    OK  UNNEEDED, same version is already published
kjohnson3macOS 13.6.5 Ventura / arm64see weekly results here
Package 20/93HostnameOS / ArchINSTALLBUILDCHECKBUILD BIN
decontX 1.2.0  (landing page)
Yuan Yin
git_last_commit: c25cf57
git_last_commit_date: 2024-04-30 11:52:45 -0400
nebbiolo1Linux (Ubuntu 22.04.3 LTS) / x86_64  OK    OK    OK  UNNEEDED, same version is already published
lconwaymacOS 12.7.1 Monterey / x86_64  OK    OK    OK    OK  UNNEEDED, same version is already published
kjohnson3macOS 13.6.5 Ventura / arm64see weekly results here
Package 21/93HostnameOS / ArchINSTALLBUILDCHECKBUILD BIN
DelayedDataFrame 1.20.0  (landing page)
Qian Liu
git_last_commit: 8cd81b6
git_last_commit_date: 2024-04-30 11:11:34 -0400
nebbiolo1Linux (Ubuntu 22.04.3 LTS) / x86_64  OK    OK    OK  UNNEEDED, same version is already published
lconwaymacOS 12.7.1 Monterey / x86_64  OK    OK    OK    OK  UNNEEDED, same version is already published
kjohnson3macOS 13.6.5 Ventura / arm64see weekly results here
Package 22/93HostnameOS / ArchINSTALLBUILDCHECKBUILD BIN
DelayedMatrixStats 1.26.0  (landing page)
Peter Hickey
git_last_commit: 5774778
git_last_commit_date: 2024-04-30 11:01:46 -0400
nebbiolo1Linux (Ubuntu 22.04.3 LTS) / x86_64  OK    OK    OK  UNNEEDED, same version is already published
lconwaymacOS 12.7.1 Monterey / x86_64  OK    OK    OK    OK  UNNEEDED, same version is already published
kjohnson3macOS 13.6.5 Ventura / arm64see weekly results here
Package 23/93HostnameOS / ArchINSTALLBUILDCHECKBUILD BIN
DelayedRandomArray 1.12.0  (landing page)
Aaron Lun
git_last_commit: b25ce4c
git_last_commit_date: 2024-04-30 11:33:38 -0400
nebbiolo1Linux (Ubuntu 22.04.3 LTS) / x86_64  OK    OK    OK  UNNEEDED, same version is already published
lconwaymacOS 12.7.1 Monterey / x86_64  OK    OK    OK    OK  UNNEEDED, same version is already published
kjohnson3macOS 13.6.5 Ventura / arm64see weekly results here
Package 24/93HostnameOS / ArchINSTALLBUILDCHECKBUILD BIN
DelayedTensor 1.10.0  (landing page)
Koki Tsuyuzaki
git_last_commit: e4a2bb6
git_last_commit_date: 2024-04-30 11:35:19 -0400
nebbiolo1Linux (Ubuntu 22.04.3 LTS) / x86_64  OK    OK    WARNINGS  UNNEEDED, same version is already published
lconwaymacOS 12.7.1 Monterey / x86_64  OK    OK    WARNINGS    OK  UNNEEDED, same version is already published
kjohnson3macOS 13.6.5 Ventura / arm64see weekly results here
Package 25/93HostnameOS / ArchINSTALLBUILDCHECKBUILD BIN
DEScan2 1.24.0  (landing page)
Dario Righelli
git_last_commit: b61e7e9
git_last_commit_date: 2024-04-30 11:04:37 -0400
nebbiolo1Linux (Ubuntu 22.04.3 LTS) / x86_64  OK    OK    WARNINGS  UNNEEDED, same version is already published
lconwaymacOS 12.7.1 Monterey / x86_64  OK    OK    WARNINGS    OK  UNNEEDED, same version is already published
kjohnson3macOS 13.6.5 Ventura / arm64see weekly results here
Package 26/93HostnameOS / ArchINSTALLBUILDCHECKBUILD BIN
dreamlet 1.2.0  (landing page)
Gabriel Hoffman
git_last_commit: c23624e
git_last_commit_date: 2024-04-30 11:51:18 -0400
nebbiolo1Linux (Ubuntu 22.04.3 LTS) / x86_64  OK    OK    OK  UNNEEDED, same version is already published
lconwaymacOS 12.7.1 Monterey / x86_64  OK    OK    OK    OK  UNNEEDED, same version is already published
kjohnson3macOS 13.6.5 Ventura / arm64see weekly results here
Package 27/93HostnameOS / ArchINSTALLBUILDCHECKBUILD BIN
DropletUtils 1.24.0  (landing page)
Jonathan Griffiths
git_last_commit: b6ab9f0
git_last_commit_date: 2024-04-30 11:03:17 -0400
nebbiolo1Linux (Ubuntu 22.04.3 LTS) / x86_64  OK    OK    WARNINGS  UNNEEDED, same version is already published
lconwaymacOS 12.7.1 Monterey / x86_64  OK    OK    WARNINGS    OK  UNNEEDED, same version is already published
kjohnson3macOS 13.6.5 Ventura / arm64see weekly results here
Package 28/93HostnameOS / ArchINSTALLBUILDCHECKBUILD BIN
ELMER 2.28.0  (landing page)
Tiago Chedraoui Silva
git_last_commit: dd7f626
git_last_commit_date: 2024-04-30 10:44:07 -0400
nebbiolo1Linux (Ubuntu 22.04.3 LTS) / x86_64  OK    OK    OK  UNNEEDED, same version is already published
lconwaymacOS 12.7.1 Monterey / x86_64  OK    OK    OK    OK  UNNEEDED, same version is already published
kjohnson3macOS 13.6.5 Ventura / arm64see weekly results here
Package 29/93HostnameOS / ArchINSTALLBUILDCHECKBUILD BIN
EWCE 1.12.0  (landing page)
Alan Murphy
git_last_commit: d697d5e
git_last_commit_date: 2024-04-30 11:33:11 -0400
nebbiolo1Linux (Ubuntu 22.04.3 LTS) / x86_64  OK    OK    OK  UNNEEDED, same version is already published
lconwaymacOS 12.7.1 Monterey / x86_64  OK    OK    OK    OK  UNNEEDED, same version is already published
kjohnson3macOS 13.6.5 Ventura / arm64see weekly results here
Package 30/93HostnameOS / ArchINSTALLBUILDCHECKBUILD BIN
flowWorkspace 4.16.0  (landing page)
Greg Finak , Mike Jiang
git_last_commit: 7465730
git_last_commit_date: 2024-04-30 10:24:28 -0400
nebbiolo1Linux (Ubuntu 22.04.3 LTS) / x86_64  OK    OK    WARNINGS  UNNEEDED, same version is already published
lconwaymacOS 12.7.1 Monterey / x86_64  OK    OK    WARNINGS    OK  UNNEEDED, same version is already published
kjohnson3macOS 13.6.5 Ventura / arm64see weekly results here
Package 31/93HostnameOS / ArchINSTALLBUILDCHECKBUILD BIN
FRASER 2.0.0  (landing page)
Christian Mertes
git_last_commit: 43578dd
git_last_commit_date: 2024-04-30 11:23:25 -0400
nebbiolo1Linux (Ubuntu 22.04.3 LTS) / x86_64  OK    OK    OK  UNNEEDED, same version is already published
lconwaymacOS 12.7.1 Monterey / x86_64  OK    OK    OK    OK  UNNEEDED, same version is already published
kjohnson3macOS 13.6.5 Ventura / arm64see weekly results here
Package 32/93HostnameOS / ArchINSTALLBUILDCHECKBUILD BIN
GDSArray 1.24.1  (landing page)
Qian Liu
git_last_commit: f5c946e
git_last_commit_date: 2024-05-22 15:38:11 -0400
nebbiolo1Linux (Ubuntu 22.04.3 LTS) / x86_64  OK    OK    ERROR  
lconwaymacOS 12.7.1 Monterey / x86_64  OK    OK    ERROR    OK  
kjohnson3macOS 13.6.5 Ventura / arm64see weekly results here
Package 33/93HostnameOS / ArchINSTALLBUILDCHECKBUILD BIN
GenomicScores 2.16.0  (landing page)
Robert Castelo
git_last_commit: 7e55935
git_last_commit_date: 2024-04-30 10:57:39 -0400
nebbiolo1Linux (Ubuntu 22.04.3 LTS) / x86_64  OK    OK    OK  UNNEEDED, same version is already published
lconwaymacOS 12.7.1 Monterey / x86_64  OK    OK    OK    OK  UNNEEDED, same version is already published
kjohnson3macOS 13.6.5 Ventura / arm64see weekly results here
Package 34/93HostnameOS / ArchINSTALLBUILDCHECKBUILD BIN
glmGamPoi 1.16.0  (landing page)
Constantin Ahlmann-Eltze
git_last_commit: 50d5e6f
git_last_commit_date: 2024-04-30 11:22:42 -0400
nebbiolo1Linux (Ubuntu 22.04.3 LTS) / x86_64  OK    OK    OK  UNNEEDED, same version is already published
lconwaymacOS 12.7.1 Monterey / x86_64  OK    OK    OK    OK  UNNEEDED, same version is already published
kjohnson3macOS 13.6.5 Ventura / arm64see weekly results here
Package 35/93HostnameOS / ArchINSTALLBUILDCHECKBUILD BIN
GSVA 1.52.2  (landing page)
Robert Castelo
git_last_commit: 4aa9aba
git_last_commit_date: 2024-05-09 09:50:05 -0400
nebbiolo1Linux (Ubuntu 22.04.3 LTS) / x86_64  OK    OK    OK  UNNEEDED, same version is already published
lconwaymacOS 12.7.1 Monterey / x86_64  OK    OK    OK    OK  UNNEEDED, same version is already published
kjohnson3macOS 13.6.5 Ventura / arm64see weekly results here
Package 36/93HostnameOS / ArchINSTALLBUILDCHECKBUILD BIN
HDF5Array 1.32.0  (landing page)
Hervé Pagès
git_last_commit: eea6c75
git_last_commit_date: 2024-04-30 14:09:32 -0400
nebbiolo1Linux (Ubuntu 22.04.3 LTS) / x86_64  OK    OK    WARNINGS  UNNEEDED, same version is already published
lconwaymacOS 12.7.1 Monterey / x86_64  OK    OK    WARNINGS    OK  UNNEEDED, same version is already published
kjohnson3macOS 13.6.5 Ventura / arm64see weekly results here
Package 37/93HostnameOS / ArchINSTALLBUILDCHECKBUILD BIN
hipathia 3.4.0  (landing page)
Marta R. Hidalgo
git_last_commit: 122dc87
git_last_commit_date: 2024-04-30 11:05:56 -0400
nebbiolo1Linux (Ubuntu 22.04.3 LTS) / x86_64  OK    OK    OK  UNNEEDED, same version is already published
lconwaymacOS 12.7.1 Monterey / x86_64  OK    OK    OK    OK  UNNEEDED, same version is already published
kjohnson3macOS 13.6.5 Ventura / arm64see weekly results here
Package 38/93HostnameOS / ArchINSTALLBUILDCHECKBUILD BIN
LoomExperiment 1.22.0  (landing page)
Bioconductor Package Maintainer
git_last_commit: 332a3d3
git_last_commit_date: 2024-04-30 11:11:09 -0400
nebbiolo1Linux (Ubuntu 22.04.3 LTS) / x86_64  OK    OK    OK  UNNEEDED, same version is already published
lconwaymacOS 12.7.1 Monterey / x86_64  OK    OK    OK    OK  UNNEEDED, same version is already published
kjohnson3macOS 13.6.5 Ventura / arm64see weekly results here
Package 39/93HostnameOS / ArchINSTALLBUILDCHECKBUILD BIN
Macarron 1.8.0  (landing page)
Sagun Maharjan
git_last_commit: 0bfd125
git_last_commit_date: 2024-04-30 11:42:21 -0400
nebbiolo1Linux (Ubuntu 22.04.3 LTS) / x86_64  OK    OK    ERROR  
lconwaymacOS 12.7.1 Monterey / x86_64  OK    OK    WARNINGS    OK  UNNEEDED, same version is already published
kjohnson3macOS 13.6.5 Ventura / arm64see weekly results here
Package 40/93HostnameOS / ArchINSTALLBUILDCHECKBUILD BIN
mariner 1.4.0  (landing page)
Eric Davis
git_last_commit: 5d8df96
git_last_commit_date: 2024-04-30 11:49:21 -0400
nebbiolo1Linux (Ubuntu 22.04.3 LTS) / x86_64  OK    OK    OK  UNNEEDED, same version is already published
lconwaymacOS 12.7.1 Monterey / x86_64  OK    OK    OK    OK  UNNEEDED, same version is already published
kjohnson3macOS 13.6.5 Ventura / arm64see weekly results here
Package 41/93HostnameOS / ArchINSTALLBUILDCHECKBUILD BIN
mbkmeans 1.20.0  (landing page)
Davide Risso
git_last_commit: eed13ef
git_last_commit_date: 2024-04-30 11:13:46 -0400
nebbiolo1Linux (Ubuntu 22.04.3 LTS) / x86_64  OK    OK    OK  UNNEEDED, same version is already published
lconwaymacOS 12.7.1 Monterey / x86_64  OK    OK    OK    OK  UNNEEDED, same version is already published
kjohnson3macOS 13.6.5 Ventura / arm64see weekly results here
Package 42/93HostnameOS / ArchINSTALLBUILDCHECKBUILD BIN
methodical 1.0.0  (landing page)
Richard Heery
git_last_commit: 7a6d078
git_last_commit_date: 2024-04-30 11:53:36 -0400
nebbiolo1Linux (Ubuntu 22.04.3 LTS) / x86_64  OK    OK    OK  UNNEEDED, same version is already published
lconwaymacOS 12.7.1 Monterey / x86_64  OK    OK    OK    OK  UNNEEDED, same version is already published
kjohnson3macOS 13.6.5 Ventura / arm64see weekly results here
Package 43/93HostnameOS / ArchINSTALLBUILDCHECKBUILD BIN
MethReg 1.14.0  (landing page)
Tiago Silva
git_last_commit: 8b67831
git_last_commit_date: 2024-04-30 11:27:17 -0400
nebbiolo1Linux (Ubuntu 22.04.3 LTS) / x86_64  OK    OK    OK  UNNEEDED, same version is already published
lconwaymacOS 12.7.1 Monterey / x86_64  OK    OK    OK    OK  UNNEEDED, same version is already published
kjohnson3macOS 13.6.5 Ventura / arm64see weekly results here
Package 44/93HostnameOS / ArchINSTALLBUILDCHECKBUILD BIN
methrix 1.18.0  (landing page)
Anand Mayakonda
git_last_commit: e5e8731
git_last_commit_date: 2024-04-30 11:18:55 -0400
nebbiolo1Linux (Ubuntu 22.04.3 LTS) / x86_64  OK    OK    OK  UNNEEDED, same version is already published
lconwaymacOS 12.7.1 Monterey / x86_64  OK    OK    OK    OK  UNNEEDED, same version is already published
kjohnson3macOS 13.6.5 Ventura / arm64see weekly results here
Package 45/93HostnameOS / ArchINSTALLBUILDCHECKBUILD BIN
methylSig 1.16.0  (landing page)
Raymond G. Cavalcante
git_last_commit: 09e9352
git_last_commit_date: 2024-04-30 11:23:23 -0400
nebbiolo1Linux (Ubuntu 22.04.3 LTS) / x86_64  OK    OK    OK  UNNEEDED, same version is already published
lconwaymacOS 12.7.1 Monterey / x86_64  OK    OK    OK    OK  UNNEEDED, same version is already published
kjohnson3macOS 13.6.5 Ventura / arm64see weekly results here
Package 46/93HostnameOS / ArchINSTALLBUILDCHECKBUILD BIN
mia 1.12.0  (landing page)
Tuomas Borman
git_last_commit: 38dad1b
git_last_commit_date: 2024-04-30 11:32:24 -0400
nebbiolo1Linux (Ubuntu 22.04.3 LTS) / x86_64  OK    OK    OK  UNNEEDED, same version is already published
lconwaymacOS 12.7.1 Monterey / x86_64  OK    OK    OK    OK  UNNEEDED, same version is already published
kjohnson3macOS 13.6.5 Ventura / arm64see weekly results here
Package 47/93HostnameOS / ArchINSTALLBUILDCHECKBUILD BIN
miaViz 1.12.0  (landing page)
Tuomas Borman
git_last_commit: 945b0cc
git_last_commit_date: 2024-04-30 11:32:37 -0400
nebbiolo1Linux (Ubuntu 22.04.3 LTS) / x86_64  OK    OK    OK  UNNEEDED, same version is already published
lconwaymacOS 12.7.1 Monterey / x86_64  OK    OK    OK    OK  UNNEEDED, same version is already published
kjohnson3macOS 13.6.5 Ventura / arm64see weekly results here
Package 48/93HostnameOS / ArchINSTALLBUILDCHECKBUILD BIN
minfi 1.50.0  (landing page)
Kasper Daniel Hansen
git_last_commit: 8f33a8b
git_last_commit_date: 2024-04-30 10:25:56 -0400
nebbiolo1Linux (Ubuntu 22.04.3 LTS) / x86_64  OK    OK    OK  UNNEEDED, same version is already published
lconwaymacOS 12.7.1 Monterey / x86_64  OK    OK    OK    OK  UNNEEDED, same version is already published
kjohnson3macOS 13.6.5 Ventura / arm64see weekly results here
Package 49/93HostnameOS / ArchINSTALLBUILDCHECKBUILD BIN
MOFA2 1.14.0  (landing page)
Ricard Argelaguet
git_last_commit: f09c92e
git_last_commit_date: 2024-04-30 11:28:22 -0400
nebbiolo1Linux (Ubuntu 22.04.3 LTS) / x86_64  OK    OK    WARNINGS  UNNEEDED, same version is already published
lconwaymacOS 12.7.1 Monterey / x86_64  OK    OK    WARNINGS    OK  UNNEEDED, same version is already published
kjohnson3macOS 13.6.5 Ventura / arm64see weekly results here
Package 50/93HostnameOS / ArchINSTALLBUILDCHECKBUILD BIN
MuData 1.8.0  (landing page)
Danila Bredikhin
git_last_commit: 1c442c2
git_last_commit_date: 2024-04-30 11:40:33 -0400
nebbiolo1Linux (Ubuntu 22.04.3 LTS) / x86_64  OK    OK    OK  UNNEEDED, same version is already published
lconwaymacOS 12.7.1 Monterey / x86_64  OK    OK    OK    OK  UNNEEDED, same version is already published
kjohnson3macOS 13.6.5 Ventura / arm64see weekly results here
Package 51/93HostnameOS / ArchINSTALLBUILDCHECKBUILD BIN
MultiAssayExperiment 1.30.1  (landing page)
Marcel Ramos
git_last_commit: 254c7e9
git_last_commit_date: 2024-05-01 17:47:10 -0400
nebbiolo1Linux (Ubuntu 22.04.3 LTS) / x86_64  OK    OK    OK  UNNEEDED, same version is already published
lconwaymacOS 12.7.1 Monterey / x86_64  OK    OK    OK    OK  UNNEEDED, same version is already published
kjohnson3macOS 13.6.5 Ventura / arm64see weekly results here
Package 52/93HostnameOS / ArchINSTALLBUILDCHECKBUILD BIN
mumosa 1.12.0  (landing page)
Aaron Lun
git_last_commit: bee34e6
git_last_commit_date: 2024-04-30 11:30:09 -0400
nebbiolo1Linux (Ubuntu 22.04.3 LTS) / x86_64  OK    OK    OK  UNNEEDED, same version is already published
lconwaymacOS 12.7.1 Monterey / x86_64  OK    OK    OK    OK  UNNEEDED, same version is already published
kjohnson3macOS 13.6.5 Ventura / arm64see weekly results here
Package 53/93HostnameOS / ArchINSTALLBUILDCHECKBUILD BIN
NetActivity 1.6.0  (landing page)
Carlos Ruiz-Arenas
git_last_commit: 218f656
git_last_commit_date: 2024-04-30 11:45:52 -0400
nebbiolo1Linux (Ubuntu 22.04.3 LTS) / x86_64  OK    OK    OK  UNNEEDED, same version is already published
lconwaymacOS 12.7.1 Monterey / x86_64  OK    OK    OK    OK  UNNEEDED, same version is already published
kjohnson3macOS 13.6.5 Ventura / arm64see weekly results here
Package 54/93HostnameOS / ArchINSTALLBUILDCHECKBUILD BIN
netSmooth 1.24.0  (landing page)
Jonathan Ronen
git_last_commit: 6323412
git_last_commit_date: 2024-04-30 11:06:35 -0400
nebbiolo1Linux (Ubuntu 22.04.3 LTS) / x86_64  OK    OK    OK  UNNEEDED, same version is already published
lconwaymacOS 12.7.1 Monterey / x86_64  OK    OK    OK    OK  UNNEEDED, same version is already published
kjohnson3macOS 13.6.5 Ventura / arm64see weekly results here
Package 55/93HostnameOS / ArchINSTALLBUILDCHECKBUILD BIN
NewWave 1.14.0  (landing page)
Federico Agostinis
git_last_commit: 6e5903e
git_last_commit_date: 2024-04-30 11:29:21 -0400
nebbiolo1Linux (Ubuntu 22.04.3 LTS) / x86_64  OK    OK    OK  UNNEEDED, same version is already published
lconwaymacOS 12.7.1 Monterey / x86_64  OK    OK    OK    OK  UNNEEDED, same version is already published
kjohnson3macOS 13.6.5 Ventura / arm64see weekly results here
Package 56/93HostnameOS / ArchINSTALLBUILDCHECKBUILD BIN
orthogene 1.10.0  (landing page)
Brian Schilder
git_last_commit: a917cc2
git_last_commit_date: 2024-04-30 11:37:18 -0400
nebbiolo1Linux (Ubuntu 22.04.3 LTS) / x86_64  OK    OK    OK  UNNEEDED, same version is already published
lconwaymacOS 12.7.1 Monterey / x86_64  OK    OK    OK    OK  UNNEEDED, same version is already published
kjohnson3macOS 13.6.5 Ventura / arm64see weekly results here
Package 57/93HostnameOS / ArchINSTALLBUILDCHECKBUILD BIN
orthos 1.2.0  (landing page)
Panagiotis Papasaikas
git_last_commit: be4a83b
git_last_commit_date: 2024-04-30 11:50:32 -0400
nebbiolo1Linux (Ubuntu 22.04.3 LTS) / x86_64  OK    OK    OK  UNNEEDED, same version is already published
lconwaymacOS 12.7.1 Monterey / x86_64  OK    OK    OK    OK  UNNEEDED, same version is already published
kjohnson3macOS 13.6.5 Ventura / arm64see weekly results here
Package 58/93HostnameOS / ArchINSTALLBUILDCHECKBUILD BIN
PCAtools 2.16.0  (landing page)
Kevin Blighe
git_last_commit: 42e5ad5
git_last_commit_date: 2024-04-30 11:11:50 -0400
nebbiolo1Linux (Ubuntu 22.04.3 LTS) / x86_64  OK    OK    OK  UNNEEDED, same version is already published
lconwaymacOS 12.7.1 Monterey / x86_64  OK    OK    OK    OK  UNNEEDED, same version is already published
kjohnson3macOS 13.6.5 Ventura / arm64see weekly results here
Package 59/93HostnameOS / ArchINSTALLBUILDCHECKBUILD BIN
ResidualMatrix 1.14.0  (landing page)
Aaron Lun
git_last_commit: 4688989
git_last_commit_date: 2024-04-30 11:26:56 -0400
nebbiolo1Linux (Ubuntu 22.04.3 LTS) / x86_64  OK    OK    OK  UNNEEDED, same version is already published
lconwaymacOS 12.7.1 Monterey / x86_64  OK    OK    OK    OK  UNNEEDED, same version is already published
kjohnson3macOS 13.6.5 Ventura / arm64see weekly results here
Package 60/93HostnameOS / ArchINSTALLBUILDCHECKBUILD BIN
restfulSE 1.26.0  (landing page)
Shweta Gopaulakrishnan
git_last_commit: b3e24a6
git_last_commit_date: 2024-04-30 11:00:58 -0400
nebbiolo1Linux (Ubuntu 22.04.3 LTS) / x86_64  OK    ERROR  skipped
lconwaymacOS 12.7.1 Monterey / x86_64  OK    ERROR  skippedskipped
kjohnson3macOS 13.6.5 Ventura / arm64see weekly results here
Package 61/93HostnameOS / ArchINSTALLBUILDCHECKBUILD BIN
rhdf5client 1.26.0  (landing page)
Vincent Carey
git_last_commit: aac49be
git_last_commit_date: 2024-04-30 11:01:49 -0400
nebbiolo1Linux (Ubuntu 22.04.3 LTS) / x86_64  OK    OK    OK  UNNEEDED, same version is already published
lconwaymacOS 12.7.1 Monterey / x86_64  OK    OK    OK    OK  UNNEEDED, same version is already published
kjohnson3macOS 13.6.5 Ventura / arm64see weekly results here
Package 62/93HostnameOS / ArchINSTALLBUILDCHECKBUILD BIN
RTCGAToolbox 2.34.0  (landing page)
Marcel Ramos
git_last_commit: 4772aff
git_last_commit_date: 2024-04-30 10:43:59 -0400
nebbiolo1Linux (Ubuntu 22.04.3 LTS) / x86_64  OK    OK    OK  UNNEEDED, same version is already published
lconwaymacOS 12.7.1 Monterey / x86_64  OK    OK    OK    OK  UNNEEDED, same version is already published
kjohnson3macOS 13.6.5 Ventura / arm64see weekly results here
Package 63/93HostnameOS / ArchINSTALLBUILDCHECKBUILD BIN
ScaledMatrix 1.12.0  (landing page)
Aaron Lun
git_last_commit: 7361ce9
git_last_commit_date: 2024-04-30 11:30:27 -0400
nebbiolo1Linux (Ubuntu 22.04.3 LTS) / x86_64  OK    OK    OK  UNNEEDED, same version is already published
lconwaymacOS 12.7.1 Monterey / x86_64  OK    OK    OK    OK  UNNEEDED, same version is already published
kjohnson3macOS 13.6.5 Ventura / arm64see weekly results here
Package 64/93HostnameOS / ArchINSTALLBUILDCHECKBUILD BIN
SCArray 1.12.0  (landing page)
Xiuwen Zheng
git_last_commit: c58ee8a
git_last_commit_date: 2024-04-30 11:30:24 -0400
nebbiolo1Linux (Ubuntu 22.04.3 LTS) / x86_64  OK    OK    OK  UNNEEDED, same version is already published
lconwaymacOS 12.7.1 Monterey / x86_64  OK    OK    OK    OK  UNNEEDED, same version is already published
kjohnson3macOS 13.6.5 Ventura / arm64see weekly results here
Package 65/93HostnameOS / ArchINSTALLBUILDCHECKBUILD BIN
SCArray.sat 1.4.0  (landing page)
Xiuwen Zheng
git_last_commit: 57e551e
git_last_commit_date: 2024-04-30 11:48:15 -0400
nebbiolo1Linux (Ubuntu 22.04.3 LTS) / x86_64  OK    OK    OK  UNNEEDED, same version is already published
lconwaymacOS 12.7.1 Monterey / x86_64  OK    OK    OK    OK  UNNEEDED, same version is already published
kjohnson3macOS 13.6.5 Ventura / arm64see weekly results here
Package 66/93HostnameOS / ArchINSTALLBUILDCHECKBUILD BIN
scater 1.32.0  (landing page)
Alan O'Callaghan
git_last_commit: 8256e28
git_last_commit_date: 2024-04-30 10:48:21 -0400
nebbiolo1Linux (Ubuntu 22.04.3 LTS) / x86_64  OK    OK    OK  UNNEEDED, same version is already published
lconwaymacOS 12.7.1 Monterey / x86_64  OK    OK    OK    OK  UNNEEDED, same version is already published
kjohnson3macOS 13.6.5 Ventura / arm64see weekly results here
Package 67/93HostnameOS / ArchINSTALLBUILDCHECKBUILD BIN
scDblFinder 1.18.0  (landing page)
Pierre-Luc Germain
git_last_commit: 226a100
git_last_commit_date: 2024-04-30 11:18:45 -0400
nebbiolo1Linux (Ubuntu 22.04.3 LTS) / x86_64  OK    OK    OK  UNNEEDED, same version is already published
lconwaymacOS 12.7.1 Monterey / x86_64  OK    OK    OK    OK  UNNEEDED, same version is already published
kjohnson3macOS 13.6.5 Ventura / arm64see weekly results here
Package 68/93HostnameOS / ArchINSTALLBUILDCHECKBUILD BIN
scFeatures 1.4.0  (landing page)
Yue Cao
git_last_commit: b3d1905
git_last_commit_date: 2024-04-30 11:47:00 -0400
nebbiolo1Linux (Ubuntu 22.04.3 LTS) / x86_64  OK    OK    OK  UNNEEDED, same version is already published
lconwaymacOS 12.7.1 Monterey / x86_64  OK    OK    OK    OK  UNNEEDED, same version is already published
kjohnson3macOS 13.6.5 Ventura / arm64see weekly results here
Package 69/93HostnameOS / ArchINSTALLBUILDCHECKBUILD BIN
scMerge 1.20.0  (landing page)
Yingxin Lin
git_last_commit: 0b5d058
git_last_commit_date: 2024-04-30 11:14:29 -0400
nebbiolo1Linux (Ubuntu 22.04.3 LTS) / x86_64  OK    OK    OK  UNNEEDED, same version is already published
lconwaymacOS 12.7.1 Monterey / x86_64  OK    OK    OK    OK  UNNEEDED, same version is already published
kjohnson3macOS 13.6.5 Ventura / arm64see weekly results here
Package 70/93HostnameOS / ArchINSTALLBUILDCHECKBUILD BIN
scmeth 1.24.0  (landing page)
Divy Kangeyan
git_last_commit: 4d56c2a
git_last_commit_date: 2024-04-30 11:04:04 -0400
nebbiolo1Linux (Ubuntu 22.04.3 LTS) / x86_64  OK    OK    OK  UNNEEDED, same version is already published
lconwaymacOS 12.7.1 Monterey / x86_64  OK    OK    OK    OK  UNNEEDED, same version is already published
kjohnson3macOS 13.6.5 Ventura / arm64see weekly results here
Package 71/93HostnameOS / ArchINSTALLBUILDCHECKBUILD BIN
scPCA 1.18.0  (landing page)
Philippe Boileau
git_last_commit: 6e7f916
git_last_commit_date: 2024-04-30 11:18:48 -0400
nebbiolo1Linux (Ubuntu 22.04.3 LTS) / x86_64  OK    OK    OK  UNNEEDED, same version is already published
lconwaymacOS 12.7.1 Monterey / x86_64  OK    OK    OK    OK  UNNEEDED, same version is already published
kjohnson3macOS 13.6.5 Ventura / arm64see weekly results here
Package 72/93HostnameOS / ArchINSTALLBUILDCHECKBUILD BIN
scran 1.32.0  (landing page)
Aaron Lun
git_last_commit: 03deb61
git_last_commit_date: 2024-04-30 10:50:14 -0400
nebbiolo1Linux (Ubuntu 22.04.3 LTS) / x86_64  OK    OK    WARNINGS  UNNEEDED, same version is already published
lconwaymacOS 12.7.1 Monterey / x86_64  OK    OK    WARNINGS    OK  UNNEEDED, same version is already published
kjohnson3macOS 13.6.5 Ventura / arm64see weekly results here
Package 73/93HostnameOS / ArchINSTALLBUILDCHECKBUILD BIN
scry 1.16.0  (landing page)
Kelly Street
git_last_commit: 122c4fb
git_last_commit_date: 2024-04-30 11:23:42 -0400
nebbiolo1Linux (Ubuntu 22.04.3 LTS) / x86_64  OK    OK    OK  UNNEEDED, same version is already published
lconwaymacOS 12.7.1 Monterey / x86_64  OK    OK    OK    OK  UNNEEDED, same version is already published
kjohnson3macOS 13.6.5 Ventura / arm64see weekly results here
Package 74/93HostnameOS / ArchINSTALLBUILDCHECKBUILD BIN
scuttle 1.14.0  (landing page)
Aaron Lun
git_last_commit: 7e2bcae
git_last_commit_date: 2024-04-30 11:24:27 -0400
nebbiolo1Linux (Ubuntu 22.04.3 LTS) / x86_64  OK    OK    OK  UNNEEDED, same version is already published
lconwaymacOS 12.7.1 Monterey / x86_64  OK    OK    OK    OK  UNNEEDED, same version is already published
kjohnson3macOS 13.6.5 Ventura / arm64see weekly results here
Package 75/93HostnameOS / ArchINSTALLBUILDCHECKBUILD BIN
signatureSearch 1.18.0  (landing page)
Brendan Gongol
git_last_commit: 8c6cc1e
git_last_commit_date: 2024-04-30 11:19:09 -0400
nebbiolo1Linux (Ubuntu 22.04.3 LTS) / x86_64  OK    OK    OK  UNNEEDED, same version is already published
lconwaymacOS 12.7.1 Monterey / x86_64  OK    OK    OK    OK  UNNEEDED, same version is already published
kjohnson3macOS 13.6.5 Ventura / arm64see weekly results here
Package 76/93HostnameOS / ArchINSTALLBUILDCHECKBUILD BIN
SingleCellAlleleExperiment 1.0.0  (landing page)
Jonas Schuck
git_last_commit: 46535f8
git_last_commit_date: 2024-04-30 11:56:29 -0400
nebbiolo1Linux (Ubuntu 22.04.3 LTS) / x86_64  OK    OK    OK  UNNEEDED, same version is already published
lconwaymacOS 12.7.1 Monterey / x86_64  OK    OK    OK    OK  UNNEEDED, same version is already published
kjohnson3macOS 13.6.5 Ventura / arm64see weekly results here
Package 77/93HostnameOS / ArchINSTALLBUILDCHECKBUILD BIN
SingleCellExperiment 1.26.0  (landing page)
Davide Risso
git_last_commit: 9dae229
git_last_commit_date: 2024-04-30 10:59:03 -0400
nebbiolo1Linux (Ubuntu 22.04.3 LTS) / x86_64  OK    OK    OK  UNNEEDED, same version is already published
lconwaymacOS 12.7.1 Monterey / x86_64  OK    OK    OK    OK  UNNEEDED, same version is already published
kjohnson3macOS 13.6.5 Ventura / arm64see weekly results here
Package 78/93HostnameOS / ArchINSTALLBUILDCHECKBUILD BIN
singleCellTK 2.14.0  (landing page)
Joshua David Campbell
git_last_commit: cd29b84
git_last_commit_date: 2024-04-30 11:06:02 -0400
nebbiolo1Linux (Ubuntu 22.04.3 LTS) / x86_64  OK    OK    OK  UNNEEDED, same version is already published
lconwaymacOS 12.7.1 Monterey / x86_64  OK    OK    OK    OK  UNNEEDED, same version is already published
kjohnson3macOS 13.6.5 Ventura / arm64see weekly results here
Package 79/93HostnameOS / ArchINSTALLBUILDCHECKBUILD BIN
SingleR 2.6.0  (landing page)
Aaron Lun
git_last_commit: 1999dd0
git_last_commit_date: 2024-04-30 11:16:52 -0400
nebbiolo1Linux (Ubuntu 22.04.3 LTS) / x86_64  OK    OK    WARNINGS  UNNEEDED, same version is already published
lconwaymacOS 12.7.1 Monterey / x86_64  OK    OK    WARNINGS    OK  UNNEEDED, same version is already published
kjohnson3macOS 13.6.5 Ventura / arm64see weekly results here
Package 80/93HostnameOS / ArchINSTALLBUILDCHECKBUILD BIN
sketchR 1.0.0  (landing page)
Charlotte Soneson
git_last_commit: ab5dc3c
git_last_commit_date: 2024-04-30 11:54:29 -0400
nebbiolo1Linux (Ubuntu 22.04.3 LTS) / x86_64  OK    OK    OK  UNNEEDED, same version is already published
lconwaymacOS 12.7.1 Monterey / x86_64  OK    OK    OK    OK  UNNEEDED, same version is already published
kjohnson3macOS 13.6.5 Ventura / arm64see weekly results here
Package 81/93HostnameOS / ArchINSTALLBUILDCHECKBUILD BIN
SpliceWiz 1.6.0  (landing page)
Alex Chit Hei Wong
git_last_commit: 0677691
git_last_commit_date: 2024-04-30 11:43:22 -0400
nebbiolo1Linux (Ubuntu 22.04.3 LTS) / x86_64  OK    OK    OK  UNNEEDED, same version is already published
lconwaymacOS 12.7.1 Monterey / x86_64  OK    OK    OK    OK  UNNEEDED, same version is already published
kjohnson3macOS 13.6.5 Ventura / arm64see weekly results here
Package 82/93HostnameOS / ArchINSTALLBUILDCHECKBUILD BIN
SQLDataFrame 1.18.0  (landing page)
Qian Liu
git_last_commit: 43a68ce
git_last_commit_date: 2024-04-30 11:15:18 -0400
nebbiolo1Linux (Ubuntu 22.04.3 LTS) / x86_64  OK    OK    WARNINGS  UNNEEDED, same version is already published
lconwaymacOS 12.7.1 Monterey / x86_64  OK    OK    WARNINGS    OK  UNNEEDED, same version is already published
kjohnson3macOS 13.6.5 Ventura / arm64see weekly results here
Package 83/93HostnameOS / ArchINSTALLBUILDCHECKBUILD BIN
SummarizedExperiment 1.34.0  (landing page)
Hervé Pagès
git_last_commit: 503f180
git_last_commit_date: 2024-04-30 14:50:20 -0400
nebbiolo1Linux (Ubuntu 22.04.3 LTS) / x86_64  OK    OK    OK  UNNEEDED, same version is already published
lconwaymacOS 12.7.1 Monterey / x86_64  OK    OK    OK    OK  UNNEEDED, same version is already published
kjohnson3macOS 13.6.5 Ventura / arm64see weekly results here
Package 84/93HostnameOS / ArchINSTALLBUILDCHECKBUILD BIN
TileDBArray 1.14.0  (landing page)
Aaron Lun
git_last_commit: b456051
git_last_commit_date: 2024-04-30 11:27:13 -0400
nebbiolo1Linux (Ubuntu 22.04.3 LTS) / x86_64  OK    OK    OK  UNNEEDED, same version is already published
lconwaymacOS 12.7.1 Monterey / x86_64  OK    OK    OK    OK  UNNEEDED, same version is already published
kjohnson3macOS 13.6.5 Ventura / arm64see weekly results here
Package 85/93HostnameOS / ArchINSTALLBUILDCHECKBUILD BIN
transformGamPoi 1.10.0  (landing page)
Constantin Ahlmann-Eltze
git_last_commit: d1872ad
git_last_commit_date: 2024-04-30 11:37:13 -0400
nebbiolo1Linux (Ubuntu 22.04.3 LTS) / x86_64  OK    OK    OK  UNNEEDED, same version is already published
lconwaymacOS 12.7.1 Monterey / x86_64  OK    OK    OK    OK  UNNEEDED, same version is already published
kjohnson3macOS 13.6.5 Ventura / arm64see weekly results here
Package 86/93HostnameOS / ArchINSTALLBUILDCHECKBUILD BIN
TSCAN 1.42.0  (landing page)
Zhicheng Ji
git_last_commit: 14c47f5
git_last_commit_date: 2024-04-30 10:38:44 -0400
nebbiolo1Linux (Ubuntu 22.04.3 LTS) / x86_64  OK    OK    WARNINGS  UNNEEDED, same version is already published
lconwaymacOS 12.7.1 Monterey / x86_64  OK    OK    WARNINGS    OK  UNNEEDED, same version is already published
kjohnson3macOS 13.6.5 Ventura / arm64see weekly results here
Package 87/93HostnameOS / ArchINSTALLBUILDCHECKBUILD BIN
VariantExperiment 1.18.1  (landing page)
Qian Liu
git_last_commit: acf1357
git_last_commit_date: 2024-05-22 15:55:06 -0400
nebbiolo1Linux (Ubuntu 22.04.3 LTS) / x86_64  OK    OK    OK  UNNEEDED, same version is already published
lconwaymacOS 12.7.1 Monterey / x86_64  OK    ERROR  skippedskipped
kjohnson3macOS 13.6.5 Ventura / arm64see weekly results here
Package 88/93HostnameOS / ArchINSTALLBUILDCHECKBUILD BIN
VCFArray 1.20.0  (landing page)
Qian Liu
git_last_commit: a0e0abb
git_last_commit_date: 2024-04-30 11:11:37 -0400
nebbiolo1Linux (Ubuntu 22.04.3 LTS) / x86_64  OK    OK    OK  UNNEEDED, same version is already published
lconwaymacOS 12.7.1 Monterey / x86_64  OK    OK    OK    OK  UNNEEDED, same version is already published
kjohnson3macOS 13.6.5 Ventura / arm64see weekly results here
Package 89/93HostnameOS / ArchINSTALLBUILDCHECKBUILD BIN
velociraptor 1.14.0  (landing page)
Kevin Rue-Albrecht
git_last_commit: aa6cc78
git_last_commit_date: 2024-04-30 11:27:28 -0400
nebbiolo1Linux (Ubuntu 22.04.3 LTS) / x86_64  OK    OK    OK  UNNEEDED, same version is already published
lconwaymacOS 12.7.1 Monterey / x86_64  OK    OK    OK    OK  UNNEEDED, same version is already published
kjohnson3macOS 13.6.5 Ventura / arm64see weekly results here
Package 90/93HostnameOS / ArchINSTALLBUILDCHECKBUILD BIN
weitrix 1.16.0  (landing page)
Paul Harrison
git_last_commit: b1d9a3f
git_last_commit_date: 2024-04-30 11:23:57 -0400
nebbiolo1Linux (Ubuntu 22.04.3 LTS) / x86_64  OK    OK    OK  UNNEEDED, same version is already published
lconwaymacOS 12.7.1 Monterey / x86_64  OK    OK    OK    OK  UNNEEDED, same version is already published
kjohnson3macOS 13.6.5 Ventura / arm64see weekly results here
Package 91/93HostnameOS / ArchINSTALLBUILDCHECKBUILD BIN
xcore 1.8.0  (landing page)
Maciej Migdał
git_last_commit: 3e50ac6
git_last_commit_date: 2024-04-30 11:40:48 -0400
nebbiolo1Linux (Ubuntu 22.04.3 LTS) / x86_64  OK    OK    OK  UNNEEDED, same version is already published
lconwaymacOS 12.7.1 Monterey / x86_64  OK    OK    OK    OK  UNNEEDED, same version is already published
kjohnson3macOS 13.6.5 Ventura / arm64see weekly results here
Package 92/93HostnameOS / ArchINSTALLBUILDCHECKBUILD BIN
zellkonverter 1.14.0  (landing page)
Luke Zappia
git_last_commit: 9254458
git_last_commit_date: 2024-04-30 11:26:15 -0400
nebbiolo1Linux (Ubuntu 22.04.3 LTS) / x86_64  OK    OK    OK  UNNEEDED, same version is already published
lconwaymacOS 12.7.1 Monterey / x86_64  OK    OK    OK    OK  UNNEEDED, same version is already published
kjohnson3macOS 13.6.5 Ventura / arm64see weekly results here
Package 93/93HostnameOS / ArchINSTALLBUILDCHECKBUILD BIN
ZygosityPredictor 1.4.0  (landing page)
Marco Rheinnecker
git_last_commit: 293d8cc
git_last_commit_date: 2024-04-30 11:48:18 -0400
nebbiolo1Linux (Ubuntu 22.04.3 LTS) / x86_64  OK    OK    OK  UNNEEDED, same version is already published
lconwaymacOS 12.7.1 Monterey / x86_64  OK    OK    OK    OK  UNNEEDED, same version is already published
kjohnson3macOS 13.6.5 Ventura / arm64see weekly results here