Index of /checkResults/3.19/bioc-LATEST/ChIPexoQual/raw-results/kjohnson3

[ICO]NameLast modifiedSizeDescription

[DIR]Parent Directory  -  
[TXT]buildbin-out.txt12-Jun-2024 03:43 1.2K 
[   ]buildbin-summary.dcf12-Jun-2024 03:43 554  
[TXT]buildsrc-out.txt12-Jun-2024 03:43 1.2K 
[   ]buildsrc-summary.dcf12-Jun-2024 03:43 440  
[TXT]checksrc-out.txt12-Jun-2024 03:43 3.8K 
[   ]checksrc-summary.dcf12-Jun-2024 03:43 460  
[TXT]install-out.txt12-Jun-2024 03:43 1.0K 
[   ]install-summary.dcf12-Jun-2024 03:43 277