Index of /checkResults/3.19/bioc-LATEST/ChIPexoQual/raw-results/kjohnson1

[ICO]NameLast modifiedSizeDescription

[DIR]Parent Directory  -  
[TXT]buildbin-out.txt17-Jul-2024 06:42 1.2K 
[   ]buildbin-summary.dcf17-Jul-2024 06:42 554  
[TXT]buildsrc-out.txt17-Jul-2024 06:42 1.2K 
[   ]buildsrc-summary.dcf17-Jul-2024 06:42 440  
[TXT]checksrc-out.txt17-Jul-2024 06:42 3.8K 
[   ]checksrc-summary.dcf17-Jul-2024 06:42 460  
[TXT]install-out.txt17-Jul-2024 06:42 1.0K 
[   ]install-summary.dcf17-Jul-2024 06:42 277