Index of /checkResults/3.19/bioc-LATEST/CNVgears/raw-results/palomino3

[ICO]NameLast modifiedSizeDescription

[DIR]Parent Directory  -  
[TXT]buildbin-out.txt19-Jun-2024 06:58 1.4K 
[   ]buildbin-summary.dcf19-Jun-2024 06:58 521  
[TXT]buildsrc-out.txt19-Jun-2024 06:58 844  
[   ]buildsrc-summary.dcf19-Jun-2024 06:58 456  
[TXT]checksrc-out.txt19-Jun-2024 06:58 16K 
[   ]checksrc-summary.dcf19-Jun-2024 06:58 451  
[TXT]install-out.txt19-Jun-2024 06:58 1.2K 
[   ]install-summary.dcf19-Jun-2024 06:58 270