Index of /checkResults/3.19/bioc-LATEST/CNVgears/raw-results/merida1

[ICO]NameLast modifiedSizeDescription

[DIR]Parent Directory  -  
[TXT]install-out.txt17-Jul-2024 06:40 1.2K 
[   ]install-summary.dcf17-Jul-2024 06:40 271  
[TXT]buildsrc-out.txt17-Jul-2024 06:40 820  
[   ]buildsrc-summary.dcf17-Jul-2024 06:40 431  
[   ]checksrc-summary.dcf17-Jul-2024 06:40 448  
[TXT]checksrc-out.txt17-Jul-2024 06:40 16K 
[   ]buildbin-summary.dcf17-Jul-2024 06:40 536  
[TXT]buildbin-out.txt17-Jul-2024 06:40 1.4K