Index of /checkResults/3.19/bioc-LATEST/CNVgears/raw-results/kjohnson1

[ICO]NameLast modifiedSizeDescription

[DIR]Parent Directory  -  
[TXT]buildbin-out.txt17-Jul-2024 06:42 1.4K 
[   ]buildbin-summary.dcf17-Jul-2024 06:42 536  
[TXT]buildsrc-out.txt17-Jul-2024 06:42 820  
[   ]buildsrc-summary.dcf17-Jul-2024 06:42 430  
[TXT]checksrc-out.txt17-Jul-2024 06:42 16K 
[   ]checksrc-summary.dcf17-Jul-2024 06:42 448  
[TXT]install-out.txt17-Jul-2024 06:42 1.2K 
[   ]install-summary.dcf17-Jul-2024 06:42 270