Index of /checkResults/3.19/bioc-LATEST/CNVgears/raw-results

[ICO]NameLast modifiedSizeDescription

[DIR]Parent Directory  -  
[DIR]merida1/05-Mar-2024 01:39 -  
[DIR]kunpeng2/10-May-2024 00:40 -  
[DIR]lconway/12-Jun-2024 03:42 -  
[DIR]kjohnson3/12-Jun-2024 03:43 -  
[   ]info.dcf15-Jun-2024 03:37 290  
[DIR]nebbiolo1/15-Jun-2024 03:37 -  
[DIR]palomino3/15-Jun-2024 03:38 -