Index of /checkResults/3.19/bioc-LATEST/CGHcall/raw-results/nebbiolo1

[ICO]NameLast modifiedSizeDescription

[DIR]Parent Directory  -  
[TXT]buildsrc-out.txt20-Jul-2024 06:37 869  
[   ]buildsrc-summary.dcf20-Jul-2024 06:37 415  
[TXT]checksrc-out.txt20-Jul-2024 06:37 6.5K 
[   ]checksrc-summary.dcf20-Jul-2024 06:37 419  
[TXT]install-out.txt20-Jul-2024 06:37 952  
[   ]install-summary.dcf20-Jul-2024 06:37 258