Index of /checkResults/3.19/bioc-LATEST/CGHcall/raw-results/kjohnson3

[ICO]NameLast modifiedSizeDescription

[DIR]Parent Directory  -  
[TXT]buildbin-out.txt12-Jun-2024 03:43 1.2K 
[   ]buildbin-summary.dcf12-Jun-2024 03:43 530  
[TXT]buildsrc-out.txt12-Jun-2024 03:43 879  
[   ]buildsrc-summary.dcf12-Jun-2024 03:43 427  
[TXT]checksrc-out.txt12-Jun-2024 03:43 6.6K 
[   ]checksrc-summary.dcf12-Jun-2024 03:43 449  
[TXT]install-out.txt12-Jun-2024 03:43 1.0K 
[   ]install-summary.dcf12-Jun-2024 03:43 268