Back to Multiple platform build/check report for BioC 3.19:   simplified   long
AB[C]DEFGHIJKLMNOPQRSTUVWXYZ

This page was generated on 2024-05-20 11:36:47 -0400 (Mon, 20 May 2024).

HostnameOSArch (*)R versionInstalled pkgs
nebbiolo1Linux (Ubuntu 22.04.3 LTS)x86_644.4.0 (2024-04-24) -- "Puppy Cup" 4751
palomino3Windows Server 2022 Datacenterx644.4.0 (2024-04-24 ucrt) -- "Puppy Cup" 4485
lconwaymacOS 12.7.1 Montereyx86_644.4.0 (2024-04-24) -- "Puppy Cup" 4515
Click on any hostname to see more info about the system (e.g. compilers)      (*) as reported by 'uname -p', except on Windows and Mac OS X

Package 321/2300HostnameOS / ArchINSTALLBUILDCHECKBUILD BIN
CGHbase 1.64.0  (landing page)
Mark van de Wiel
Snapshot Date: 2024-05-19 14:00:13 -0400 (Sun, 19 May 2024)
git_url: https://git.bioconductor.org/packages/CGHbase
git_branch: RELEASE_3_19
git_last_commit: d575384
git_last_commit_date: 2024-04-30 10:18:06 -0400 (Tue, 30 Apr 2024)
nebbiolo1Linux (Ubuntu 22.04.3 LTS) / x86_64  OK    OK    OK  UNNEEDED, same version is already published
palomino3Windows Server 2022 Datacenter / x64  OK    OK    OK    OK  UNNEEDED, same version is already published
lconwaymacOS 12.7.1 Monterey / x86_64  OK    OK    OK    OK  UNNEEDED, same version is already published
kjohnson3macOS 13.6.5 Ventura / arm64see weekly results here

CHECK results for CGHbase on palomino3


To the developers/maintainers of the CGHbase package:
- Allow up to 24 hours (and sometimes 48 hours) for your latest push to git@git.bioconductor.org:packages/CGHbase.git to reflect on this report. See Troubleshooting Build Report for more information.
- Use the following Renviron settings to reproduce errors and warnings.
- If 'R CMD check' started to fail recently on the Linux builder(s) over a missing dependency, add the missing dependency to 'Suggests:' in your DESCRIPTION file. See Renviron.bioc for more information.

raw results


Summary

Package: CGHbase
Version: 1.64.0
Command: F:\biocbuild\bbs-3.19-bioc\R\bin\R.exe CMD check --no-multiarch --install=check:CGHbase.install-out.txt --library=F:\biocbuild\bbs-3.19-bioc\R\library --no-vignettes --timings CGHbase_1.64.0.tar.gz
StartedAt: 2024-05-19 23:58:46 -0400 (Sun, 19 May 2024)
EndedAt: 2024-05-19 23:59:34 -0400 (Sun, 19 May 2024)
EllapsedTime: 47.5 seconds
RetCode: 0
Status:   OK  
CheckDir: CGHbase.Rcheck
Warnings: 0

Command output

##############################################################################
##############################################################################
###
### Running command:
###
###   F:\biocbuild\bbs-3.19-bioc\R\bin\R.exe CMD check --no-multiarch --install=check:CGHbase.install-out.txt --library=F:\biocbuild\bbs-3.19-bioc\R\library --no-vignettes --timings CGHbase_1.64.0.tar.gz
###
##############################################################################
##############################################################################


* using log directory 'F:/biocbuild/bbs-3.19-bioc/meat/CGHbase.Rcheck'
* using R version 4.4.0 (2024-04-24 ucrt)
* using platform: x86_64-w64-mingw32
* R was compiled by
    gcc.exe (GCC) 13.2.0
    GNU Fortran (GCC) 13.2.0
* running under: Windows Server 2022 x64 (build 20348)
* using session charset: UTF-8
* using option '--no-vignettes'
* checking for file 'CGHbase/DESCRIPTION' ... OK
* checking extension type ... Package
* this is package 'CGHbase' version '1.64.0'
* checking package namespace information ... OK
* checking package dependencies ... OK
* checking if this is a source package ... OK
* checking if there is a namespace ... OK
* checking for hidden files and directories ... OK
* checking for portable file names ... OK
* checking whether package 'CGHbase' can be installed ... OK
* checking installed package size ... OK
* checking package directory ... OK
* checking DESCRIPTION meta-information ... NOTE
Malformed Title field: should not end in a period.
* checking top-level files ... OK
* checking for left-over files ... OK
* checking index information ... OK
* checking package subdirectories ... OK
* checking code files for non-ASCII characters ... OK
* checking R files for syntax errors ... OK
* checking whether the package can be loaded ... OK
* checking whether the package can be loaded with stated dependencies ... OK
* checking whether the package can be unloaded cleanly ... OK
* checking whether the namespace can be loaded with stated dependencies ... OK
* checking whether the namespace can be unloaded cleanly ... OK
* checking dependencies in R code ... NOTE
Package in Depends field not imported from: 'methods'
  These packages need to be imported from (in the NAMESPACE file)
  for when this namespace is loaded but not attached.
':::' call which should be '::': 'Biobase:::assayDataElement'
  See the note in ?`:::` about the use of this operator.
Unexported object imported by a ':::' call: 'Biobase:::assayDataDims'
  See the note in ?`:::` about the use of this operator.
* checking S3 generic/method consistency ... OK
* checking replacement functions ... OK
* checking foreign function calls ... OK
* checking R code for possible problems ... NOTE
.makeEmptyFeatureData: no visible global function definition for 'is'
.makeEmptyFeatureData: no visible global function definition for 'new'
.makeEmptyFeatureDataForRegions: no visible global function definition
  for 'is'
.makeEmptyFeatureDataForRegions: no visible global function definition
  for 'new'
frequencyPlotCalls: no visible global function definition for 'rect'
frequencyPlotCalls: no visible global function definition for 'box'
frequencyPlotCalls: no visible global function definition for 'abline'
frequencyPlotCalls: no visible global function definition for 'axis'
frequencyPlotCalls: no visible global function definition for 'mtext'
frequencyPlotCalls: no visible global function definition for 'median'
make_cghRaw: no visible global function definition for 'read.table'
make_cghRaw: no visible global function definition for 'new'
summaryPlot: no visible global function definition for 'rect'
summaryPlot: no visible global function definition for 'box'
summaryPlot: no visible global function definition for 'abline'
summaryPlot: no visible global function definition for 'axis'
summaryPlot: no visible global function definition for 'mtext'
summaryPlot: no visible global function definition for 'median'
frequencyPlot,cghRegions-missing: no visible global function definition
  for 'par'
frequencyPlot,cghRegions-missing: no visible global function definition
  for 'barplot'
frequencyPlot,cghRegions-missing: no visible global function definition
  for 'segments'
frequencyPlot,cghRegions-missing: no visible global function definition
  for 'gray'
frequencyPlot,cghRegions-missing: no visible global function definition
  for 'box'
frequencyPlot,cghRegions-missing: no visible global function definition
  for 'axis'
initialize,cghCall: no visible global function definition for 'new'
initialize,cghCall: no visible global function definition for
  'callNextMethod'
initialize,cghRaw: no visible global function definition for 'new'
initialize,cghRaw: no visible global function definition for
  'callNextMethod'
initialize,cghRegions: no visible global function definition for 'new'
initialize,cghRegions: no visible global function definition for
  'callNextMethod'
initialize,cghSeg: no visible global function definition for 'new'
initialize,cghSeg: no visible global function definition for
  'callNextMethod'
plot.cghRegions,cghRegions-missing: no visible global function
  definition for 'layout'
plot.cghRegions,cghRegions-missing: no visible global function
  definition for 'par'
plot.cghRegions,cghRegions-missing: no visible global function
  definition for 'segments'
plot.cghRegions,cghRegions-missing: no visible global function
  definition for 'axis'
plot,cghCall-missing: no visible global function definition for 'par'
plot,cghCall-missing: no visible global function definition for 'rect'
plot,cghCall-missing: no visible global function definition for 'axis'
plot,cghCall-missing: no visible global function definition for 'box'
plot,cghCall-missing: no visible global function definition for
  'abline'
plot,cghCall-missing: no visible global function definition for 'mtext'
plot,cghCall-missing: no visible global function definition for 'title'
plot,cghCall-missing: no visible global function definition for
  'segments'
plot,cghCall-missing: no visible global function definition for
  'median'
plot,cghCall-missing : <anonymous>: no visible global function
  definition for 'mad'
plot,cghRaw-missing: no visible global function definition for 'mtext'
plot,cghRaw-missing: no visible global function definition for 'abline'
plot,cghRaw-missing: no visible global function definition for 'axis'
plot,cghRaw-missing: no visible global function definition for 'median'
plot,cghRaw-missing : <anonymous>: no visible global function
  definition for 'mad'
plot,cghSeg-missing: no visible global function definition for 'mtext'
plot,cghSeg-missing: no visible global function definition for 'abline'
plot,cghSeg-missing: no visible global function definition for 'axis'
plot,cghSeg-missing: no visible global function definition for
  'segments'
plot,cghSeg-missing: no visible global function definition for 'median'
plot,cghSeg-missing : <anonymous>: no visible global function
  definition for 'mad'
Undefined global functions or variables:
  abline axis barplot box callNextMethod gray is layout mad median
  mtext new par read.table rect segments title
Consider adding
  importFrom("grDevices", "gray")
  importFrom("graphics", "abline", "axis", "barplot", "box", "layout",
             "mtext", "par", "rect", "segments", "title")
  importFrom("methods", "callNextMethod", "is", "new")
  importFrom("stats", "mad", "median")
  importFrom("utils", "read.table")
to your NAMESPACE file (and ensure that your DESCRIPTION Imports field
contains 'methods').
* checking Rd files ... OK
* checking Rd metadata ... OK
* checking Rd cross-references ... OK
* checking for missing documentation entries ... OK
* checking for code/documentation mismatches ... OK
* checking Rd \usage sections ... OK
* checking Rd contents ... OK
* checking for unstated dependencies in examples ... OK
* checking contents of 'data' directory ... OK
* checking data for non-ASCII characters ... OK
* checking data for ASCII and uncompressed saves ... OK
* checking examples ... OK
* checking PDF version of manual ... OK
* DONE

Status: 3 NOTEs
See
  'F:/biocbuild/bbs-3.19-bioc/meat/CGHbase.Rcheck/00check.log'
for details.


Installation output

CGHbase.Rcheck/00install.out

##############################################################################
##############################################################################
###
### Running command:
###
###   F:\biocbuild\bbs-3.19-bioc\R\bin\R.exe CMD INSTALL CGHbase
###
##############################################################################
##############################################################################


* installing to library 'F:/biocbuild/bbs-3.19-bioc/R/library'
* installing *source* package 'CGHbase' ...
** using staged installation
** R
** data
** byte-compile and prepare package for lazy loading
** help
*** installing help indices
** building package indices
** testing if installed package can be loaded from temporary location
** testing if installed package can be loaded from final location
** testing if installed package keeps a record of temporary installation path
* DONE (CGHbase)

Tests output


Example timings

CGHbase.Rcheck/CGHbase-Ex.timings

nameusersystemelapsed
class.cghCall0.060.000.06
class.cghRaw0.250.030.30
class.cghRegions0.190.000.19
class.cghSeg0.050.000.05
copynumber0.030.000.03
frequencyPlot000
frequencyPlotCalls000
make_cghRaw0.050.000.05
summaryPlot000