Back to Multiple platform build/check report for BioC 3.19:   simplified   long
A[B]CDEFGHIJKLMNOPQRSTUVWXYZ

This page was generated on 2024-03-28 11:34:42 -0400 (Thu, 28 Mar 2024).

HostnameOSArch (*)R versionInstalled pkgs
nebbiolo1Linux (Ubuntu 22.04.3 LTS)x86_64R Under development (unstable) (2024-03-18 r86148) -- "Unsuffered Consequences" 4708
palomino3Windows Server 2022 Datacenterx64R Under development (unstable) (2024-03-16 r86144 ucrt) -- "Unsuffered Consequences" 4446
lconwaymacOS 12.7.1 Montereyx86_64R Under development (unstable) (2024-03-18 r86148) -- "Unsuffered Consequences" 4471
kunpeng2Linux (openEuler 22.03 LTS-SP1)aarch64R Under development (unstable) (2024-03-19 r86153) -- "Unsuffered Consequences" 4426
Click on any hostname to see more info about the system (e.g. compilers)      (*) as reported by 'uname -p', except on Windows and Mac OS X

All results for package BiocParallel


To the developers/maintainers of the BiocParallel package:
- Allow up to 24 hours (and sometimes 48 hours) for your latest push to git@git.bioconductor.org:packages/BiocParallel.git to reflect on this report. See Troubleshooting Build Report for more information.
- Use the following Renviron settings to reproduce errors and warnings.
- If 'R CMD check' started to fail recently on the Linux builder(s) over a missing dependency, add the missing dependency to 'Suggests:' in your DESCRIPTION file. See Renviron.bioc for more information.

raw results

Package 187/2270HostnameOS / ArchINSTALLBUILDCHECKBUILD BIN
BiocParallel 1.37.1  (landing page)
Martin Morgan
Snapshot Date: 2024-03-27 14:00:18 -0400 (Wed, 27 Mar 2024)
git_url: https://git.bioconductor.org/packages/BiocParallel
git_branch: devel
git_last_commit: 47856de
git_last_commit_date: 2024-03-04 07:31:33 -0400 (Mon, 04 Mar 2024)
nebbiolo1Linux (Ubuntu 22.04.3 LTS) / x86_64  OK    OK    OK  UNNEEDED, same version is already published
palomino3Windows Server 2022 Datacenter / x64  OK    OK    OK    OK  UNNEEDED, same version is already published
lconwaymacOS 12.7.1 Monterey / x86_64  OK    OK    OK    OK  UNNEEDED, same version is already published
kunpeng2Linux (openEuler 22.03 LTS-SP1) / aarch64  OK    OK    OK  

Results for Bioconductor software packages that depend directly on package BiocParallel

QUICK STATSOS / ArchINSTALLBUILDCHECKBUILD BIN
nebbiolo1Linux (Ubuntu 22.04.3 LTS) / x86_64
03333
122313
01047256
palomino3Windows Server 2022 Datacenter / x64
04326
114315
0646263
00315
lconwaymacOS 12.7.1 Monterey / x86_64
03332
129305
0850247
00305
kunpeng2Linux (openEuler 22.03 LTS-SP1) / aarch64
04332
225309
01643250
Package 1/336HostnameOS / ArchINSTALLBUILDCHECKBUILD BIN
abseqR 1.21.0  (landing page)
JiaHong Fong
git_last_commit: f97c5e9
git_last_commit_date: 2023-10-24 11:09:16 -0400
nebbiolo1Linux (Ubuntu 22.04.3 LTS) / x86_64  OK    OK    OK  UNNEEDED, same version is already published
palomino3Windows Server 2022 Datacenter / x64  OK    OK    OK    OK  UNNEEDED, same version is already published
lconwaymacOS 12.7.1 Monterey / x86_64  OK    OK    OK    OK  UNNEEDED, same version is already published
kunpeng2Linux (openEuler 22.03 LTS-SP1) / aarch64  OK    OK    OK  
Package 2/336HostnameOS / ArchINSTALLBUILDCHECKBUILD BIN
ADImpute 1.13.0  (landing page)
Ana Carolina Leote
git_last_commit: d1f0199
git_last_commit_date: 2023-10-24 11:27:27 -0400
nebbiolo1Linux (Ubuntu 22.04.3 LTS) / x86_64  OK    OK    WARNINGS  UNNEEDED, same version is already published
palomino3Windows Server 2022 Datacenter / x64  OK    OK    WARNINGS    OK  UNNEEDED, same version is already published
lconwaymacOS 12.7.1 Monterey / x86_64  OK    OK    WARNINGS    OK  UNNEEDED, same version is already published
kunpeng2Linux (openEuler 22.03 LTS-SP1) / aarch64  OK    OK    WARNINGS  
Package 3/336HostnameOS / ArchINSTALLBUILDCHECKBUILD BIN
AffiXcan 1.21.0  (landing page)
Alessandro Lussana
git_last_commit: 6080458
git_last_commit_date: 2023-10-24 11:08:20 -0400
nebbiolo1Linux (Ubuntu 22.04.3 LTS) / x86_64  OK    OK    OK  UNNEEDED, same version is already published
palomino3Windows Server 2022 Datacenter / x64  OK    OK    OK    OK  UNNEEDED, same version is already published
lconwaymacOS 12.7.1 Monterey / x86_64  OK    OK    OK    OK  UNNEEDED, same version is already published
kunpeng2Linux (openEuler 22.03 LTS-SP1) / aarch64  OK    OK    OK  
Package 4/336HostnameOS / ArchINSTALLBUILDCHECKBUILD BIN
ALDEx2 1.35.0  (landing page)
Greg Gloor
git_last_commit: 9e689b5
git_last_commit_date: 2023-10-24 10:38:50 -0400
nebbiolo1Linux (Ubuntu 22.04.3 LTS) / x86_64  OK    OK    OK  UNNEEDED, same version is already published
palomino3Windows Server 2022 Datacenter / x64  OK    OK    OK    OK  UNNEEDED, same version is already published
lconwaymacOS 12.7.1 Monterey / x86_64  OK    OK    OK    OK  UNNEEDED, same version is already published
kunpeng2Linux (openEuler 22.03 LTS-SP1) / aarch64  OK    OK    OK  
Package 5/336HostnameOS / ArchINSTALLBUILDCHECKBUILD BIN
AlphaBeta 1.17.0  (landing page)
Yadollah Shahryary Dizaji
git_last_commit: 707dc9f
git_last_commit_date: 2023-10-24 11:15:39 -0400
nebbiolo1Linux (Ubuntu 22.04.3 LTS) / x86_64  OK    OK    OK  UNNEEDED, same version is already published
palomino3Windows Server 2022 Datacenter / x64  OK    OK    OK    OK  UNNEEDED, same version is already published
lconwaymacOS 12.7.1 Monterey / x86_64  OK    OK    OK    OK  UNNEEDED, same version is already published
kunpeng2Linux (openEuler 22.03 LTS-SP1) / aarch64  OK    OK    OK  
Package 6/336HostnameOS / ArchINSTALLBUILDCHECKBUILD BIN
AlpsNMR 4.5.0  (landing page)
Sergio Oller Moreno
git_last_commit: 4f8fc6e
git_last_commit_date: 2023-10-24 11:28:03 -0400
nebbiolo1Linux (Ubuntu 22.04.3 LTS) / x86_64  OK    OK    OK  UNNEEDED, same version is already published
palomino3Windows Server 2022 Datacenter / x64  OK    OK    OK    OK  UNNEEDED, same version is already published
lconwaymacOS 12.7.1 Monterey / x86_64  OK    OK    OK    OK  UNNEEDED, same version is already published
kunpeng2Linux (openEuler 22.03 LTS-SP1) / aarch64  OK    OK    OK  
Package 7/336HostnameOS / ArchINSTALLBUILDCHECKBUILD BIN
amplican 1.25.1  (landing page)
Eivind Valen
git_last_commit: ae00250
git_last_commit_date: 2024-01-25 10:41:52 -0400
nebbiolo1Linux (Ubuntu 22.04.3 LTS) / x86_64  OK    OK    OK  UNNEEDED, same version is already published
palomino3Windows Server 2022 Datacenter / x64  OK    OK    OK    OK  UNNEEDED, same version is already published
lconwaymacOS 12.7.1 Monterey / x86_64  OK    OK    OK    OK  UNNEEDED, same version is already published
kunpeng2Linux (openEuler 22.03 LTS-SP1) / aarch64  OK    OK    OK  
Package 8/336HostnameOS / ArchINSTALLBUILDCHECKBUILD BIN
ASICS 2.19.1  (landing page)
Gaëlle Lefort
git_last_commit: 646680d
git_last_commit_date: 2024-03-05 03:49:05 -0400
nebbiolo1Linux (Ubuntu 22.04.3 LTS) / x86_64  OK    OK    OK  UNNEEDED, same version is already published
palomino3Windows Server 2022 Datacenter / x64  OK    OK    OK    OK  UNNEEDED, same version is already published
lconwaymacOS 12.7.1 Monterey / x86_64  OK    OK    OK    OK  UNNEEDED, same version is already published
kunpeng2Linux (openEuler 22.03 LTS-SP1) / aarch64  OK    OK    OK  
Package 9/336HostnameOS / ArchINSTALLBUILDCHECKBUILD BIN
ATACseqQC 1.27.4  (landing page)
Jianhong Ou
git_last_commit: d72e60a
git_last_commit_date: 2024-03-15 08:38:12 -0400
nebbiolo1Linux (Ubuntu 22.04.3 LTS) / x86_64  OK    OK    OK  UNNEEDED, same version is already published
palomino3Windows Server 2022 Datacenter / x64  OK    OK    OK    OK  UNNEEDED, same version is already published
lconwaymacOS 12.7.1 Monterey / x86_64  OK    OK    OK    OK  UNNEEDED, same version is already published
kunpeng2Linux (openEuler 22.03 LTS-SP1) / aarch64  OK    OK    OK  
Package 10/336HostnameOS / ArchINSTALLBUILDCHECKBUILD BIN
atena 1.9.0  (landing page)
Beatriz Calvo-Serra
git_last_commit: db720af
git_last_commit_date: 2023-10-24 11:36:26 -0400
nebbiolo1Linux (Ubuntu 22.04.3 LTS) / x86_64  OK    OK    OK  UNNEEDED, same version is already published
palomino3Windows Server 2022 Datacenter / x64  OK    OK    OK    OK  UNNEEDED, same version is already published
lconwaymacOS 12.7.1 Monterey / x86_64  OK    OK    OK    OK  UNNEEDED, same version is already published
kunpeng2Linux (openEuler 22.03 LTS-SP1) / aarch64  OK    OK    OK  
Package 11/336HostnameOS / ArchINSTALLBUILDCHECKBUILD BIN
atSNP 1.19.0  (landing page)
Sunyoung Shin
git_last_commit: 85e7ed0
git_last_commit_date: 2023-10-24 11:11:02 -0400
nebbiolo1Linux (Ubuntu 22.04.3 LTS) / x86_64  OK    OK    OK  UNNEEDED, same version is already published
palomino3Windows Server 2022 Datacenter / x64  OK    OK    OK    OK  UNNEEDED, same version is already published
lconwaymacOS 12.7.1 Monterey / x86_64  OK    OK    OK    OK  UNNEEDED, same version is already published
kunpeng2Linux (openEuler 22.03 LTS-SP1) / aarch64  OK    OK    OK  
Package 12/336HostnameOS / ArchINSTALLBUILDCHECKBUILD BIN
bacon 1.31.0  (landing page)
Maarten van Iterson
git_last_commit: f0b12b0
git_last_commit_date: 2023-10-24 10:48:29 -0400
nebbiolo1Linux (Ubuntu 22.04.3 LTS) / x86_64  OK    OK    OK  UNNEEDED, same version is already published
palomino3Windows Server 2022 Datacenter / x64  OK    OK    OK    OK  UNNEEDED, same version is already published
lconwaymacOS 12.7.1 Monterey / x86_64  OK    OK    OK    OK  UNNEEDED, same version is already published
kunpeng2Linux (openEuler 22.03 LTS-SP1) / aarch64  OK    OK    OK  
Package 13/336HostnameOS / ArchINSTALLBUILDCHECKBUILD BIN
bambu 3.5.0  (landing page)
Ying Chen
git_last_commit: fed41f6
git_last_commit_date: 2023-10-24 11:27:04 -0400
nebbiolo1Linux (Ubuntu 22.04.3 LTS) / x86_64  OK    OK    OK  UNNEEDED, same version is already published
palomino3Windows Server 2022 Datacenter / x64  OK    OK    OK    OK  UNNEEDED, same version is already published
lconwaymacOS 12.7.1 Monterey / x86_64  OK    OK    OK    OK  UNNEEDED, same version is already published
kunpeng2Linux (openEuler 22.03 LTS-SP1) / aarch64  OK    OK    OK  
Package 14/336HostnameOS / ArchINSTALLBUILDCHECKBUILD BIN
BANDITS 1.19.1  (landing page)
Simone Tiberi
git_last_commit: 093ea61
git_last_commit_date: 2023-11-13 16:24:05 -0400
nebbiolo1Linux (Ubuntu 22.04.3 LTS) / x86_64  OK    OK    OK  UNNEEDED, same version is already published
palomino3Windows Server 2022 Datacenter / x64  OK    OK    OK    OK  UNNEEDED, same version is already published
lconwaymacOS 12.7.1 Monterey / x86_64  OK    OK    OK    OK  UNNEEDED, same version is already published
kunpeng2Linux (openEuler 22.03 LTS-SP1) / aarch64  OK    OK    OK  
Package 15/336HostnameOS / ArchINSTALLBUILDCHECKBUILD BIN
bandle 1.7.0  (landing page)
Oliver M. Crook
git_last_commit: ada1add
git_last_commit_date: 2023-10-24 11:41:12 -0400
nebbiolo1Linux (Ubuntu 22.04.3 LTS) / x86_64  OK    OK    OK  UNNEEDED, same version is already published
palomino3Windows Server 2022 Datacenter / x64  OK    OK    OK    OK  UNNEEDED, same version is already published
lconwaymacOS 12.7.1 Monterey / x86_64  OK    OK    WARNINGS    OK  UNNEEDED, same version is already published
kunpeng2Linux (openEuler 22.03 LTS-SP1) / aarch64  OK    OK    OK  
Package 16/336HostnameOS / ArchINSTALLBUILDCHECKBUILD BIN
BASiCS 2.15.5  (landing page)
Catalina Vallejos
git_last_commit: cc13376
git_last_commit_date: 2024-03-25 13:34:38 -0400
nebbiolo1Linux (Ubuntu 22.04.3 LTS) / x86_64  OK    OK    OK  UNNEEDED, same version is already published
palomino3Windows Server 2022 Datacenter / x64  OK    OK    OK    OK  UNNEEDED, same version is already published
lconwaymacOS 12.7.1 Monterey / x86_64  OK    OK    OK    OK  UNNEEDED, same version is already published
kunpeng2Linux (openEuler 22.03 LTS-SP1) / aarch64  OK    OK    OK  
Package 17/336HostnameOS / ArchINSTALLBUILDCHECKBUILD BIN
batchelor 1.19.1  (landing page)
Aaron Lun
git_last_commit: 2b4c10e
git_last_commit_date: 2023-12-27 13:57:13 -0400
nebbiolo1Linux (Ubuntu 22.04.3 LTS) / x86_64  OK    OK    OK  UNNEEDED, same version is already published
palomino3Windows Server 2022 Datacenter / x64  OK    OK    OK    OK  UNNEEDED, same version is already published
lconwaymacOS 12.7.1 Monterey / x86_64  OK    OK    OK    OK  UNNEEDED, same version is already published
kunpeng2Linux (openEuler 22.03 LTS-SP1) / aarch64  OK    OK    OK  
Package 18/336HostnameOS / ArchINSTALLBUILDCHECKBUILD BIN
bayNorm 1.21.0  (landing page)
Wenhao Tang
git_last_commit: ccdbc21
git_last_commit_date: 2023-10-24 11:08:36 -0400
nebbiolo1Linux (Ubuntu 22.04.3 LTS) / x86_64  OK    OK    OK  UNNEEDED, same version is already published
palomino3Windows Server 2022 Datacenter / x64  OK    OK    OK    OK  UNNEEDED, same version is already published
lconwaymacOS 12.7.1 Monterey / x86_64  OK    OK    OK    OK  UNNEEDED, same version is already published
kunpeng2Linux (openEuler 22.03 LTS-SP1) / aarch64  OK    OK    OK  
Package 19/336HostnameOS / ArchINSTALLBUILDCHECKBUILD BIN
BEclear 2.19.0  (landing page)
Livia Rasp
git_last_commit: 7c00f5a
git_last_commit_date: 2023-10-24 10:43:35 -0400
nebbiolo1Linux (Ubuntu 22.04.3 LTS) / x86_64  OK    OK    OK  UNNEEDED, same version is already published
palomino3Windows Server 2022 Datacenter / x64  OK    OK    OK    OK  UNNEEDED, same version is already published
lconwaymacOS 12.7.1 Monterey / x86_64  OK    OK    OK    OK  UNNEEDED, same version is already published
kunpeng2Linux (openEuler 22.03 LTS-SP1) / aarch64  OK    OK    OK  
Package 20/336HostnameOS / ArchINSTALLBUILDCHECKBUILD BIN
beer 1.7.0  (landing page)
Athena Chen
git_last_commit: fa3d328
git_last_commit_date: 2023-10-24 11:39:32 -0400
nebbiolo1Linux (Ubuntu 22.04.3 LTS) / x86_64  OK    OK    OK  UNNEEDED, same version is already published
palomino3Windows Server 2022 Datacenter / x64  OK    OK    OK    OK  UNNEEDED, same version is already published
lconwaymacOS 12.7.1 Monterey / x86_64  OK    OK    OK    OK  UNNEEDED, same version is already published
kunpeng2Linux (openEuler 22.03 LTS-SP1) / aarch64  OK    OK    OK  
Package 21/336HostnameOS / ArchINSTALLBUILDCHECKBUILD BIN
benchdamic 1.9.4  (landing page)
Matteo Calgaro
git_last_commit: 84a8ab3
git_last_commit_date: 2024-03-07 06:18:20 -0400
nebbiolo1Linux (Ubuntu 22.04.3 LTS) / x86_64  OK    ERROR  skipped
palomino3Windows Server 2022 Datacenter / x64  OK    OK    OK    OK  UNNEEDED, same version is already published
lconwaymacOS 12.7.1 Monterey / x86_64  OK    ERROR  skippedskipped
kunpeng2Linux (openEuler 22.03 LTS-SP1) / aarch64  OK    ERROR  skipped
Package 22/336HostnameOS / ArchINSTALLBUILDCHECKBUILD BIN
BERT 0.99.16  (landing page)
Yannis Schumann
git_last_commit: 65b1ece
git_last_commit_date: 2024-02-28 02:41:28 -0400
nebbiolo1Linux (Ubuntu 22.04.3 LTS) / x86_64  OK    OK    OK  UNNEEDED, same version is already published
palomino3Windows Server 2022 Datacenter / x64  OK    OK    OK    OK  UNNEEDED, same version is already published
lconwaymacOS 12.7.1 Monterey / x86_64  OK    OK    OK    OK  UNNEEDED, same version is already published
kunpeng2Linux (openEuler 22.03 LTS-SP1) / aarch64  OK    OK    OK  
Package 23/336HostnameOS / ArchINSTALLBUILDCHECKBUILD BIN
BiocNeighbors 1.21.2  (landing page)
Aaron Lun
git_last_commit: 8abf622
git_last_commit_date: 2023-12-18 02:29:59 -0400
nebbiolo1Linux (Ubuntu 22.04.3 LTS) / x86_64  OK    OK    WARNINGS  UNNEEDED, same version is already published
palomino3Windows Server 2022 Datacenter / x64  OK    OK    WARNINGS    OK  UNNEEDED, same version is already published
lconwaymacOS 12.7.1 Monterey / x86_64  OK    OK    WARNINGS    OK  UNNEEDED, same version is already published
kunpeng2Linux (openEuler 22.03 LTS-SP1) / aarch64  OK    OK    WARNINGS  
Package 24/336HostnameOS / ArchINSTALLBUILDCHECKBUILD BIN
BioCor 1.27.1  (landing page)
Lluís Revilla Sancho
git_last_commit: 9f68f1c
git_last_commit_date: 2024-03-04 16:05:18 -0400
nebbiolo1Linux (Ubuntu 22.04.3 LTS) / x86_64  OK    OK    OK  UNNEEDED, same version is already published
palomino3Windows Server 2022 Datacenter / x64  OK    OK    OK    OK  UNNEEDED, same version is already published
lconwaymacOS 12.7.1 Monterey / x86_64  OK    OK    OK    OK  UNNEEDED, same version is already published
kunpeng2Linux (openEuler 22.03 LTS-SP1) / aarch64  OK    OK    ERROR  
Package 25/336HostnameOS / ArchINSTALLBUILDCHECKBUILD BIN
BiocSingular 1.19.0  (landing page)
Aaron Lun
git_last_commit: ad6bb7d
git_last_commit_date: 2023-10-24 11:11:06 -0400
nebbiolo1Linux (Ubuntu 22.04.3 LTS) / x86_64  OK    OK    OK  UNNEEDED, same version is already published
palomino3Windows Server 2022 Datacenter / x64  OK    OK    OK    OK  UNNEEDED, same version is already published
lconwaymacOS 12.7.1 Monterey / x86_64  OK    OK    OK    OK  UNNEEDED, same version is already published
kunpeng2Linux (openEuler 22.03 LTS-SP1) / aarch64  OK    OK    OK  
Package 26/336HostnameOS / ArchINSTALLBUILDCHECKBUILD BIN
BioNERO 1.11.3  (landing page)
Fabricio Almeida-Silva
git_last_commit: 5de1a41
git_last_commit_date: 2024-03-25 08:39:54 -0400
nebbiolo1Linux (Ubuntu 22.04.3 LTS) / x86_64  OK    OK    OK  UNNEEDED, same version is already published
palomino3Windows Server 2022 Datacenter / x64  OK    OK    OK    OK  UNNEEDED, same version is already published
lconwaymacOS 12.7.1 Monterey / x86_64  OK    OK    OK    OK  UNNEEDED, same version is already published
kunpeng2Linux (openEuler 22.03 LTS-SP1) / aarch64  OK    OK    OK  
Package 27/336HostnameOS / ArchINSTALLBUILDCHECKBUILD BIN
BioNetStat 1.23.0  (landing page)
Vinicius Jardim
git_last_commit: 7a2575f
git_last_commit_date: 2023-10-24 11:04:54 -0400
nebbiolo1Linux (Ubuntu 22.04.3 LTS) / x86_64  OK    OK    ERROR  
palomino3Windows Server 2022 Datacenter / x64  OK    OK    ERROR    OK  
lconwaymacOS 12.7.1 Monterey / x86_64  OK    OK    ERROR    OK  
kunpeng2Linux (openEuler 22.03 LTS-SP1) / aarch64  OK    OK    ERROR  
Package 28/336HostnameOS / ArchINSTALLBUILDCHECKBUILD BIN
biotmle 1.27.0  (landing page)
Nima Hejazi
git_last_commit: e0507a8
git_last_commit_date: 2023-10-24 10:56:59 -0400
nebbiolo1Linux (Ubuntu 22.04.3 LTS) / x86_64  OK    OK    OK  UNNEEDED, same version is already published
palomino3Windows Server 2022 Datacenter / x64  OK    OK    OK    OK  UNNEEDED, same version is already published
lconwaymacOS 12.7.1 Monterey / x86_64  OK    OK    OK    OK  UNNEEDED, same version is already published
kunpeng2Linux (openEuler 22.03 LTS-SP1) / aarch64  OK    OK    OK  
Package 29/336HostnameOS / ArchINSTALLBUILDCHECKBUILD BIN
biscuiteer 1.17.3  (landing page)
Jacob Morrison
git_last_commit: de9b735
git_last_commit_date: 2024-03-01 11:31:25 -0400
nebbiolo1Linux (Ubuntu 22.04.3 LTS) / x86_64  OK    OK    WARNINGS  UNNEEDED, same version is already published
palomino3Windows Server 2022 Datacenter / x64  OK    OK    WARNINGS    OK  UNNEEDED, same version is already published
lconwaymacOS 12.7.1 Monterey / x86_64  OK    OK    WARNINGS    OK  UNNEEDED, same version is already published
kunpeng2Linux (openEuler 22.03 LTS-SP1) / aarch64  OK    OK    WARNINGS  
Package 30/336HostnameOS / ArchINSTALLBUILDCHECKBUILD BIN
bluster 1.13.0  (landing page)
Aaron Lun
git_last_commit: 743ba5e
git_last_commit_date: 2023-10-24 11:23:49 -0400
nebbiolo1Linux (Ubuntu 22.04.3 LTS) / x86_64  OK    OK    OK  UNNEEDED, same version is already published
palomino3Windows Server 2022 Datacenter / x64  OK    OK    OK    OK  UNNEEDED, same version is already published
lconwaymacOS 12.7.1 Monterey / x86_64  OK    OK    OK    OK  UNNEEDED, same version is already published
kunpeng2Linux (openEuler 22.03 LTS-SP1) / aarch64  OK    OK    OK  
Package 31/336HostnameOS / ArchINSTALLBUILDCHECKBUILD BIN
brendaDb 1.17.0  (landing page)
Yi Zhou
git_last_commit: 5cff0d7
git_last_commit_date: 2023-10-24 11:15:54 -0400
nebbiolo1Linux (Ubuntu 22.04.3 LTS) / x86_64  OK    OK    OK  UNNEEDED, same version is already published
palomino3Windows Server 2022 Datacenter / x64  OK    OK    OK    OK  UNNEEDED, same version is already published
lconwaymacOS 12.7.1 Monterey / x86_64  OK    OK    OK    OK  UNNEEDED, same version is already published
kunpeng2Linux (openEuler 22.03 LTS-SP1) / aarch64  OK    OK    OK  
Package 32/336HostnameOS / ArchINSTALLBUILDCHECKBUILD BIN
bsseq 1.39.0  (landing page)
Kasper Daniel Hansen
git_last_commit: c22c4d2
git_last_commit_date: 2023-10-24 09:50:39 -0400
nebbiolo1Linux (Ubuntu 22.04.3 LTS) / x86_64  OK    OK    OK  UNNEEDED, same version is already published
palomino3Windows Server 2022 Datacenter / x64  OK    OK    OK    OK  UNNEEDED, same version is already published
lconwaymacOS 12.7.1 Monterey / x86_64  OK    OK    OK    OK  UNNEEDED, same version is already published
kunpeng2Linux (openEuler 22.03 LTS-SP1) / aarch64  OK    OK    OK  
Package 33/336HostnameOS / ArchINSTALLBUILDCHECKBUILD BIN
CAGEfightR 1.23.0  (landing page)
Malte Thodberg
git_last_commit: c9667b2
git_last_commit_date: 2023-10-24 11:05:23 -0400
nebbiolo1Linux (Ubuntu 22.04.3 LTS) / x86_64  OK    OK    OK  UNNEEDED, same version is already published
palomino3Windows Server 2022 Datacenter / x64  OK    OK    OK    OK  UNNEEDED, same version is already published
lconwaymacOS 12.7.1 Monterey / x86_64  OK    OK    OK    OK  UNNEEDED, same version is already published
kunpeng2Linux (openEuler 22.03 LTS-SP1) / aarch64  OK    OK    OK  
Package 34/336HostnameOS / ArchINSTALLBUILDCHECKBUILD BIN
CAGEr 2.9.0  (landing page)
Charles Plessy
git_last_commit: 18d7295
git_last_commit_date: 2023-10-24 09:52:59 -0400
nebbiolo1Linux (Ubuntu 22.04.3 LTS) / x86_64  OK    OK    OK  UNNEEDED, same version is already published
palomino3Windows Server 2022 Datacenter / x64  OK    OK    OK    OK  UNNEEDED, same version is already published
lconwaymacOS 12.7.1 Monterey / x86_64  OK    OK    OK    OK  UNNEEDED, same version is already published
kunpeng2Linux (openEuler 22.03 LTS-SP1) / aarch64  OK    OK    OK  
Package 35/336HostnameOS / ArchINSTALLBUILDCHECKBUILD BIN
Cardinal 3.5.0  (landing page)
Kylie A. Bemis
git_last_commit: b0496ea
git_last_commit_date: 2023-11-22 14:25:11 -0400
nebbiolo1Linux (Ubuntu 22.04.3 LTS) / x86_64  OK    OK    OK  UNNEEDED, same version is already published
palomino3Windows Server 2022 Datacenter / x64  OK    OK    OK    OK  UNNEEDED, same version is already published
lconwaymacOS 12.7.1 Monterey / x86_64  OK    OK    OK    OK  UNNEEDED, same version is already published
kunpeng2Linux (openEuler 22.03 LTS-SP1) / aarch64  OK    OK    OK  
Package 36/336HostnameOS / ArchINSTALLBUILDCHECKBUILD BIN
CBEA 1.3.0  (landing page)
Quang Nguyen
git_last_commit: 96d5776
git_last_commit_date: 2023-10-24 11:40:17 -0400
nebbiolo1Linux (Ubuntu 22.04.3 LTS) / x86_64  OK    OK    OK  UNNEEDED, same version is already published
palomino3Windows Server 2022 Datacenter / x64  OK    OK    OK    OK  UNNEEDED, same version is already published
lconwaymacOS 12.7.1 Monterey / x86_64  OK    OK    OK    OK  UNNEEDED, same version is already published
kunpeng2Linux (openEuler 22.03 LTS-SP1) / aarch64  OK    OK    OK  
Package 37/336HostnameOS / ArchINSTALLBUILDCHECKBUILD BIN
ccImpute 1.5.0  (landing page)
Marcin Malec
git_last_commit: 82211e6
git_last_commit_date: 2023-10-24 11:45:00 -0400
nebbiolo1Linux (Ubuntu 22.04.3 LTS) / x86_64  OK    OK    OK  UNNEEDED, same version is already published
palomino3Windows Server 2022 Datacenter / x64  OK    OK    OK    OK  UNNEEDED, same version is already published
lconwaymacOS 12.7.1 Monterey / x86_64  OK    OK    OK    OK  UNNEEDED, same version is already published
kunpeng2Linux (openEuler 22.03 LTS-SP1) / aarch64  OK    OK    OK  
Package 38/336HostnameOS / ArchINSTALLBUILDCHECKBUILD BIN
CDI 1.1.1  (landing page)
Jiyuan Fang
git_last_commit: 27394e7
git_last_commit_date: 2023-12-05 05:11:48 -0400
nebbiolo1Linux (Ubuntu 22.04.3 LTS) / x86_64  OK    OK    OK  UNNEEDED, same version is already published
palomino3Windows Server 2022 Datacenter / x64  OK    OK    OK    OK  UNNEEDED, same version is already published
lconwaymacOS 12.7.1 Monterey / x86_64  OK    OK    OK    OK  UNNEEDED, same version is already published
kunpeng2Linux (openEuler 22.03 LTS-SP1) / aarch64  OK    OK    OK  
Package 39/336HostnameOS / ArchINSTALLBUILDCHECKBUILD BIN
cellbaseR 1.27.0  (landing page)
Mohammed OE Abdallah
git_last_commit: 9eeb25a
git_last_commit_date: 2023-11-23 00:36:54 -0400
nebbiolo1Linux (Ubuntu 22.04.3 LTS) / x86_64  OK    OK    OK  UNNEEDED, same version is already published
palomino3Windows Server 2022 Datacenter / x64  OK    OK    OK    OK  UNNEEDED, same version is already published
lconwaymacOS 12.7.1 Monterey / x86_64  OK    OK    OK    OK  UNNEEDED, same version is already published
kunpeng2Linux (openEuler 22.03 LTS-SP1) / aarch64  OK    OK    OK  
Package 40/336HostnameOS / ArchINSTALLBUILDCHECKBUILD BIN
CellBench 1.19.0  (landing page)
Shian Su
git_last_commit: 6f91d57
git_last_commit_date: 2023-10-24 11:11:30 -0400
nebbiolo1Linux (Ubuntu 22.04.3 LTS) / x86_64  OK    OK    OK  UNNEEDED, same version is already published
palomino3Windows Server 2022 Datacenter / x64  OK    OK    OK    OK  UNNEEDED, same version is already published
lconwaymacOS 12.7.1 Monterey / x86_64  OK    OK    OK    OK  UNNEEDED, same version is already published
kunpeng2Linux (openEuler 22.03 LTS-SP1) / aarch64  OK    OK    OK  
Package 41/336HostnameOS / ArchINSTALLBUILDCHECKBUILD BIN
CelliD 1.11.1  (landing page)
Akira Cortal
git_last_commit: c5cced2
git_last_commit_date: 2023-11-30 01:48:22 -0400
nebbiolo1Linux (Ubuntu 22.04.3 LTS) / x86_64  OK    OK    WARNINGS  UNNEEDED, same version is already published
palomino3Windows Server 2022 Datacenter / x64  OK    OK    WARNINGS    OK  UNNEEDED, same version is already published
lconwaymacOS 12.7.1 Monterey / x86_64  OK    OK    WARNINGS    OK  UNNEEDED, same version is already published
kunpeng2Linux (openEuler 22.03 LTS-SP1) / aarch64  OK    OK    WARNINGS  
Package 42/336HostnameOS / ArchINSTALLBUILDCHECKBUILD BIN
CellMixS 1.19.0  (landing page)
Almut Lütge
git_last_commit: 54ea158
git_last_commit_date: 2023-10-24 11:12:36 -0400
nebbiolo1Linux (Ubuntu 22.04.3 LTS) / x86_64  OK    OK    OK  UNNEEDED, same version is already published
palomino3Windows Server 2022 Datacenter / x64  OK    OK    OK    OK  UNNEEDED, same version is already published
lconwaymacOS 12.7.1 Monterey / x86_64  OK    OK    OK    OK  UNNEEDED, same version is already published
kunpeng2Linux (openEuler 22.03 LTS-SP1) / aarch64  OK    OK    OK  
Package 43/336HostnameOS / ArchINSTALLBUILDCHECKBUILD BIN
censcyt 1.11.0  (landing page)
Reto Gerber
git_last_commit: e315378
git_last_commit_date: 2023-10-24 11:28:36 -0400
nebbiolo1Linux (Ubuntu 22.04.3 LTS) / x86_64  OK    ERROR  skipped
palomino3Windows Server 2022 Datacenter / x64  OK    OK    OK    OK  UNNEEDED, same version is already published
lconwaymacOS 12.7.1 Monterey / x86_64  OK    ERROR  skippedskipped
kunpeng2Linux (openEuler 22.03 LTS-SP1) / aarch64  OK    ERROR  skipped
Package 44/336HostnameOS / ArchINSTALLBUILDCHECKBUILD BIN
Cepo 1.9.0  (landing page)
Hani Jieun Kim
git_last_commit: 4e091ad
git_last_commit_date: 2023-10-24 11:37:48 -0400
nebbiolo1Linux (Ubuntu 22.04.3 LTS) / x86_64  OK    ERROR  skipped
palomino3Windows Server 2022 Datacenter / x64  OK    ERROR  skippedskipped
lconwaymacOS 12.7.1 Monterey / x86_64  OK    ERROR  skippedskipped
kunpeng2Linux (openEuler 22.03 LTS-SP1) / aarch64  OK    ERROR  skipped
Package 45/336HostnameOS / ArchINSTALLBUILDCHECKBUILD BIN
ChIPexoQual 1.27.0  (landing page)
Rene Welch
git_last_commit: a0dc514
git_last_commit_date: 2023-10-24 10:55:06 -0400
nebbiolo1Linux (Ubuntu 22.04.3 LTS) / x86_64  OK    OK    OK  UNNEEDED, same version is already published
palomino3Windows Server 2022 Datacenter / x64  OK    OK    OK    OK  UNNEEDED, same version is already published
lconwaymacOS 12.7.1 Monterey / x86_64  OK    OK    OK    OK  UNNEEDED, same version is already published
kunpeng2Linux (openEuler 22.03 LTS-SP1) / aarch64  OK    OK    OK  
Package 46/336HostnameOS / ArchINSTALLBUILDCHECKBUILD BIN
ChIPQC 1.39.0  (landing page)
Tom Carroll , Rory Stark
git_last_commit: 5965ee6
git_last_commit_date: 2023-10-24 09:58:19 -0400
nebbiolo1Linux (Ubuntu 22.04.3 LTS) / x86_64  OK    OK    WARNINGS  UNNEEDED, same version is already published
palomino3Windows Server 2022 Datacenter / x64  OK    OK    WARNINGS    OK  UNNEEDED, same version is already published
lconwaymacOS 12.7.1 Monterey / x86_64  OK    OK    WARNINGS    OK  UNNEEDED, same version is already published
kunpeng2Linux (openEuler 22.03 LTS-SP1) / aarch64  OK    OK    WARNINGS  
Package 47/336HostnameOS / ArchINSTALLBUILDCHECKBUILD BIN
ChromSCape 1.13.0  (landing page)
Pacome Prompsy
git_last_commit: d73b93e
git_last_commit_date: 2023-10-24 11:26:16 -0400
nebbiolo1Linux (Ubuntu 22.04.3 LTS) / x86_64  OK    OK    WARNINGS  UNNEEDED, same version is already published
palomino3Windows Server 2022 Datacenter / x64  OK    OK    WARNINGS    OK  UNNEEDED, same version is already published
lconwaymacOS 12.7.1 Monterey / x86_64  OK    OK    WARNINGS    OK  UNNEEDED, same version is already published
kunpeng2Linux (openEuler 22.03 LTS-SP1) / aarch64  OK    OK    WARNINGS  
Package 48/336HostnameOS / ArchINSTALLBUILDCHECKBUILD BIN
chromVAR 1.25.0  (landing page)
Alicia Schep
git_last_commit: 4dc365e
git_last_commit_date: 2023-10-24 11:00:14 -0400
nebbiolo1Linux (Ubuntu 22.04.3 LTS) / x86_64  OK    OK    OK  UNNEEDED, same version is already published
palomino3Windows Server 2022 Datacenter / x64  OK    OK    OK    OK  UNNEEDED, same version is already published
lconwaymacOS 12.7.1 Monterey / x86_64  OK    OK    OK    OK  UNNEEDED, same version is already published
kunpeng2Linux (openEuler 22.03 LTS-SP1) / aarch64  OK    OK    OK  
Package 49/336HostnameOS / ArchINSTALLBUILDCHECKBUILD BIN
ClassifyR 3.7.4  (landing page)
Dario Strbenac
git_last_commit: 16e93fc
git_last_commit_date: 2024-02-29 19:10:23 -0400
nebbiolo1Linux (Ubuntu 22.04.3 LTS) / x86_64  OK    OK    WARNINGS  UNNEEDED, same version is already published
palomino3Windows Server 2022 Datacenter / x64  OK    OK    WARNINGS    OK  UNNEEDED, same version is already published
lconwaymacOS 12.7.1 Monterey / x86_64  OK    OK    WARNINGS    OK  UNNEEDED, same version is already published
kunpeng2Linux (openEuler 22.03 LTS-SP1) / aarch64  OK    OK    WARNINGS  
Package 50/336HostnameOS / ArchINSTALLBUILDCHECKBUILD BIN
ClusterFoldSimilarity 0.99.14  (landing page)
Oscar Gonzalez-Velasco
git_last_commit: 0dfafa5
git_last_commit_date: 2024-02-13 05:45:00 -0400
nebbiolo1Linux (Ubuntu 22.04.3 LTS) / x86_64  OK    OK    OK  UNNEEDED, same version is already published
palomino3Windows Server 2022 Datacenter / x64  OK    OK    OK    OK  UNNEEDED, same version is already published
lconwaymacOS 12.7.1 Monterey / x86_64  OK    OK    OK    OK  UNNEEDED, same version is already published
kunpeng2Linux (openEuler 22.03 LTS-SP1) / aarch64  OK    OK    OK  
Package 51/336HostnameOS / ArchINSTALLBUILDCHECKBUILD BIN
clusterSeq 1.27.1  (landing page)
Thomas J. Hardcastle
git_last_commit: 55b31ba
git_last_commit_date: 2024-02-02 08:40:59 -0400
nebbiolo1Linux (Ubuntu 22.04.3 LTS) / x86_64  ERROR    ERROR  skipped
palomino3Windows Server 2022 Datacenter / x64  ERROR    ERROR  skippedskipped
lconwaymacOS 12.7.1 Monterey / x86_64  ERROR    ERROR  skippedskipped
kunpeng2Linux (openEuler 22.03 LTS-SP1) / aarch64  ERROR    ERROR  skipped
Package 52/336HostnameOS / ArchINSTALLBUILDCHECKBUILD BIN
CNVMetrics 1.7.0  (landing page)
Astrid Deschênes
git_last_commit: f26fe0d
git_last_commit_date: 2023-10-24 11:38:44 -0400
nebbiolo1Linux (Ubuntu 22.04.3 LTS) / x86_64  OK    OK    OK  UNNEEDED, same version is already published
palomino3Windows Server 2022 Datacenter / x64  OK    OK    OK    OK  UNNEEDED, same version is already published
lconwaymacOS 12.7.1 Monterey / x86_64  OK    OK    OK    OK  UNNEEDED, same version is already published
kunpeng2Linux (openEuler 22.03 LTS-SP1) / aarch64  OK    OK    OK  
Package 53/336HostnameOS / ArchINSTALLBUILDCHECKBUILD BIN
CNVRanger 1.19.1  (landing page)
Ludwig Geistlinger
git_last_commit: 43040b1
git_last_commit_date: 2024-01-19 20:16:38 -0400
nebbiolo1Linux (Ubuntu 22.04.3 LTS) / x86_64  OK    ERROR  skipped
palomino3Windows Server 2022 Datacenter / x64  OK    OK    OK    OK  UNNEEDED, same version is already published
lconwaymacOS 12.7.1 Monterey / x86_64  OK    OK    OK    OK  UNNEEDED, same version is already published
kunpeng2Linux (openEuler 22.03 LTS-SP1) / aarch64  OK    OK    OK  
Package 54/336HostnameOS / ArchINSTALLBUILDCHECKBUILD BIN
CoGAPS 3.23.1  (landing page)
Elana J. Fertig
git_last_commit: 9094d23
git_last_commit_date: 2024-02-08 09:41:05 -0400
nebbiolo1Linux (Ubuntu 22.04.3 LTS) / x86_64  OK    ERROR  skipped
palomino3Windows Server 2022 Datacenter / x64  OK    ERROR  skippedskipped
lconwaymacOS 12.7.1 Monterey / x86_64  OK    ERROR  skippedskipped
kunpeng2Linux (openEuler 22.03 LTS-SP1) / aarch64  OK    OK    OK  
Package 55/336HostnameOS / ArchINSTALLBUILDCHECKBUILD BIN
comapr 1.7.1  (landing page)
Ruqian Lyu
git_last_commit: 1c4273d
git_last_commit_date: 2023-10-26 23:51:15 -0400
nebbiolo1Linux (Ubuntu 22.04.3 LTS) / x86_64  OK    OK    OK  UNNEEDED, same version is already published
palomino3Windows Server 2022 Datacenter / x64  OK    OK    OK    OK  UNNEEDED, same version is already published
lconwaymacOS 12.7.1 Monterey / x86_64  OK    OK    OK    OK  UNNEEDED, same version is already published
kunpeng2Linux (openEuler 22.03 LTS-SP1) / aarch64  OK    OK    OK  
Package 56/336HostnameOS / ArchINSTALLBUILDCHECKBUILD BIN
coMethDMR 1.7.0  (landing page)
Fernanda Veitzman
git_last_commit: b5ea1bb
git_last_commit_date: 2023-10-24 11:38:47 -0400
nebbiolo1Linux (Ubuntu 22.04.3 LTS) / x86_64  OK    ERROR  skipped
palomino3Windows Server 2022 Datacenter / x64  ERROR    OK    ERROR    OK  
lconwaymacOS 12.7.1 Monterey / x86_64  OK    ERROR  skippedskipped
kunpeng2Linux (openEuler 22.03 LTS-SP1) / aarch64  OK    ERROR  skipped
Package 57/336HostnameOS / ArchINSTALLBUILDCHECKBUILD BIN
CompoundDb 1.7.2  (landing page)
Johannes Rainer
git_last_commit: 64709c7
git_last_commit_date: 2024-03-01 08:52:36 -0400
nebbiolo1Linux (Ubuntu 22.04.3 LTS) / x86_64  OK    OK    OK  UNNEEDED, same version is already published
palomino3Windows Server 2022 Datacenter / x64  OK    OK    OK    OK  UNNEEDED, same version is already published
lconwaymacOS 12.7.1 Monterey / x86_64  OK    OK    OK    OK  UNNEEDED, same version is already published
kunpeng2Linux (openEuler 22.03 LTS-SP1) / aarch64  OK    OK    OK  
Package 58/336HostnameOS / ArchINSTALLBUILDCHECKBUILD BIN
concordexR 1.3.0  (landing page)
Kayla Jackson
git_last_commit: 210b32d
git_last_commit_date: 2023-10-24 11:48:29 -0400
nebbiolo1Linux (Ubuntu 22.04.3 LTS) / x86_64  OK    ERROR  skipped
palomino3Windows Server 2022 Datacenter / x64  OK    OK    OK    OK  UNNEEDED, same version is already published
lconwaymacOS 12.7.1 Monterey / x86_64  OK    OK    OK    OK  UNNEEDED, same version is already published
kunpeng2Linux (openEuler 22.03 LTS-SP1) / aarch64  OK    OK    OK  
Package 59/336HostnameOS / ArchINSTALLBUILDCHECKBUILD BIN
condiments 1.11.0  (landing page)
Hector Roux de Bezieux
git_last_commit: 8a9f0e6
git_last_commit_date: 2023-10-24 11:31:30 -0400
nebbiolo1Linux (Ubuntu 22.04.3 LTS) / x86_64  OK    OK    OK  UNNEEDED, same version is already published
palomino3Windows Server 2022 Datacenter / x64  OK    OK    OK    OK  UNNEEDED, same version is already published
lconwaymacOS 12.7.1 Monterey / x86_64  OK    OK    OK    OK  UNNEEDED, same version is already published
kunpeng2Linux (openEuler 22.03 LTS-SP1) / aarch64  OK    OK    OK  
Package 60/336HostnameOS / ArchINSTALLBUILDCHECKBUILD BIN
consensusDE 1.21.0  (landing page)
Ashley J. Waardenberg
git_last_commit: 87ab6b1
git_last_commit_date: 2023-10-24 11:09:05 -0400
nebbiolo1Linux (Ubuntu 22.04.3 LTS) / x86_64  OK    OK    OK  UNNEEDED, same version is already published
palomino3Windows Server 2022 Datacenter / x64  OK    OK    OK    OK  UNNEEDED, same version is already published
lconwaymacOS 12.7.1 Monterey / x86_64  OK    OK    OK    OK  UNNEEDED, same version is already published
kunpeng2Linux (openEuler 22.03 LTS-SP1) / aarch64  OK    OK    OK  
Package 61/336HostnameOS / ArchINSTALLBUILDCHECKBUILD BIN
consensusOV 1.25.1  (landing page)
Benjamin Haibe-Kains
git_last_commit: 0ce992b
git_last_commit_date: 2024-02-05 14:19:12 -0400
nebbiolo1Linux (Ubuntu 22.04.3 LTS) / x86_64  OK    OK    OK  UNNEEDED, same version is already published
palomino3Windows Server 2022 Datacenter / x64  OK    OK    OK    OK  UNNEEDED, same version is already published
lconwaymacOS 12.7.1 Monterey / x86_64  OK    OK    OK    OK  UNNEEDED, same version is already published
kunpeng2Linux (openEuler 22.03 LTS-SP1) / aarch64  OK    OK    OK  
Package 62/336HostnameOS / ArchINSTALLBUILDCHECKBUILD BIN
consensusSeekeR 1.31.2  (landing page)
Astrid Deschênes
git_last_commit: d8c3500
git_last_commit_date: 2024-02-22 19:59:06 -0400
nebbiolo1Linux (Ubuntu 22.04.3 LTS) / x86_64  OK    OK    OK  UNNEEDED, same version is already published
palomino3Windows Server 2022 Datacenter / x64  OK    OK    OK    OK  UNNEEDED, same version is already published
lconwaymacOS 12.7.1 Monterey / x86_64  OK    OK    OK    OK  UNNEEDED, same version is already published
kunpeng2Linux (openEuler 22.03 LTS-SP1) / aarch64  OK    OK    OK  
Package 63/336HostnameOS / ArchINSTALLBUILDCHECKBUILD BIN
consICA 2.1.0  (landing page)
Petr V. Nazarov
git_last_commit: b0be609
git_last_commit_date: 2023-10-24 11:43:58 -0400
nebbiolo1Linux (Ubuntu 22.04.3 LTS) / x86_64  OK    OK    OK  UNNEEDED, same version is already published
palomino3Windows Server 2022 Datacenter / x64  OK    OK    OK    OK  UNNEEDED, same version is already published
lconwaymacOS 12.7.1 Monterey / x86_64  OK    OK    OK    OK  UNNEEDED, same version is already published
kunpeng2Linux (openEuler 22.03 LTS-SP1) / aarch64  OK    OK    OK  
Package 64/336HostnameOS / ArchINSTALLBUILDCHECKBUILD BIN
contiBAIT 1.31.1  (landing page)
Kieran O'Neill
git_last_commit: a473e33
git_last_commit_date: 2024-02-01 14:51:17 -0400
nebbiolo1Linux (Ubuntu 22.04.3 LTS) / x86_64  ERROR    ERROR  skipped
palomino3Windows Server 2022 Datacenter / x64  ERROR    ERROR  skippedskipped
lconwaymacOS 12.7.1 Monterey / x86_64  ERROR    ERROR  skippedskipped
kunpeng2Linux (openEuler 22.03 LTS-SP1) / aarch64  ERROR    ERROR  skipped
Package 65/336HostnameOS / ArchINSTALLBUILDCHECKBUILD BIN
CoreGx 2.7.3  (landing page)
Benjamin Haibe-Kains
git_last_commit: 639219c
git_last_commit_date: 2024-03-11 16:13:11 -0400
nebbiolo1Linux (Ubuntu 22.04.3 LTS) / x86_64  OK    OK    OK  UNNEEDED, same version is already published
palomino3Windows Server 2022 Datacenter / x64  OK    OK    OK    OK  UNNEEDED, same version is already published
lconwaymacOS 12.7.1 Monterey / x86_64  OK    OK    OK    OK  UNNEEDED, same version is already published
kunpeng2Linux (openEuler 22.03 LTS-SP1) / aarch64  OK    OK    OK  
Package 66/336HostnameOS / ArchINSTALLBUILDCHECKBUILD BIN
coseq 1.27.0  (landing page)
Andrea Rau
git_last_commit: 63e92d8
git_last_commit_date: 2023-10-24 10:54:56 -0400
nebbiolo1Linux (Ubuntu 22.04.3 LTS) / x86_64  OK    OK    OK  UNNEEDED, same version is already published
palomino3Windows Server 2022 Datacenter / x64  OK    OK    OK    OK  UNNEEDED, same version is already published
lconwaymacOS 12.7.1 Monterey / x86_64  OK    OK    OK    OK  UNNEEDED, same version is already published
kunpeng2Linux (openEuler 22.03 LTS-SP1) / aarch64  OK    OK    OK  
Package 67/336HostnameOS / ArchINSTALLBUILDCHECKBUILD BIN
cpvSNP 1.35.0  (landing page)
Caitlin McHugh
git_last_commit: c3a0ba5
git_last_commit_date: 2023-10-24 10:40:38 -0400
nebbiolo1Linux (Ubuntu 22.04.3 LTS) / x86_64  OK    OK    OK  UNNEEDED, same version is already published
palomino3Windows Server 2022 Datacenter / x64  OK    OK    OK    OK  UNNEEDED, same version is already published
lconwaymacOS 12.7.1 Monterey / x86_64  OK    OK    OK    OK  UNNEEDED, same version is already published
kunpeng2Linux (openEuler 22.03 LTS-SP1) / aarch64  OK    OK    OK  
Package 68/336HostnameOS / ArchINSTALLBUILDCHECKBUILD BIN
CrispRVariants 1.31.0  (landing page)
Helen Lindsay
git_last_commit: 4e3a6d1
git_last_commit_date: 2023-10-24 10:46:52 -0400
nebbiolo1Linux (Ubuntu 22.04.3 LTS) / x86_64  OK    OK    WARNINGS  UNNEEDED, same version is already published
palomino3Windows Server 2022 Datacenter / x64  OK    OK    WARNINGS    OK  UNNEEDED, same version is already published
lconwaymacOS 12.7.1 Monterey / x86_64  OK    OK    WARNINGS    OK  UNNEEDED, same version is already published
kunpeng2Linux (openEuler 22.03 LTS-SP1) / aarch64  OK    OK    WARNINGS  
Package 69/336HostnameOS / ArchINSTALLBUILDCHECKBUILD BIN
csaw 1.37.1  (landing page)
Aaron Lun
git_last_commit: b6fe934
git_last_commit_date: 2023-11-30 02:21:57 -0400
nebbiolo1Linux (Ubuntu 22.04.3 LTS) / x86_64  OK    OK    WARNINGS  UNNEEDED, same version is already published
palomino3Windows Server 2022 Datacenter / x64  OK    OK    WARNINGS    OK  UNNEEDED, same version is already published
lconwaymacOS 12.7.1 Monterey / x86_64  OK    OK    WARNINGS    OK  UNNEEDED, same version is already published
kunpeng2Linux (openEuler 22.03 LTS-SP1) / aarch64  OK    OK    WARNINGS  
Package 70/336HostnameOS / ArchINSTALLBUILDCHECKBUILD BIN
CTSV 1.5.0  (landing page)
Jinge Yu Developer
git_last_commit: e5eb3ae
git_last_commit_date: 2023-10-24 11:42:40 -0400
nebbiolo1Linux (Ubuntu 22.04.3 LTS) / x86_64  OK    OK    OK  UNNEEDED, same version is already published
palomino3Windows Server 2022 Datacenter / x64  OK    OK    OK    OK  UNNEEDED, same version is already published
lconwaymacOS 12.7.1 Monterey / x86_64  OK    OK    OK    OK  UNNEEDED, same version is already published
kunpeng2Linux (openEuler 22.03 LTS-SP1) / aarch64  OK    OK    OK  
Package 71/336HostnameOS / ArchINSTALLBUILDCHECKBUILD BIN
cydar 1.27.0  (landing page)
Aaron Lun
git_last_commit: 369347d
git_last_commit_date: 2023-10-24 10:56:16 -0400
nebbiolo1Linux (Ubuntu 22.04.3 LTS) / x86_64  OK    OK    OK  UNNEEDED, same version is already published
palomino3Windows Server 2022 Datacenter / x64  OK    OK    OK    OK  UNNEEDED, same version is already published
lconwaymacOS 12.7.1 Monterey / x86_64  OK    OK    OK    OK  UNNEEDED, same version is already published
kunpeng2Linux (openEuler 22.03 LTS-SP1) / aarch64  OK    OK    OK  
Package 72/336HostnameOS / ArchINSTALLBUILDCHECKBUILD BIN
CytoGLMM 1.11.0  (landing page)
Christof Seiler
git_last_commit: 59f611f
git_last_commit_date: 2023-10-24 11:31:35 -0400
nebbiolo1Linux (Ubuntu 22.04.3 LTS) / x86_64  OK    OK    OK  UNNEEDED, same version is already published
palomino3Windows Server 2022 Datacenter / x64  OK    OK    OK    OK  UNNEEDED, same version is already published
lconwaymacOS 12.7.1 Monterey / x86_64  OK    OK    OK    OK  UNNEEDED, same version is already published
kunpeng2Linux (openEuler 22.03 LTS-SP1) / aarch64  OK    OK    OK  
Package 73/336HostnameOS / ArchINSTALLBUILDCHECKBUILD BIN
cytoKernel 1.9.0  (landing page)
Tusharkanti Ghosh
git_last_commit: 24ded7a
git_last_commit_date: 2023-10-24 11:36:32 -0400
nebbiolo1Linux (Ubuntu 22.04.3 LTS) / x86_64  OK    OK    OK  UNNEEDED, same version is already published
palomino3Windows Server 2022 Datacenter / x64  OK    OK    OK    OK  UNNEEDED, same version is already published
lconwaymacOS 12.7.1 Monterey / x86_64  OK    OK    OK    OK  UNNEEDED, same version is already published
kunpeng2Linux (openEuler 22.03 LTS-SP1) / aarch64  OK    OK    OK  
Package 74/336HostnameOS / ArchINSTALLBUILDCHECKBUILD BIN
cytomapper 1.15.4  (landing page)
Lasse Meyer
git_last_commit: a985bd6
git_last_commit_date: 2024-03-21 08:44:46 -0400
nebbiolo1Linux (Ubuntu 22.04.3 LTS) / x86_64  OK    OK    OK  UNNEEDED, same version is already published
palomino3Windows Server 2022 Datacenter / x64  OK    OK    OK    OK  UNNEEDED, same version is already published
lconwaymacOS 12.7.1 Monterey / x86_64  OK    OK    OK    OK  UNNEEDED, same version is already published
kunpeng2Linux (openEuler 22.03 LTS-SP1) / aarch64  OK    OK    OK  
Package 75/336HostnameOS / ArchINSTALLBUILDCHECKBUILD BIN
CytoMDS 0.99.14  (landing page)
Philippe Hauchamps
git_last_commit: 807fbd1
git_last_commit_date: 2024-03-20 09:59:04 -0400
nebbiolo1Linux (Ubuntu 22.04.3 LTS) / x86_64  OK    OK    OK  YES
palomino3Windows Server 2022 Datacenter / x64  OK    OK    OK    OK  YES
lconwaymacOS 12.7.1 Monterey / x86_64  OK    OK    OK    OK  YES
kunpeng2Linux (openEuler 22.03 LTS-SP1) / aarch64  OK    OK    OK  
Package 76/336HostnameOS / ArchINSTALLBUILDCHECKBUILD BIN
CytoPipeline 1.3.6  (landing page)
Philippe Hauchamps
git_last_commit: d83e80f
git_last_commit_date: 2024-02-23 10:00:18 -0400
nebbiolo1Linux (Ubuntu 22.04.3 LTS) / x86_64  OK    OK    OK  UNNEEDED, same version is already published
palomino3Windows Server 2022 Datacenter / x64  OK    OK    OK    OK  UNNEEDED, same version is already published
lconwaymacOS 12.7.1 Monterey / x86_64  OK    OK    OK    OK  UNNEEDED, same version is already published
kunpeng2Linux (openEuler 22.03 LTS-SP1) / aarch64  OK    OK    OK  
Package 77/336HostnameOS / ArchINSTALLBUILDCHECKBUILD BIN
dcGSA 1.31.0  (landing page)
Jiehuan sun
git_last_commit: 0d40e6d
git_last_commit_date: 2023-10-24 10:46:39 -0400
nebbiolo1Linux (Ubuntu 22.04.3 LTS) / x86_64  OK    OK    WARNINGS  UNNEEDED, same version is already published
palomino3Windows Server 2022 Datacenter / x64  OK    OK    WARNINGS    OK  UNNEEDED, same version is already published
lconwaymacOS 12.7.1 Monterey / x86_64  OK    OK    WARNINGS    OK  UNNEEDED, same version is already published
kunpeng2Linux (openEuler 22.03 LTS-SP1) / aarch64  OK    OK    WARNINGS  
Package 78/336HostnameOS / ArchINSTALLBUILDCHECKBUILD BIN
debCAM 1.21.0  (landing page)
Lulu Chen
git_last_commit: 8ed6b5d
git_last_commit_date: 2023-10-24 11:16:25 -0400
nebbiolo1Linux (Ubuntu 22.04.3 LTS) / x86_64  OK    OK    OK  UNNEEDED, same version is already published
palomino3Windows Server 2022 Datacenter / x64  OK    OK    OK    OK  UNNEEDED, same version is already published
lconwaymacOS 12.7.1 Monterey / x86_64  OK    OK    OK    OK  UNNEEDED, same version is already published
kunpeng2Linux (openEuler 22.03 LTS-SP1) / aarch64  OK    OK    OK  
Package 79/336HostnameOS / ArchINSTALLBUILDCHECKBUILD BIN
decoupleR 2.9.6  (landing page)
Pau Badia-i-Mompel
git_last_commit: 68bf5f6
git_last_commit_date: 2024-03-24 08:38:34 -0400
nebbiolo1Linux (Ubuntu 22.04.3 LTS) / x86_64  OK    OK    ERROR  
palomino3Windows Server 2022 Datacenter / x64  OK    OK    ERROR    OK  
lconwaymacOS 12.7.1 Monterey / x86_64  OK    OK    ERROR    OK  
kunpeng2Linux (openEuler 22.03 LTS-SP1) / aarch64  OK    OK    ERROR  
Package 80/336HostnameOS / ArchINSTALLBUILDCHECKBUILD BIN
DepInfeR 1.7.0  (landing page)
Junyan Lu
git_last_commit: 32aa5f2
git_last_commit_date: 2023-10-24 11:40:52 -0400
nebbiolo1Linux (Ubuntu 22.04.3 LTS) / x86_64  OK    OK    OK  UNNEEDED, same version is already published
palomino3Windows Server 2022 Datacenter / x64  OK    OK    OK    OK  UNNEEDED, same version is already published
lconwaymacOS 12.7.1 Monterey / x86_64  OK    OK    OK    OK  UNNEEDED, same version is already published
kunpeng2Linux (openEuler 22.03 LTS-SP1) / aarch64  OK    OK    OK  
Package 81/336HostnameOS / ArchINSTALLBUILDCHECKBUILD BIN
derfinder 1.37.0  (landing page)
Leonardo Collado-Torres
git_last_commit: 6bd1e04
git_last_commit_date: 2023-10-24 10:38:56 -0400
nebbiolo1Linux (Ubuntu 22.04.3 LTS) / x86_64  OK    OK    OK  UNNEEDED, same version is already published
palomino3Windows Server 2022 Datacenter / x64  OK    OK    OK    OK  UNNEEDED, same version is already published
lconwaymacOS 12.7.1 Monterey / x86_64  OK    OK    OK    OK  UNNEEDED, same version is already published
kunpeng2Linux (openEuler 22.03 LTS-SP1) / aarch64  OK    OK    OK  
Package 82/336HostnameOS / ArchINSTALLBUILDCHECKBUILD BIN
DEScan2 1.23.0  (landing page)
Dario Righelli
git_last_commit: 02d5fcb
git_last_commit_date: 2023-10-24 11:03:24 -0400
nebbiolo1Linux (Ubuntu 22.04.3 LTS) / x86_64  OK    OK    WARNINGS  UNNEEDED, same version is already published
palomino3Windows Server 2022 Datacenter / x64  OK    OK    WARNINGS    OK  UNNEEDED, same version is already published
lconwaymacOS 12.7.1 Monterey / x86_64  OK    OK    WARNINGS    OK  UNNEEDED, same version is already published
kunpeng2Linux (openEuler 22.03 LTS-SP1) / aarch64  OK    OK    WARNINGS  
Package 83/336HostnameOS / ArchINSTALLBUILDCHECKBUILD BIN
DESeq2 1.43.4  (landing page)
Michael Love
git_last_commit: ea8b66b
git_last_commit_date: 2024-03-06 10:44:09 -0400
nebbiolo1Linux (Ubuntu 22.04.3 LTS) / x86_64  OK    OK    OK  UNNEEDED, same version is already published
palomino3Windows Server 2022 Datacenter / x64  OK    OK    OK    OK  UNNEEDED, same version is already published
lconwaymacOS 12.7.1 Monterey / x86_64  OK    OK    OK    OK  UNNEEDED, same version is already published
kunpeng2Linux (openEuler 22.03 LTS-SP1) / aarch64  OK    OK    OK  
Package 84/336HostnameOS / ArchINSTALLBUILDCHECKBUILD BIN
DEsingle 1.23.0  (landing page)
Zhun Miao
git_last_commit: 78d0553
git_last_commit_date: 2023-10-24 11:04:12 -0400
nebbiolo1Linux (Ubuntu 22.04.3 LTS) / x86_64  OK    OK    OK  UNNEEDED, same version is already published
palomino3Windows Server 2022 Datacenter / x64  OK    OK    OK    OK  UNNEEDED, same version is already published
lconwaymacOS 12.7.1 Monterey / x86_64  OK    OK    OK    OK  UNNEEDED, same version is already published
kunpeng2Linux (openEuler 22.03 LTS-SP1) / aarch64  OK    OK    OK  
Package 85/336HostnameOS / ArchINSTALLBUILDCHECKBUILD BIN
DESpace 1.3.1  (landing page)
Peiying Cai
git_last_commit: 9454d20
git_last_commit_date: 2024-01-22 10:54:44 -0400
nebbiolo1Linux (Ubuntu 22.04.3 LTS) / x86_64  OK    OK    OK  UNNEEDED, same version is already published
palomino3Windows Server 2022 Datacenter / x64  OK    OK    OK    OK  UNNEEDED, same version is already published
lconwaymacOS 12.7.1 Monterey / x86_64  OK    ERROR  skippedskipped
kunpeng2Linux (openEuler 22.03 LTS-SP1) / aarch64  OK    OK    OK  
Package 86/336HostnameOS / ArchINSTALLBUILDCHECKBUILD BIN
DEWSeq 1.17.2  (landing page)
bioinformatics team Hentze
git_last_commit: 19e182d
git_last_commit_date: 2024-01-19 09:44:11 -0400
nebbiolo1Linux (Ubuntu 22.04.3 LTS) / x86_64  OK    OK    OK  UNNEEDED, same version is already published
palomino3Windows Server 2022 Datacenter / x64  OK    OK    OK    OK  UNNEEDED, same version is already published
lconwaymacOS 12.7.1 Monterey / x86_64  OK    OK    OK    OK  UNNEEDED, same version is already published
kunpeng2Linux (openEuler 22.03 LTS-SP1) / aarch64  OK    ERROR  skipped
Package 87/336HostnameOS / ArchINSTALLBUILDCHECKBUILD BIN
DEXSeq 1.49.1  (landing page)
Alejandro Reyes
git_last_commit: b41bd5c
git_last_commit_date: 2024-03-18 18:10:10 -0400
nebbiolo1Linux (Ubuntu 22.04.3 LTS) / x86_64  OK    OK    OK  UNNEEDED, same version is already published
palomino3Windows Server 2022 Datacenter / x64  OK    OK    OK    OK  UNNEEDED, same version is already published
lconwaymacOS 12.7.1 Monterey / x86_64  OK    OK    OK    OK  UNNEEDED, same version is already published
kunpeng2Linux (openEuler 22.03 LTS-SP1) / aarch64  OK    OK    OK  
Package 88/336HostnameOS / ArchINSTALLBUILDCHECKBUILD BIN
DiffBind 3.13.0  (landing page)
Rory Stark
git_last_commit: b8c5bbc
git_last_commit_date: 2023-10-24 09:48:02 -0400
nebbiolo1Linux (Ubuntu 22.04.3 LTS) / x86_64  OK    OK    OK  UNNEEDED, same version is already published
palomino3Windows Server 2022 Datacenter / x64  OK    OK    OK    OK  UNNEEDED, same version is already published
lconwaymacOS 12.7.1 Monterey / x86_64  OK    OK    OK    OK  UNNEEDED, same version is already published
kunpeng2Linux (openEuler 22.03 LTS-SP1) / aarch64  OK    OK    OK  
Package 89/336HostnameOS / ArchINSTALLBUILDCHECKBUILD BIN
Dino 1.9.0  (landing page)
Jared Brown
git_last_commit: ed70d22
git_last_commit_date: 2023-10-24 11:34:47 -0400
nebbiolo1Linux (Ubuntu 22.04.3 LTS) / x86_64  OK    OK    OK  UNNEEDED, same version is already published
palomino3Windows Server 2022 Datacenter / x64  OK    OK    OK    OK  UNNEEDED, same version is already published
lconwaymacOS 12.7.1 Monterey / x86_64  OK    OK    OK    OK  UNNEEDED, same version is already published
kunpeng2Linux (openEuler 22.03 LTS-SP1) / aarch64  OK    OK    OK  
Package 90/336HostnameOS / ArchINSTALLBUILDCHECKBUILD BIN
DMCFB 1.17.2  (landing page)
Farhad Shokoohi
git_last_commit: 4f8dbae
git_last_commit_date: 2024-01-31 21:36:57 -0400
nebbiolo1Linux (Ubuntu 22.04.3 LTS) / x86_64  OK    OK    OK  UNNEEDED, same version is already published
palomino3Windows Server 2022 Datacenter / x64  OK    OK    OK    OK  UNNEEDED, same version is already published
lconwaymacOS 12.7.1 Monterey / x86_64  OK    OK    OK    OK  UNNEEDED, same version is already published
kunpeng2Linux (openEuler 22.03 LTS-SP1) / aarch64  OK    OK    OK  
Package 91/336HostnameOS / ArchINSTALLBUILDCHECKBUILD BIN
DMCHMM 1.25.0  (landing page)
Farhad Shokoohi
git_last_commit: ea9be90
git_last_commit_date: 2023-10-24 10:59:14 -0400
nebbiolo1Linux (Ubuntu 22.04.3 LTS) / x86_64  OK    OK    OK  UNNEEDED, same version is already published
palomino3Windows Server 2022 Datacenter / x64  OK    OK    WARNINGS    OK  UNNEEDED, same version is already published
lconwaymacOS 12.7.1 Monterey / x86_64  OK    OK    OK    OK  UNNEEDED, same version is already published
kunpeng2Linux (openEuler 22.03 LTS-SP1) / aarch64  OK    OK    OK  
Package 92/336HostnameOS / ArchINSTALLBUILDCHECKBUILD BIN
dmrseq 1.23.1  (landing page)
Keegan Korthauer
git_last_commit: 1b2b0e7
git_last_commit_date: 2024-02-16 17:13:13 -0400
nebbiolo1Linux (Ubuntu 22.04.3 LTS) / x86_64  OK    OK    OK  UNNEEDED, same version is already published
palomino3Windows Server 2022 Datacenter / x64  OK    OK    OK    OK  UNNEEDED, same version is already published
lconwaymacOS 12.7.1 Monterey / x86_64  OK    ERROR  skippedskipped
kunpeng2Linux (openEuler 22.03 LTS-SP1) / aarch64  OK    OK    OK  
Package 93/336HostnameOS / ArchINSTALLBUILDCHECKBUILD BIN
doppelgangR 1.31.0  (landing page)
Levi Waldron
git_last_commit: 30d231b
git_last_commit_date: 2023-10-24 10:48:24 -0400
nebbiolo1Linux (Ubuntu 22.04.3 LTS) / x86_64  OK    OK    OK  UNNEEDED, same version is already published
palomino3Windows Server 2022 Datacenter / x64  OK    OK    OK    OK  UNNEEDED, same version is already published
lconwaymacOS 12.7.1 Monterey / x86_64  OK    OK    OK    OK  UNNEEDED, same version is already published
kunpeng2Linux (openEuler 22.03 LTS-SP1) / aarch64  OK    OK    OK  
Package 94/336HostnameOS / ArchINSTALLBUILDCHECKBUILD BIN
DOSE 3.29.2  (landing page)
Guangchuang Yu
git_last_commit: ef880ac
git_last_commit_date: 2023-12-10 04:19:47 -0400
nebbiolo1Linux (Ubuntu 22.04.3 LTS) / x86_64  OK    OK    OK  UNNEEDED, same version is already published
palomino3Windows Server 2022 Datacenter / x64  OK    OK    OK    OK  UNNEEDED, same version is already published
lconwaymacOS 12.7.1 Monterey / x86_64  OK    OK    OK    OK  UNNEEDED, same version is already published
kunpeng2Linux (openEuler 22.03 LTS-SP1) / aarch64  OK    OK    OK  
Package 95/336HostnameOS / ArchINSTALLBUILDCHECKBUILD BIN
doubletrouble 1.3.6  (landing page)
Fabrício Almeida-Silva
git_last_commit: 21e73e7
git_last_commit_date: 2024-03-20 05:00:03 -0400
nebbiolo1Linux (Ubuntu 22.04.3 LTS) / x86_64  OK    OK    OK  UNNEEDED, same version is already published
palomino3Windows Server 2022 Datacenter / x64  OK    OK    OK    OK  UNNEEDED, same version is already published
lconwaymacOS 12.7.1 Monterey / x86_64  OK    OK    OK    OK  UNNEEDED, same version is already published
kunpeng2Linux (openEuler 22.03 LTS-SP1) / aarch64  OK    OK    OK  
Package 96/336HostnameOS / ArchINSTALLBUILDCHECKBUILD BIN
dreamlet 1.1.18  (landing page)
Gabriel Hoffman
git_last_commit: 836366e
git_last_commit_date: 2024-02-14 12:30:42 -0400
nebbiolo1Linux (Ubuntu 22.04.3 LTS) / x86_64  OK    OK    OK  UNNEEDED, same version is already published
palomino3Windows Server 2022 Datacenter / x64  OK    OK    OK    OK  UNNEEDED, same version is already published
lconwaymacOS 12.7.1 Monterey / x86_64  OK    ERROR  skippedskipped
kunpeng2Linux (openEuler 22.03 LTS-SP1) / aarch64  OK    OK    OK  
Package 97/336HostnameOS / ArchINSTALLBUILDCHECKBUILD BIN
DRIMSeq 1.31.0  (landing page)
Malgorzata Nowicka
git_last_commit: 9bb3e6a
git_last_commit_date: 2023-10-24 10:48:39 -0400
nebbiolo1Linux (Ubuntu 22.04.3 LTS) / x86_64  OK    OK    WARNINGS  UNNEEDED, same version is already published
palomino3Windows Server 2022 Datacenter / x64  OK    OK    WARNINGS    OK  UNNEEDED, same version is already published
lconwaymacOS 12.7.1 Monterey / x86_64  OK    OK    WARNINGS    OK  UNNEEDED, same version is already published
kunpeng2Linux (openEuler 22.03 LTS-SP1) / aarch64  OK    OK    WARNINGS  
Package 98/336HostnameOS / ArchINSTALLBUILDCHECKBUILD BIN
DropletUtils 1.23.1  (landing page)
Jonathan Griffiths
git_last_commit: e659310
git_last_commit_date: 2024-03-12 18:23:11 -0400
nebbiolo1Linux (Ubuntu 22.04.3 LTS) / x86_64  OK    OK    WARNINGS  UNNEEDED, same version is already published
palomino3Windows Server 2022 Datacenter / x64  OK    OK    OK    OK  UNNEEDED, same version is already published
lconwaymacOS 12.7.1 Monterey / x86_64  OK    OK    WARNINGS    OK  UNNEEDED, same version is already published
kunpeng2Linux (openEuler 22.03 LTS-SP1) / aarch64  OK    OK    ERROR  
Package 99/336HostnameOS / ArchINSTALLBUILDCHECKBUILD BIN
DSS 2.51.1  (landing page)
Hao Wu , Hao Feng
git_last_commit: e1e5511
git_last_commit_date: 2024-01-10 20:20:13 -0400
nebbiolo1Linux (Ubuntu 22.04.3 LTS) / x86_64  OK    OK    WARNINGS  UNNEEDED, same version is already published
palomino3Windows Server 2022 Datacenter / x64  OK    OK    WARNINGS    OK  UNNEEDED, same version is already published
lconwaymacOS 12.7.1 Monterey / x86_64  OK    OK    WARNINGS    OK  UNNEEDED, same version is already published
kunpeng2Linux (openEuler 22.03 LTS-SP1) / aarch64  OK    OK    WARNINGS  
Package 100/336HostnameOS / ArchINSTALLBUILDCHECKBUILD BIN
Dune 1.15.0  (landing page)
Hector Roux de Bezieux
git_last_commit: 111e9a4
git_last_commit_date: 2023-10-24 11:20:25 -0400
nebbiolo1Linux (Ubuntu 22.04.3 LTS) / x86_64  OK    OK    OK  UNNEEDED, same version is already published
palomino3Windows Server 2022 Datacenter / x64  OK    OK    OK    OK  UNNEEDED, same version is already published
lconwaymacOS 12.7.1 Monterey / x86_64  OK    OK    OK    OK  UNNEEDED, same version is already published
kunpeng2Linux (openEuler 22.03 LTS-SP1) / aarch64  OK    OK    OK  
Package 101/336HostnameOS / ArchINSTALLBUILDCHECKBUILD BIN
easier 1.9.0  (landing page)
Oscar Lapuente-Santana
git_last_commit: 99b7351
git_last_commit_date: 2023-10-24 11:38:21 -0400
nebbiolo1Linux (Ubuntu 22.04.3 LTS) / x86_64  OK    OK    OK  UNNEEDED, same version is already published
palomino3Windows Server 2022 Datacenter / x64  OK    OK    OK    OK  UNNEEDED, same version is already published
lconwaymacOS 12.7.1 Monterey / x86_64  OK    ERROR  skippedskipped
kunpeng2Linux (openEuler 22.03 LTS-SP1) / aarch64  OK    OK    OK  
Package 102/336HostnameOS / ArchINSTALLBUILDCHECKBUILD BIN
easyRNASeq 2.39.0  (landing page)
Nicolas Delhomme
git_last_commit: 3c9525d
git_last_commit_date: 2023-10-24 09:49:08 -0400
nebbiolo1Linux (Ubuntu 22.04.3 LTS) / x86_64  OK    OK    OK  UNNEEDED, same version is already published
palomino3Windows Server 2022 Datacenter / x64  OK    OK    OK    OK  UNNEEDED, same version is already published
lconwaymacOS 12.7.1 Monterey / x86_64  OK    OK    OK    OK  UNNEEDED, same version is already published
kunpeng2Linux (openEuler 22.03 LTS-SP1) / aarch64  OK    OK    OK  
Package 103/336HostnameOS / ArchINSTALLBUILDCHECKBUILD BIN
EMDomics 2.33.0  (landing page)
Sadhika Malladi and Daniel Schmolze
git_last_commit: 1ea72b3
git_last_commit_date: 2023-10-24 10:43:33 -0400
nebbiolo1Linux (Ubuntu 22.04.3 LTS) / x86_64  OK    OK    OK  UNNEEDED, same version is already published
palomino3Windows Server 2022 Datacenter / x64  OK    OK    OK    OK  UNNEEDED, same version is already published
lconwaymacOS 12.7.1 Monterey / x86_64  OK    OK    OK    OK  UNNEEDED, same version is already published
kunpeng2Linux (openEuler 22.03 LTS-SP1) / aarch64  OK    OK    OK  
Package 104/336HostnameOS / ArchINSTALLBUILDCHECKBUILD BIN
enhancerHomologSearch 1.9.6  (landing page)
Jianhong Ou
git_last_commit: 552bbcd
git_last_commit_date: 2024-03-22 16:20:30 -0400
nebbiolo1Linux (Ubuntu 22.04.3 LTS) / x86_64  ERROR    ERROR  skipped
palomino3Windows Server 2022 Datacenter / x64  ERROR    ERROR  skippedskipped
lconwaymacOS 12.7.1 Monterey / x86_64  ERROR    ERROR  skippedskipped
kunpeng2Linux (openEuler 22.03 LTS-SP1) / aarch64  ERROR    ERROR  skipped
Package 105/336HostnameOS / ArchINSTALLBUILDCHECKBUILD BIN
epimutacions 1.7.1  (landing page)
Dolors Pelegri-Siso
git_last_commit: deb5e62
git_last_commit_date: 2023-11-03 07:38:00 -0400
nebbiolo1Linux (Ubuntu 22.04.3 LTS) / x86_64  OK    OK    OK  UNNEEDED, same version is already published
palomino3Windows Server 2022 Datacenter / x64  OK    OK    OK    OK  UNNEEDED, same version is already published
lconwaymacOS 12.7.1 Monterey / x86_64  OK    ERROR  skippedskipped
kunpeng2Linux (openEuler 22.03 LTS-SP1) / aarch64  OK    OK    OK  
Package 106/336HostnameOS / ArchINSTALLBUILDCHECKBUILD BIN
epistasisGA 1.5.0  (landing page)
Michael Nodzenski
git_last_commit: 08dc0f6
git_last_commit_date: 2023-10-24 11:44:31 -0400
nebbiolo1Linux (Ubuntu 22.04.3 LTS) / x86_64  OK    OK    OK  UNNEEDED, same version is already published
palomino3Windows Server 2022 Datacenter / x64  OK    OK    OK    OK  UNNEEDED, same version is already published
lconwaymacOS 12.7.1 Monterey / x86_64  OK    OK    OK    OK  UNNEEDED, same version is already published
kunpeng2Linux (openEuler 22.03 LTS-SP1) / aarch64  OK    OK    OK  
Package 107/336HostnameOS / ArchINSTALLBUILDCHECKBUILD BIN
erma 1.19.0  (landing page)
VJ Carey
git_last_commit: 6755a45
git_last_commit_date: 2023-10-24 10:43:59 -0400
nebbiolo1Linux (Ubuntu 22.04.3 LTS) / x86_64  OK    OK    OK  UNNEEDED, same version is already published
palomino3Windows Server 2022 Datacenter / x64  OK    OK    OK    OK  UNNEEDED, same version is already published
lconwaymacOS 12.7.1 Monterey / x86_64  OK    OK    OK    OK  UNNEEDED, same version is already published
kunpeng2Linux (openEuler 22.03 LTS-SP1) / aarch64  OK    OK    OK  
Package 108/336HostnameOS / ArchINSTALLBUILDCHECKBUILD BIN
ERSSA 1.21.0  (landing page)
Zixuan Shao
git_last_commit: c72e560
git_last_commit_date: 2023-10-24 11:07:57 -0400
nebbiolo1Linux (Ubuntu 22.04.3 LTS) / x86_64  OK    OK    OK  UNNEEDED, same version is already published
palomino3Windows Server 2022 Datacenter / x64  OK    OK    OK    OK  UNNEEDED, same version is already published
lconwaymacOS 12.7.1 Monterey / x86_64  OK    OK    OK    OK  UNNEEDED, same version is already published
kunpeng2Linux (openEuler 22.03 LTS-SP1) / aarch64  OK    OK    OK  
Package 109/336HostnameOS / ArchINSTALLBUILDCHECKBUILD BIN
escape 1.99.1  (landing page)
Nick Borcherding
git_last_commit: 99fed64
git_last_commit_date: 2024-03-25 07:24:52 -0400
nebbiolo1Linux (Ubuntu 22.04.3 LTS) / x86_64  OK    OK    OK  UNNEEDED, same version is already published
palomino3Windows Server 2022 Datacenter / x64  OK    OK    OK    OK  UNNEEDED, same version is already published
lconwaymacOS 12.7.1 Monterey / x86_64  OK    OK    OK    OK  UNNEEDED, same version is already published
kunpeng2Linux (openEuler 22.03 LTS-SP1) / aarch64  OK    OK    ERROR  
Package 110/336HostnameOS / ArchINSTALLBUILDCHECKBUILD BIN
EWCE 1.11.3  (landing page)
Alan Murphy
git_last_commit: 3838e2c
git_last_commit_date: 2023-11-21 08:06:56 -0400
nebbiolo1Linux (Ubuntu 22.04.3 LTS) / x86_64  OK    OK    OK  UNNEEDED, same version is already published
palomino3Windows Server 2022 Datacenter / x64  OK    OK    OK    OK  UNNEEDED, same version is already published
lconwaymacOS 12.7.1 Monterey / x86_64  OK    ERROR  skippedskipped
kunpeng2Linux (openEuler 22.03 LTS-SP1) / aarch64  OK    OK    OK  
Package 111/336HostnameOS / ArchINSTALLBUILDCHECKBUILD BIN
exomePeak2 1.15.1  (landing page)
Zhen Wei
git_last_commit: 1c8c68c
git_last_commit_date: 2024-02-29 13:10:58 -0400
nebbiolo1Linux (Ubuntu 22.04.3 LTS) / x86_64  OK    OK    ERROR  
palomino3Windows Server 2022 Datacenter / x64  OK    OK    OK    OK  UNNEEDED, same version is already published
lconwaymacOS 12.7.1 Monterey / x86_64  OK    OK    OK    OK  UNNEEDED, same version is already published
kunpeng2Linux (openEuler 22.03 LTS-SP1) / aarch64  OK    OK    ERROR  
Package 112/336HostnameOS / ArchINSTALLBUILDCHECKBUILD BIN
extraChIPs 1.7.5  (landing page)
Stevie Pederson
git_last_commit: 100cd56
git_last_commit_date: 2024-03-04 21:19:47 -0400
nebbiolo1Linux (Ubuntu 22.04.3 LTS) / x86_64  OK    OK    OK  UNNEEDED, same version is already published
palomino3Windows Server 2022 Datacenter / x64  OK    OK    OK    OK  UNNEEDED, same version is already published
lconwaymacOS 12.7.1 Monterey / x86_64  OK    OK    OK    OK  UNNEEDED, same version is already published
kunpeng2Linux (openEuler 22.03 LTS-SP1) / aarch64  OK    OK    OK  
Package 113/336HostnameOS / ArchINSTALLBUILDCHECKBUILD BIN
factR 1.5.0  (landing page)
Fursham Hamid
git_last_commit: d349fb4
git_last_commit_date: 2023-10-24 11:42:45 -0400
nebbiolo1Linux (Ubuntu 22.04.3 LTS) / x86_64  OK    OK    OK  UNNEEDED, same version is already published
palomino3Windows Server 2022 Datacenter / x64  OK    OK    OK    OK  UNNEEDED, same version is already published
lconwaymacOS 12.7.1 Monterey / x86_64  OK    ERROR  skippedskipped
kunpeng2Linux (openEuler 22.03 LTS-SP1) / aarch64  OK    OK    OK  
Package 114/336HostnameOS / ArchINSTALLBUILDCHECKBUILD BIN
faers 0.99.7  (landing page)
Yun Peng
git_last_commit: 14c0e7d
git_last_commit_date: 2024-03-18 08:32:42 -0400
nebbiolo1Linux (Ubuntu 22.04.3 LTS) / x86_64  OK    OK    OK  UNNEEDED, same version is already published
palomino3Windows Server 2022 Datacenter / x64  OK    OK    OK    OK  UNNEEDED, same version is already published
lconwaymacOS 12.7.1 Monterey / x86_64  OK    OK    OK    OK  UNNEEDED, same version is already published
kunpeng2Linux (openEuler 22.03 LTS-SP1) / aarch64  OK    OK    OK  
Package 115/336HostnameOS / ArchINSTALLBUILDCHECKBUILD BIN
FEAST 1.11.0  (landing page)
Kenong Su
git_last_commit: 9dfcb48
git_last_commit_date: 2023-10-24 11:32:31 -0400
nebbiolo1Linux (Ubuntu 22.04.3 LTS) / x86_64  OK    OK    OK  UNNEEDED, same version is already published
palomino3Windows Server 2022 Datacenter / x64  OK    OK    OK    OK  UNNEEDED, same version is already published
lconwaymacOS 12.7.1 Monterey / x86_64  OK    OK    OK    OK  UNNEEDED, same version is already published
kunpeng2Linux (openEuler 22.03 LTS-SP1) / aarch64  OK    OK    OK  
Package 116/336HostnameOS / ArchINSTALLBUILDCHECKBUILD BIN
fgsea 1.29.0  (landing page)
Alexey Sergushichev
git_last_commit: f250652
git_last_commit_date: 2023-10-26 10:26:53 -0400
nebbiolo1Linux (Ubuntu 22.04.3 LTS) / x86_64  OK    OK    OK  UNNEEDED, same version is already published
palomino3Windows Server 2022 Datacenter / x64  OK    OK    OK    OK  UNNEEDED, same version is already published
lconwaymacOS 12.7.1 Monterey / x86_64  OK    OK    WARNINGS    OK  UNNEEDED, same version is already published
kunpeng2Linux (openEuler 22.03 LTS-SP1) / aarch64  OK    OK    OK  
Package 117/336HostnameOS / ArchINSTALLBUILDCHECKBUILD BIN
FindIT2 1.9.1  (landing page)
Guandong Shang
git_last_commit: ad4f102
git_last_commit_date: 2024-02-27 03:41:20 -0400
nebbiolo1Linux (Ubuntu 22.04.3 LTS) / x86_64  OK    OK    OK  UNNEEDED, same version is already published
palomino3Windows Server 2022 Datacenter / x64  OK    OK    OK    OK  UNNEEDED, same version is already published
lconwaymacOS 12.7.1 Monterey / x86_64  OK    OK    OK    OK  UNNEEDED, same version is already published
kunpeng2Linux (openEuler 22.03 LTS-SP1) / aarch64  OK    OK    OK  
Package 118/336HostnameOS / ArchINSTALLBUILDCHECKBUILD BIN
flowcatchR 1.37.0  (landing page)
Federico Marini
git_last_commit: 5ab8fac
git_last_commit_date: 2023-10-27 04:25:11 -0400
nebbiolo1Linux (Ubuntu 22.04.3 LTS) / x86_64  OK    OK    OK  UNNEEDED, same version is already published
palomino3Windows Server 2022 Datacenter / x64  OK    OK    OK    OK  UNNEEDED, same version is already published
lconwaymacOS 12.7.1 Monterey / x86_64  OK    OK    OK    OK  UNNEEDED, same version is already published
kunpeng2Linux (openEuler 22.03 LTS-SP1) / aarch64  OK    OK    OK  
Package 119/336HostnameOS / ArchINSTALLBUILDCHECKBUILD BIN
flowSpecs 1.17.0  (landing page)
Jakob Theorell
git_last_commit: b7f0b89
git_last_commit_date: 2023-10-24 11:16:32 -0400
nebbiolo1Linux (Ubuntu 22.04.3 LTS) / x86_64  OK    OK    OK  UNNEEDED, same version is already published
palomino3Windows Server 2022 Datacenter / x64  OK    OK    OK    OK  UNNEEDED, same version is already published
lconwaymacOS 12.7.1 Monterey / x86_64  OK    OK    OK    OK  UNNEEDED, same version is already published
kunpeng2Linux (openEuler 22.03 LTS-SP1) / aarch64  OK    OK    OK  
Package 120/336HostnameOS / ArchINSTALLBUILDCHECKBUILD BIN
FRASER 1.15.1  (landing page)
Christian Mertes
git_last_commit: e68992a
git_last_commit_date: 2024-02-11 12:49:35 -0400
nebbiolo1Linux (Ubuntu 22.04.3 LTS) / x86_64  OK    OK    OK  UNNEEDED, same version is already published
palomino3Windows Server 2022 Datacenter / x64  OK    OK    OK    OK  UNNEEDED, same version is already published
lconwaymacOS 12.7.1 Monterey / x86_64  OK    OK    OK    OK  UNNEEDED, same version is already published
kunpeng2Linux (openEuler 22.03 LTS-SP1) / aarch64  OK    OK    ERROR  
Package 121/336HostnameOS / ArchINSTALLBUILDCHECKBUILD BIN
GDCRNATools 1.23.0  (landing page)
Ruidong Li
git_last_commit: fbca141
git_last_commit_date: 2023-10-24 11:02:21 -0400
nebbiolo1Linux (Ubuntu 22.04.3 LTS) / x86_64  OK    OK    OK  UNNEEDED, same version is already published
palomino3Windows Server 2022 Datacenter / x64  OK    OK    OK    OK  UNNEEDED, same version is already published
lconwaymacOS 12.7.1 Monterey / x86_64  OK    OK    OK    OK  UNNEEDED, same version is already published
kunpeng2Linux (openEuler 22.03 LTS-SP1) / aarch64  OK    OK    OK  
Package 122/336HostnameOS / ArchINSTALLBUILDCHECKBUILD BIN
gDNAx 1.1.11  (landing page)
Beatriz Calvo-Serra
git_last_commit: 16d970b
git_last_commit_date: 2024-03-22 14:01:29 -0400
nebbiolo1Linux (Ubuntu 22.04.3 LTS) / x86_64  OK    OK    OK  UNNEEDED, same version is already published
palomino3Windows Server 2022 Datacenter / x64  OK    OK    OK    OK  UNNEEDED, same version is already published
lconwaymacOS 12.7.1 Monterey / x86_64  OK    ERROR  skippedskipped
kunpeng2Linux (openEuler 22.03 LTS-SP1) / aarch64  OK    OK    OK  
Package 123/336HostnameOS / ArchINSTALLBUILDCHECKBUILD BIN
gDRcore 1.1.16  (landing page)
Arkadiusz Gladki
git_last_commit: 8e18cdc
git_last_commit_date: 2024-03-15 07:54:57 -0400
nebbiolo1Linux (Ubuntu 22.04.3 LTS) / x86_64  OK    OK    OK  UNNEEDED, same version is already published
palomino3Windows Server 2022 Datacenter / x64  OK    OK    OK    OK  UNNEEDED, same version is already published
lconwaymacOS 12.7.1 Monterey / x86_64  OK    OK    OK    OK  UNNEEDED, same version is already published
kunpeng2Linux (openEuler 22.03 LTS-SP1) / aarch64  OK    OK    OK  
Package 124/336HostnameOS / ArchINSTALLBUILDCHECKBUILD BIN
gDRutils 1.1.10  (landing page)
Arkadiusz Gladki
git_last_commit: 93546ad
git_last_commit_date: 2024-03-14 10:55:41 -0400
nebbiolo1Linux (Ubuntu 22.04.3 LTS) / x86_64  OK    OK    OK  UNNEEDED, same version is already published
palomino3Windows Server 2022 Datacenter / x64  OK    OK    OK    OK  UNNEEDED, same version is already published
lconwaymacOS 12.7.1 Monterey / x86_64  OK    OK    OK    OK  UNNEEDED, same version is already published
kunpeng2Linux (openEuler 22.03 LTS-SP1) / aarch64  OK    OK    OK  
Package 125/336HostnameOS / ArchINSTALLBUILDCHECKBUILD BIN
GENESIS 2.33.1  (landing page)
Stephanie M. Gogarten
git_last_commit: 25933a8
git_last_commit_date: 2023-11-08 01:17:26 -0400
nebbiolo1Linux (Ubuntu 22.04.3 LTS) / x86_64  OK    OK    OK  UNNEEDED, same version is already published
palomino3Windows Server 2022 Datacenter / x64  OK    OK    OK    OK  UNNEEDED, same version is already published
lconwaymacOS 12.7.1 Monterey / x86_64  OK    OK    OK    OK  UNNEEDED, same version is already published
kunpeng2Linux (openEuler 22.03 LTS-SP1) / aarch64  OK    OK    OK  
Package 126/336HostnameOS / ArchINSTALLBUILDCHECKBUILD BIN
GenomAutomorphism 1.5.0  (landing page)
Robersy Sanchez
git_last_commit: cca057b
git_last_commit_date: 2023-10-24 11:43:17 -0400
nebbiolo1Linux (Ubuntu 22.04.3 LTS) / x86_64  OK    OK    OK  UNNEEDED, same version is already published
palomino3Windows Server 2022 Datacenter / x64  OK    OK    OK    OK  UNNEEDED, same version is already published
lconwaymacOS 12.7.1 Monterey / x86_64  OK    OK    OK    OK  UNNEEDED, same version is already published
kunpeng2Linux (openEuler 22.03 LTS-SP1) / aarch64  OK    OK    OK  
Package 127/336HostnameOS / ArchINSTALLBUILDCHECKBUILD BIN
GenomicAlignments 1.39.5  (landing page)
Hervé Pagès
git_last_commit: 3479ba7
git_last_commit_date: 2024-03-25 15:52:40 -0400
nebbiolo1Linux (Ubuntu 22.04.3 LTS) / x86_64  OK    OK    OK  UNNEEDED, same version is already published
palomino3Windows Server 2022 Datacenter / x64  OK    OK    OK    OK  UNNEEDED, same version is already published
lconwaymacOS 12.7.1 Monterey / x86_64  OK    OK    OK    OK  UNNEEDED, same version is already published
kunpeng2Linux (openEuler 22.03 LTS-SP1) / aarch64  OK    OK    OK  
Package 128/336HostnameOS / ArchINSTALLBUILDCHECKBUILD BIN
GenomicFiles 1.39.0  (landing page)
Bioconductor Package Maintainer
git_last_commit: 291e847
git_last_commit_date: 2023-10-24 09:58:47 -0400
nebbiolo1Linux (Ubuntu 22.04.3 LTS) / x86_64  OK    OK    WARNINGS  UNNEEDED, same version is already published
palomino3Windows Server 2022 Datacenter / x64  OK    OK    ERROR    OK  
lconwaymacOS 12.7.1 Monterey / x86_64  OK    OK    WARNINGS    OK  UNNEEDED, same version is already published
kunpeng2Linux (openEuler 22.03 LTS-SP1) / aarch64  OK    OK    WARNINGS  
Package 129/336HostnameOS / ArchINSTALLBUILDCHECKBUILD BIN
GloScope 1.1.0  (landing page)
William Torous
git_last_commit: bfcba11
git_last_commit_date: 2023-10-24 11:51:15 -0400
nebbiolo1Linux (Ubuntu 22.04.3 LTS) / x86_64  OK    OK    OK  UNNEEDED, same version is already published
palomino3Windows Server 2022 Datacenter / x64  OK    OK    OK    OK  UNNEEDED, same version is already published
lconwaymacOS 12.7.1 Monterey / x86_64  OK    OK    OK    OK  UNNEEDED, same version is already published
kunpeng2Linux (openEuler 22.03 LTS-SP1) / aarch64  OK    OK    OK  
Package 130/336HostnameOS / ArchINSTALLBUILDCHECKBUILD BIN
gmapR 1.45.0  (landing page)
Michael Lawrence
git_last_commit: acb82a0
git_last_commit_date: 2024-01-18 16:28:42 -0400
nebbiolo1Linux (Ubuntu 22.04.3 LTS) / x86_64  OK    OK    WARNINGS  UNNEEDED, same version is already published
palomino3Windows Server 2022 Datacenter / x64... NOT SUPPORTED ...
lconwaymacOS 12.7.1 Monterey / x86_64  OK    OK    WARNINGS    OK  UNNEEDED, same version is already published
kunpeng2Linux (openEuler 22.03 LTS-SP1) / aarch64  OK    OK    WARNINGS  
Package 131/336HostnameOS / ArchINSTALLBUILDCHECKBUILD BIN
gscreend 1.17.3  (landing page)
Katharina Imkeller
git_last_commit: 7a23d7a
git_last_commit_date: 2024-03-11 11:49:10 -0400
nebbiolo1Linux (Ubuntu 22.04.3 LTS) / x86_64  OK    OK    OK  UNNEEDED, same version is already published
palomino3Windows Server 2022 Datacenter / x64  OK    OK    OK    OK  UNNEEDED, same version is already published
lconwaymacOS 12.7.1 Monterey / x86_64  OK    OK    OK    OK  UNNEEDED, same version is already published
kunpeng2Linux (openEuler 22.03 LTS-SP1) / aarch64  OK    OK    OK  
Package 132/336HostnameOS / ArchINSTALLBUILDCHECKBUILD BIN
GSEABenchmarkeR 1.23.0  (landing page)
Ludwig Geistlinger
git_last_commit: 4e7d8d3
git_last_commit_date: 2023-10-24 11:03:50 -0400
nebbiolo1Linux (Ubuntu 22.04.3 LTS) / x86_64  OK    OK    OK  UNNEEDED, same version is already published
palomino3Windows Server 2022 Datacenter / x64  OK    OK    OK    OK  UNNEEDED, same version is already published
lconwaymacOS 12.7.1 Monterey / x86_64  OK    OK    OK    OK  UNNEEDED, same version is already published
kunpeng2Linux (openEuler 22.03 LTS-SP1) / aarch64  OK    ERROR  skipped
Package 133/336HostnameOS / ArchINSTALLBUILDCHECKBUILD BIN
GSVA 1.51.7  (landing page)
Robert Castelo
git_last_commit: 929329c
git_last_commit_date: 2024-03-20 09:41:33 -0400
nebbiolo1Linux (Ubuntu 22.04.3 LTS) / x86_64  OK    OK    OK  UNNEEDED, same version is already published
palomino3Windows Server 2022 Datacenter / x64  OK    OK    OK    OK  UNNEEDED, same version is already published
lconwaymacOS 12.7.1 Monterey / x86_64  OK    OK    OK    OK  UNNEEDED, same version is already published
kunpeng2Linux (openEuler 22.03 LTS-SP1) / aarch64  OK    OK    OK  
Package 134/336HostnameOS / ArchINSTALLBUILDCHECKBUILD BIN
h5vc 2.37.0  (landing page)
Paul Theodor Pyl
git_last_commit: 7d31d62
git_last_commit_date: 2023-10-24 09:56:42 -0400
nebbiolo1Linux (Ubuntu 22.04.3 LTS) / x86_64  OK    OK    WARNINGS  UNNEEDED, same version is already published
palomino3Windows Server 2022 Datacenter / x64  OK    OK    WARNINGS    OK  UNNEEDED, same version is already published
lconwaymacOS 12.7.1 Monterey / x86_64  OK    OK    WARNINGS    OK  UNNEEDED, same version is already published
kunpeng2Linux (openEuler 22.03 LTS-SP1) / aarch64  OK    OK    WARNINGS  
Package 135/336HostnameOS / ArchINSTALLBUILDCHECKBUILD BIN
HiCBricks 1.21.0  (landing page)
Koustav Pal
git_last_commit: a838c25
git_last_commit_date: 2023-10-24 11:08:46 -0400
nebbiolo1Linux (Ubuntu 22.04.3 LTS) / x86_64  OK    OK    OK  UNNEEDED, same version is already published
palomino3Windows Server 2022 Datacenter / x64  OK    OK    OK    OK  UNNEEDED, same version is already published
lconwaymacOS 12.7.1 Monterey / x86_64  OK    OK    OK    OK  UNNEEDED, same version is already published
kunpeng2Linux (openEuler 22.03 LTS-SP1) / aarch64  OK    OK    OK  
Package 136/336HostnameOS / ArchINSTALLBUILDCHECKBUILD BIN
HiCcompare 1.25.0  (landing page)
Mikhail Dozmorov
git_last_commit: c7e8c86
git_last_commit_date: 2023-10-24 10:58:31 -0400
nebbiolo1Linux (Ubuntu 22.04.3 LTS) / x86_64  OK    OK    OK  UNNEEDED, same version is already published
palomino3Windows Server 2022 Datacenter / x64  OK    OK    OK    OK  UNNEEDED, same version is already published
lconwaymacOS 12.7.1 Monterey / x86_64  OK    OK    OK    OK  UNNEEDED, same version is already published
kunpeng2Linux (openEuler 22.03 LTS-SP1) / aarch64  OK    OK    OK  
Package 137/336HostnameOS / ArchINSTALLBUILDCHECKBUILD BIN
HiCDOC 1.5.1  (landing page)
Maigné Élise
git_last_commit: cc36ead
git_last_commit_date: 2024-02-19 03:51:18 -0400
nebbiolo1Linux (Ubuntu 22.04.3 LTS) / x86_64  OK    OK    OK  UNNEEDED, same version is already published
palomino3Windows Server 2022 Datacenter / x64  OK    OK    OK    OK  UNNEEDED, same version is already published
lconwaymacOS 12.7.1 Monterey / x86_64  OK    OK    OK    OK  UNNEEDED, same version is already published
kunpeng2Linux (openEuler 22.03 LTS-SP1) / aarch64  OK    OK    OK  
Package 138/336HostnameOS / ArchINSTALLBUILDCHECKBUILD BIN
HiCExperiment 1.3.0  (landing page)
Jacques Serizay
git_last_commit: a57da20
git_last_commit_date: 2024-01-10 08:47:50 -0400
nebbiolo1Linux (Ubuntu 22.04.3 LTS) / x86_64  OK    OK    OK  UNNEEDED, same version is already published
palomino3Windows Server 2022 Datacenter / x64  OK    OK    OK    OK  UNNEEDED, same version is already published
lconwaymacOS 12.7.1 Monterey / x86_64  OK    OK    OK    OK  UNNEEDED, same version is already published
kunpeng2Linux (openEuler 22.03 LTS-SP1) / aarch64  OK    OK    OK  
Package 139/336HostnameOS / ArchINSTALLBUILDCHECKBUILD BIN
HiContacts 1.5.0  (landing page)
Jacques Serizay
git_last_commit: 19222bb
git_last_commit_date: 2024-01-10 09:01:45 -0400
nebbiolo1Linux (Ubuntu 22.04.3 LTS) / x86_64  OK    OK    OK  UNNEEDED, same version is already published
palomino3Windows Server 2022 Datacenter / x64  OK    OK    OK    OK  UNNEEDED, same version is already published
lconwaymacOS 12.7.1 Monterey / x86_64  OK    OK    OK    OK  UNNEEDED, same version is already published
kunpeng2Linux (openEuler 22.03 LTS-SP1) / aarch64  OK    OK    OK  
Package 140/336HostnameOS / ArchINSTALLBUILDCHECKBUILD BIN
hiReadsProcessor 1.39.0  (landing page)
Nirav V Malani
git_last_commit: ff35660
git_last_commit_date: 2023-10-24 10:00:50 -0400
nebbiolo1Linux (Ubuntu 22.04.3 LTS) / x86_64  OK    OK    OK  UNNEEDED, same version is already published
palomino3Windows Server 2022 Datacenter / x64... NOT SUPPORTED ...
lconwaymacOS 12.7.1 Monterey / x86_64  OK    OK    OK    OK  UNNEEDED, same version is already published
kunpeng2Linux (openEuler 22.03 LTS-SP1) / aarch64  OK    OK    OK  
Package 141/336HostnameOS / ArchINSTALLBUILDCHECKBUILD BIN
HTSeqGenie 4.33.0  (landing page)
Jens Reeder
git_last_commit: a6e457f
git_last_commit_date: 2023-10-24 09:51:39 -0400
nebbiolo1Linux (Ubuntu 22.04.3 LTS) / x86_64  OK    OK    OK  UNNEEDED, same version is already published
palomino3Windows Server 2022 Datacenter / x64... NOT SUPPORTED ...
lconwaymacOS 12.7.1 Monterey / x86_64... NOT SUPPORTED ...
kunpeng2Linux (openEuler 22.03 LTS-SP1) / aarch64  OK    OK    OK  
Package 142/336HostnameOS / ArchINSTALLBUILDCHECKBUILD BIN
HTSFilter 1.43.0  (landing page)
Andrea Rau
git_last_commit: 4617029
git_last_commit_date: 2023-10-24 09:52:42 -0400
nebbiolo1Linux (Ubuntu 22.04.3 LTS) / x86_64  OK    OK    OK  UNNEEDED, same version is already published
palomino3Windows Server 2022 Datacenter / x64  OK    OK    OK    OK  UNNEEDED, same version is already published
lconwaymacOS 12.7.1 Monterey / x86_64  OK    OK    OK    OK  UNNEEDED, same version is already published
kunpeng2Linux (openEuler 22.03 LTS-SP1) / aarch64  OK    OK    OK  
Package 143/336HostnameOS / ArchINSTALLBUILDCHECKBUILD BIN
HybridExpress 0.99.0  (landing page)
Fabricio Almeida-Silva
git_last_commit: 881cd7e
git_last_commit_date: 2024-02-23 06:04:46 -0400
nebbiolo1Linux (Ubuntu 22.04.3 LTS) / x86_64  OK    OK    OK  YES
palomino3Windows Server 2022 Datacenter / x64  OK    OK    OK    OK  YES
lconwaymacOS 12.7.1 Monterey / x86_64  OK    OK    OK    OK  YES
kunpeng2Linux (openEuler 22.03 LTS-SP1) / aarch64  OK    OK    OK  
Package 144/336HostnameOS / ArchINSTALLBUILDCHECKBUILD BIN
iasva 1.21.0  (landing page)
Donghyung Lee , Anthony Cheng
git_last_commit: 31e83bf
git_last_commit_date: 2023-10-24 11:05:46 -0400
nebbiolo1Linux (Ubuntu 22.04.3 LTS) / x86_64  OK    OK    OK  UNNEEDED, same version is already published
palomino3Windows Server 2022 Datacenter / x64  OK    OK    OK    OK  UNNEEDED, same version is already published
lconwaymacOS 12.7.1 Monterey / x86_64  OK    OK    OK    OK  UNNEEDED, same version is already published
kunpeng2Linux (openEuler 22.03 LTS-SP1) / aarch64  OK    OK    OK  
Package 145/336HostnameOS / ArchINSTALLBUILDCHECKBUILD BIN
icetea 1.21.0  (landing page)
Vivek Bhardwaj
git_last_commit: 4539135
git_last_commit_date: 2023-10-24 11:06:09 -0400
nebbiolo1Linux (Ubuntu 22.04.3 LTS) / x86_64  OK    OK    WARNINGS  UNNEEDED, same version is already published
palomino3Windows Server 2022 Datacenter / x64  OK    OK    WARNINGS    OK  UNNEEDED, same version is already published
lconwaymacOS 12.7.1 Monterey / x86_64  OK    OK    WARNINGS    OK  UNNEEDED, same version is already published
kunpeng2Linux (openEuler 22.03 LTS-SP1) / aarch64  OK    OK    WARNINGS  
Package 146/336HostnameOS / ArchINSTALLBUILDCHECKBUILD BIN
ideal 1.27.0  (landing page)
Federico Marini
git_last_commit: e91e570
git_last_commit_date: 2023-10-27 04:29:36 -0400
nebbiolo1Linux (Ubuntu 22.04.3 LTS) / x86_64  OK    OK    OK  UNNEEDED, same version is already published
palomino3Windows Server 2022 Datacenter / x64  OK    OK    OK    OK  UNNEEDED, same version is already published
lconwaymacOS 12.7.1 Monterey / x86_64  OK    OK    OK    OK  UNNEEDED, same version is already published
kunpeng2Linux (openEuler 22.03 LTS-SP1) / aarch64  ERROR    ERROR  skipped
Package 147/336HostnameOS / ArchINSTALLBUILDCHECKBUILD BIN
IMAS 1.27.0  (landing page)
Seonggyun Han
git_last_commit: 6bdc0e3
git_last_commit_date: 2023-10-24 10:56:52 -0400
nebbiolo1Linux (Ubuntu 22.04.3 LTS) / x86_64  OK    OK    OK  UNNEEDED, same version is already published
palomino3Windows Server 2022 Datacenter / x64  OK    OK    OK    OK  UNNEEDED, same version is already published
lconwaymacOS 12.7.1 Monterey / x86_64  OK    OK    OK    OK  UNNEEDED, same version is already published
kunpeng2Linux (openEuler 22.03 LTS-SP1) / aarch64  OK    OK    OK  
Package 148/336HostnameOS / ArchINSTALLBUILDCHECKBUILD BIN
imcRtools 1.9.2  (landing page)
Daniel Schulz
git_last_commit: 6f0cc15
git_last_commit_date: 2023-12-14 07:23:38 -0400
nebbiolo1Linux (Ubuntu 22.04.3 LTS) / x86_64  OK    OK    OK  UNNEEDED, same version is already published
palomino3Windows Server 2022 Datacenter / x64  OK    OK    OK    OK  UNNEEDED, same version is already published
lconwaymacOS 12.7.1 Monterey / x86_64  OK    OK    OK    OK  UNNEEDED, same version is already published
kunpeng2Linux (openEuler 22.03 LTS-SP1) / aarch64  OK    OK    OK  
Package 149/336HostnameOS / ArchINSTALLBUILDCHECKBUILD BIN
INSPEcT 1.33.1  (landing page)
Stefano de Pretis
git_last_commit: 818e03b
git_last_commit_date: 2024-01-02 11:46:50 -0400
nebbiolo1Linux (Ubuntu 22.04.3 LTS) / x86_64  OK    OK    OK  UNNEEDED, same version is already published
palomino3Windows Server 2022 Datacenter / x64  OK    OK    OK    OK  UNNEEDED, same version is already published
lconwaymacOS 12.7.1 Monterey / x86_64  OK    OK    OK    OK  UNNEEDED, same version is already published
kunpeng2Linux (openEuler 22.03 LTS-SP1) / aarch64  OK    OK    OK  
Package 150/336HostnameOS / ArchINSTALLBUILDCHECKBUILD BIN
IntEREst 1.27.1  (landing page)
Ali Oghabian , Mikko Frilander
git_last_commit: d0ca5bc
git_last_commit_date: 2024-03-19 23:03:56 -0400
nebbiolo1Linux (Ubuntu 22.04.3 LTS) / x86_64  OK    OK    OK  UNNEEDED, same version is already published
palomino3Windows Server 2022 Datacenter / x64  OK    OK    OK    OK  UNNEEDED, same version is already published
lconwaymacOS 12.7.1 Monterey / x86_64  OK    OK    OK    OK  UNNEEDED, same version is already published
kunpeng2Linux (openEuler 22.03 LTS-SP1) / aarch64  OK    OK    OK  
Package 151/336HostnameOS / ArchINSTALLBUILDCHECKBUILD BIN
IONiseR 2.27.0  (landing page)
Mike Smith
git_last_commit: cb50ab7
git_last_commit_date: 2023-10-24 10:44:01 -0400
nebbiolo1Linux (Ubuntu 22.04.3 LTS) / x86_64  OK    OK    OK  UNNEEDED, same version is already published
palomino3Windows Server 2022 Datacenter / x64  OK    OK    OK    OK  UNNEEDED, same version is already published
lconwaymacOS 12.7.1 Monterey / x86_64  OK    OK    OK    OK  UNNEEDED, same version is already published
kunpeng2Linux (openEuler 22.03 LTS-SP1) / aarch64  OK    OK    OK  
Package 152/336HostnameOS / ArchINSTALLBUILDCHECKBUILD BIN
iPath 1.9.0  (landing page)
Kenong Su
git_last_commit: 9932007
git_last_commit_date: 2023-10-24 11:35:08 -0400
nebbiolo1Linux (Ubuntu 22.04.3 LTS) / x86_64  OK    OK    OK  UNNEEDED, same version is already published
palomino3Windows Server 2022 Datacenter / x64  OK    ERROR  skippedskipped
lconwaymacOS 12.7.1 Monterey / x86_64  OK    OK    OK    OK  UNNEEDED, same version is already published
kunpeng2Linux (openEuler 22.03 LTS-SP1) / aarch64  OK    OK    OK  
Package 153/336HostnameOS / ArchINSTALLBUILDCHECKBUILD BIN
IPO 1.29.0  (landing page)
Thomas Lieb
git_last_commit: 976f60a
git_last_commit_date: 2023-10-24 10:51:59 -0400
nebbiolo1Linux (Ubuntu 22.04.3 LTS) / x86_64  OK    OK    OK  UNNEEDED, same version is already published
palomino3Windows Server 2022 Datacenter / x64  OK    OK    OK    OK  UNNEEDED, same version is already published
lconwaymacOS 12.7.1 Monterey / x86_64  OK    OK    OK    OK  UNNEEDED, same version is already published
kunpeng2Linux (openEuler 22.03 LTS-SP1) / aarch64  OK    OK    OK  
Package 154/336HostnameOS / ArchINSTALLBUILDCHECKBUILD BIN
ISLET 1.5.1  (landing page)
Hao Feng
git_last_commit: 8341688
git_last_commit_date: 2023-11-27 16:14:39 -0400
nebbiolo1Linux (Ubuntu 22.04.3 LTS) / x86_64  OK    ERROR  skipped
palomino3Windows Server 2022 Datacenter / x64  OK    OK    OK    OK  UNNEEDED, same version is already published
lconwaymacOS 12.7.1 Monterey / x86_64  OK    ERROR  skippedskipped
kunpeng2Linux (openEuler 22.03 LTS-SP1) / aarch64  OK    ERROR  skipped
Package 155/336HostnameOS / ArchINSTALLBUILDCHECKBUILD BIN
IsoformSwitchAnalyzeR 2.3.0  (landing page)
Kristoffer Vitting-Seerup
git_last_commit: 55e5728
git_last_commit_date: 2023-10-24 10:57:42 -0400
nebbiolo1Linux (Ubuntu 22.04.3 LTS) / x86_64  OK    OK    OK  UNNEEDED, same version is already published
palomino3Windows Server 2022 Datacenter / x64  OK    OK    OK    OK  UNNEEDED, same version is already published
lconwaymacOS 12.7.1 Monterey / x86_64  OK    OK    OK    OK  UNNEEDED, same version is already published
kunpeng2Linux (openEuler 22.03 LTS-SP1) / aarch64  OK    OK    OK  
Package 156/336HostnameOS / ArchINSTALLBUILDCHECKBUILD BIN
IVAS 2.23.0  (landing page)
Seonggyun Han
git_last_commit: 5e0a3d3
git_last_commit_date: 2023-10-24 10:41:17 -0400
nebbiolo1Linux (Ubuntu 22.04.3 LTS) / x86_64  OK    OK    WARNINGS  UNNEEDED, same version is already published
palomino3Windows Server 2022 Datacenter / x64  OK    OK    WARNINGS    OK  UNNEEDED, same version is already published
lconwaymacOS 12.7.1 Monterey / x86_64  OK    OK    WARNINGS    OK  UNNEEDED, same version is already published
kunpeng2Linux (openEuler 22.03 LTS-SP1) / aarch64  OK    OK    WARNINGS  
Package 157/336HostnameOS / ArchINSTALLBUILDCHECKBUILD BIN
katdetectr 1.5.3  (landing page)
Daan Hazelaar
git_last_commit: b338cda
git_last_commit_date: 2024-02-27 09:39:59 -0400
nebbiolo1Linux (Ubuntu 22.04.3 LTS) / x86_64  OK    OK    OK  UNNEEDED, same version is already published
palomino3Windows Server 2022 Datacenter / x64  OK    OK    OK    OK  UNNEEDED, same version is already published
lconwaymacOS 12.7.1 Monterey / x86_64  OK    OK    OK    OK  UNNEEDED, same version is already published
kunpeng2Linux (openEuler 22.03 LTS-SP1) / aarch64  OK    OK    OK  
Package 158/336HostnameOS / ArchINSTALLBUILDCHECKBUILD BIN
KinSwingR 1.21.0  (landing page)
Ashley J. Waardenberg
git_last_commit: 5fec3ab
git_last_commit_date: 2023-10-24 11:08:33 -0400
nebbiolo1Linux (Ubuntu 22.04.3 LTS) / x86_64  OK    OK    OK  UNNEEDED, same version is already published
palomino3Windows Server 2022 Datacenter / x64  OK    OK    OK    OK  UNNEEDED, same version is already published
lconwaymacOS 12.7.1 Monterey / x86_64  OK    OK    OK    OK  UNNEEDED, same version is already published
kunpeng2Linux (openEuler 22.03 LTS-SP1) / aarch64  OK    OK    OK  
Package 159/336HostnameOS / ArchINSTALLBUILDCHECKBUILD BIN
lisaClust 1.11.1  (landing page)
Ellis Patrick
git_last_commit: 46832d0
git_last_commit_date: 2023-10-25 21:00:04 -0400
nebbiolo1Linux (Ubuntu 22.04.3 LTS) / x86_64  OK    OK    OK  UNNEEDED, same version is already published
palomino3Windows Server 2022 Datacenter / x64  OK    OK    OK    OK  UNNEEDED, same version is already published
lconwaymacOS 12.7.1 Monterey / x86_64  OK    OK    OK    OK  UNNEEDED, same version is already published
kunpeng2Linux (openEuler 22.03 LTS-SP1) / aarch64  OK    OK    OK  
Package 160/336HostnameOS / ArchINSTALLBUILDCHECKBUILD BIN
loci2path 1.23.0  (landing page)
Tianlei Xu
git_last_commit: c20cf41
git_last_commit_date: 2023-10-24 11:01:38 -0400
nebbiolo1Linux (Ubuntu 22.04.3 LTS) / x86_64  OK    OK    OK  UNNEEDED, same version is already published
palomino3Windows Server 2022 Datacenter / x64  OK    OK    OK    OK  UNNEEDED, same version is already published
lconwaymacOS 12.7.1 Monterey / x86_64  OK    OK    OK    OK  UNNEEDED, same version is already published
kunpeng2Linux (openEuler 22.03 LTS-SP1) / aarch64  OK    OK    OK  
Package 161/336HostnameOS / ArchINSTALLBUILDCHECKBUILD BIN
LRcell 1.11.0  (landing page)
Wenjing Ma
git_last_commit: 2845056
git_last_commit_date: 2023-10-24 11:31:38 -0400
nebbiolo1Linux (Ubuntu 22.04.3 LTS) / x86_64  OK    OK    OK  UNNEEDED, same version is already published
palomino3Windows Server 2022 Datacenter / x64  OK    OK    OK    OK  UNNEEDED, same version is already published
lconwaymacOS 12.7.1 Monterey / x86_64  OK    OK    OK    OK  UNNEEDED, same version is already published
kunpeng2Linux (openEuler 22.03 LTS-SP1) / aarch64  OK    OK    OK  
Package 162/336HostnameOS / ArchINSTALLBUILDCHECKBUILD BIN
Macarron 1.7.0  (landing page)
Sagun Maharjan
git_last_commit: 4b50e01
git_last_commit_date: 2023-11-27 14:50:03 -0400
nebbiolo1Linux (Ubuntu 22.04.3 LTS) / x86_64  OK    OK    WARNINGS  UNNEEDED, same version is already published
palomino3Windows Server 2022 Datacenter / x64  OK    OK    WARNINGS    OK  UNNEEDED, same version is already published
lconwaymacOS 12.7.1 Monterey / x86_64  OK    OK    WARNINGS    OK  UNNEEDED, same version is already published
kunpeng2Linux (openEuler 22.03 LTS-SP1) / aarch64  OK    OK    WARNINGS  
Package 163/336HostnameOS / ArchINSTALLBUILDCHECKBUILD BIN
magpie 1.3.1  (landing page)
Daoyu Duan
git_last_commit: 7b3602e
git_last_commit_date: 2023-12-15 13:03:45 -0400
nebbiolo1Linux (Ubuntu 22.04.3 LTS) / x86_64  OK    OK    WARNINGS  UNNEEDED, same version is already published
palomino3Windows Server 2022 Datacenter / x64  OK    OK    WARNINGS    OK  UNNEEDED, same version is already published
lconwaymacOS 12.7.1 Monterey / x86_64  OK    OK    WARNINGS    OK  UNNEEDED, same version is already published
kunpeng2Linux (openEuler 22.03 LTS-SP1) / aarch64  OK    OK    WARNINGS  
Package 164/336HostnameOS / ArchINSTALLBUILDCHECKBUILD BIN
magrene 1.5.0  (landing page)
Fabrício Almeida-Silva
git_last_commit: 906bc1d
git_last_commit_date: 2023-10-24 11:44:26 -0400
nebbiolo1Linux (Ubuntu 22.04.3 LTS) / x86_64  OK    OK    OK  UNNEEDED, same version is already published
palomino3Windows Server 2022 Datacenter / x64  OK    OK    OK    OK  UNNEEDED, same version is already published
lconwaymacOS 12.7.1 Monterey / x86_64  OK    OK    OK    OK  UNNEEDED, same version is already published
kunpeng2Linux (openEuler 22.03 LTS-SP1) / aarch64  OK    OK    OK  
Package 165/336HostnameOS / ArchINSTALLBUILDCHECKBUILD BIN
mariner 1.3.0  (landing page)
Eric Davis
git_last_commit: f8a3645
git_last_commit_date: 2023-10-24 11:48:59 -0400
nebbiolo1Linux (Ubuntu 22.04.3 LTS) / x86_64  OK    OK    OK  UNNEEDED, same version is already published
palomino3Windows Server 2022 Datacenter / x64  OK    OK    OK    OK  UNNEEDED, same version is already published
lconwaymacOS 12.7.1 Monterey / x86_64  OK    OK    OK    OK  UNNEEDED, same version is already published
kunpeng2Linux (openEuler 22.03 LTS-SP1) / aarch64  OK    OK    OK  
Package 166/336HostnameOS / ArchINSTALLBUILDCHECKBUILD BIN
matter 2.5.10  (landing page)
Kylie A. Bemis
git_last_commit: b32a112
git_last_commit_date: 2024-03-25 22:11:06 -0400
nebbiolo1Linux (Ubuntu 22.04.3 LTS) / x86_64  OK    OK    WARNINGS  UNNEEDED, same version is already published
palomino3Windows Server 2022 Datacenter / x64  OK    OK    WARNINGS    OK  UNNEEDED, same version is already published
lconwaymacOS 12.7.1 Monterey / x86_64  OK    OK    WARNINGS    OK  UNNEEDED, same version is already published
kunpeng2Linux (openEuler 22.03 LTS-SP1) / aarch64  OK    OK    WARNINGS  
Package 167/336HostnameOS / ArchINSTALLBUILDCHECKBUILD BIN
MBASED 1.37.0  (landing page)
Oleg Mayba
git_last_commit: eb80a3e
git_last_commit_date: 2023-10-24 10:00:52 -0400
nebbiolo1Linux (Ubuntu 22.04.3 LTS) / x86_64  OK    OK    OK  UNNEEDED, same version is already published
palomino3Windows Server 2022 Datacenter / x64  OK    OK    OK    OK  UNNEEDED, same version is already published
lconwaymacOS 12.7.1 Monterey / x86_64  OK    OK    OK    OK  UNNEEDED, same version is already published
kunpeng2Linux (openEuler 22.03 LTS-SP1) / aarch64  OK    OK    OK  
Package 168/336HostnameOS / ArchINSTALLBUILDCHECKBUILD BIN
mbkmeans 1.19.0  (landing page)
Davide Risso
git_last_commit: a741aba
git_last_commit_date: 2023-10-24 11:12:38 -0400
nebbiolo1Linux (Ubuntu 22.04.3 LTS) / x86_64  OK    OK    OK  UNNEEDED, same version is already published
palomino3Windows Server 2022 Datacenter / x64  OK    OK    OK    OK  UNNEEDED, same version is already published
lconwaymacOS 12.7.1 Monterey / x86_64  OK    OK    OK    OK  UNNEEDED, same version is already published
kunpeng2Linux (openEuler 22.03 LTS-SP1) / aarch64  OK    OK    OK  
Package 169/336HostnameOS / ArchINSTALLBUILDCHECKBUILD BIN
MCbiclust 1.27.0  (landing page)
Robert Bentham
git_last_commit: b56992f
git_last_commit_date: 2024-02-02 12:27:02 -0400
nebbiolo1Linux (Ubuntu 22.04.3 LTS) / x86_64  OK    OK    OK  UNNEEDED, same version is already published
palomino3Windows Server 2022 Datacenter / x64  OK    OK    OK    OK  UNNEEDED, same version is already published
lconwaymacOS 12.7.1 Monterey / x86_64  OK    OK    OK    OK  UNNEEDED, same version is already published
kunpeng2Linux (openEuler 22.03 LTS-SP1) / aarch64  OK    OK    OK  
Package 170/336HostnameOS / ArchINSTALLBUILDCHECKBUILD BIN
MetaboAnnotation 1.7.4  (landing page)
Johannes Rainer
git_last_commit: 0fdfc4d
git_last_commit_date: 2024-03-07 01:43:54 -0400
nebbiolo1Linux (Ubuntu 22.04.3 LTS) / x86_64  OK    OK    OK  UNNEEDED, same version is already published
palomino3Windows Server 2022 Datacenter / x64  OK    OK    OK    OK  UNNEEDED, same version is already published
lconwaymacOS 12.7.1 Monterey / x86_64  OK    OK    OK    OK  UNNEEDED, same version is already published
kunpeng2Linux (openEuler 22.03 LTS-SP1) / aarch64  OK    OK    OK  
Package 171/336HostnameOS / ArchINSTALLBUILDCHECKBUILD BIN
MetaboCoreUtils 1.11.2  (landing page)
Johannes Rainer
git_last_commit: bb3d08a
git_last_commit_date: 2024-01-19 04:04:26 -0400
nebbiolo1Linux (Ubuntu 22.04.3 LTS) / x86_64  OK    OK    OK  UNNEEDED, same version is already published
palomino3Windows Server 2022 Datacenter / x64  OK    OK    OK    OK  UNNEEDED, same version is already published
lconwaymacOS 12.7.1 Monterey / x86_64  OK    OK    OK    OK  UNNEEDED, same version is already published
kunpeng2Linux (openEuler 22.03 LTS-SP1) / aarch64  OK    OK    OK  
Package 172/336HostnameOS / ArchINSTALLBUILDCHECKBUILD BIN
metabomxtr 1.37.0  (landing page)
Michael Nodzenski
git_last_commit: 6b8b22e
git_last_commit_date: 2023-10-24 10:00:21 -0400
nebbiolo1Linux (Ubuntu 22.04.3 LTS) / x86_64  OK    OK    OK  UNNEEDED, same version is already published
palomino3Windows Server 2022 Datacenter / x64  OK    OK    OK    OK  UNNEEDED, same version is already published
lconwaymacOS 12.7.1 Monterey / x86_64  OK    OK    OK    OK  UNNEEDED, same version is already published
kunpeng2Linux (openEuler 22.03 LTS-SP1) / aarch64  OK    OK    OK  
Package 173/336HostnameOS / ArchINSTALLBUILDCHECKBUILD BIN
metagene 2.35.1  (landing page)
Charles Joly Beauparlant
git_last_commit: e726b7c
git_last_commit_date: 2024-02-29 13:13:37 -0400
nebbiolo1Linux (Ubuntu 22.04.3 LTS) / x86_64  OK    OK    ERROR  
palomino3Windows Server 2022 Datacenter / x64  OK    OK    WARNINGS    OK  UNNEEDED, same version is already published
lconwaymacOS 12.7.1 Monterey / x86_64  OK    OK    ERROR    OK  
kunpeng2Linux (openEuler 22.03 LTS-SP1) / aarch64  OK    OK