Index of /checkResults/3.18/data-experiment-LATEST/seq2pathway.data/raw-results/nebbiolo2

[ICO]NameLast modifiedSizeDescription

[DIR]Parent Directory  -  
[TXT]buildsrc-out.txt17-Apr-2024 03:51 1.3K 
[   ]buildsrc-summary.dcf17-Apr-2024 03:51 444  
[TXT]checksrc-out.txt17-Apr-2024 03:51 3.6K 
[   ]checksrc-summary.dcf17-Apr-2024 03:51 455  
[TXT]install-out.txt17-Apr-2024 03:51 929  
[   ]install-summary.dcf17-Apr-2024 03:51 276