Back to Build/check report for BioC 3.18 experimental data
ABCDEFGHIJKLMNOPQR[S]TUVWXYZ

This page was generated on 2024-03-28 14:52:05 -0400 (Thu, 28 Mar 2024).

HostnameOSArch (*)R versionInstalled pkgs
nebbiolo2Linux (Ubuntu 22.04.3 LTS)x86_644.3.3 (2024-02-29) -- "Angel Food Cake" 4669
Click on any hostname to see more info about the system (e.g. compilers)      (*) as reported by 'uname -p', except on Windows and Mac OS X

All results for package SpikeIn


To the developers/maintainers of the SpikeIn package:
- Use the following Renviron settings to reproduce errors and warnings.
- If 'R CMD check' started to fail recently on the Linux builder(s) over a missing dependency, add the missing dependency to 'Suggests:' in your DESCRIPTION file. See Renviron.bioc for more information.

raw results

Package 380/429HostnameOS / ArchINSTALLBUILDCHECK
SpikeIn 1.44.0  (landing page)
Robert D Shear
Snapshot Date: 2024-03-28 07:30:02 -0400 (Thu, 28 Mar 2024)
git_url: https://git.bioconductor.org/packages/SpikeIn
git_branch: RELEASE_3_18
git_last_commit: 5dc4781
git_last_commit_date: 2023-10-24 08:54:18 -0400 (Tue, 24 Oct 2023)
nebbiolo2Linux (Ubuntu 22.04.3 LTS) / x86_64  OK    OK    OK  UNNEEDED, same version is already published