Index of /checkResults/3.18/bioc-mac-arm64-LATEST/nuCpos/raw-results/kjohnson1

[ICO]NameLast modifiedSizeDescription

[DIR]Parent Directory  -  
[TXT]buildbin-out.txt19-Apr-2024 00:32 1.1K 
[   ]buildbin-summary.dcf19-Apr-2024 00:32 524  
[TXT]buildsrc-out.txt19-Apr-2024 00:32 875  
[   ]buildsrc-summary.dcf19-Apr-2024 00:32 424  
[TXT]checksrc-out.txt19-Apr-2024 00:32 3.6K 
[   ]checksrc-summary.dcf19-Apr-2024 00:32 439  
[TXT]install-out.txt19-Apr-2024 00:32 1.0K 
[   ]install-summary.dcf19-Apr-2024 00:32 267