Index of /checkResults/3.18/bioc-mac-arm64-LATEST/biovizBase/raw-results

[ICO]NameLast modifiedSizeDescription

[DIR]Parent Directory  -  
[DIR]kjohnson1/19-Apr-2024 00:32 -  
[   ]info.dcf19-Apr-2024 00:31 278