Index of /checkResults/3.18/bioc-mac-arm64-LATEST/ChIPsim/raw-results

[ICO]NameLast modifiedSizeDescription

[DIR]Parent Directory  -  
[   ]info.dcf19-Apr-2024 00:31 275  
[DIR]kjohnson1/19-Apr-2024 00:32 -