Index of /checkResults/3.18/bioc-LATEST/sarks/raw-results/nebbiolo2

[ICO]NameLast modifiedSizeDescription

[DIR]Parent Directory  -  
[TXT]buildsrc-out.txt18-Apr-2024 00:36 861  
[   ]buildsrc-summary.dcf18-Apr-2024 00:36 409  
[TXT]checksrc-out.txt18-Apr-2024 00:36 3.4K 
[   ]checksrc-summary.dcf18-Apr-2024 00:36 406  
[TXT]install-out.txt18-Apr-2024 00:36 954  
[   ]install-summary.dcf18-Apr-2024 00:36 255