Index of /checkResults/3.18/bioc-LATEST/sarks/raw-results/kunpeng2

[ICO]NameLast modifiedSizeDescription

[DIR]Parent Directory  -  
[TXT]buildsrc-out.txt03-Nov-2023 00:41 855  
[   ]buildsrc-summary.dcf03-Nov-2023 00:41 405  
[TXT]checksrc-out.txt03-Nov-2023 00:41 3.3K 
[   ]checksrc-summary.dcf03-Nov-2023 00:41 409  
[TXT]install-out.txt03-Nov-2023 00:41 942  
[   ]install-summary.dcf03-Nov-2023 00:41 249