Index of /checkResults/3.18/bioc-LATEST/rpx/raw-results/palomino4

[ICO]NameLast modifiedSizeDescription

[DIR]Parent Directory  -  
[TXT]buildbin-out.txt18-Apr-2024 00:37 1.0K 
[   ]buildbin-summary.dcf18-Apr-2024 00:37 491  
[TXT]buildsrc-out.txt18-Apr-2024 00:37 819  
[   ]buildsrc-summary.dcf18-Apr-2024 00:37 436  
[TXT]checksrc-out.txt18-Apr-2024 00:37 3.1K 
[   ]checksrc-summary.dcf18-Apr-2024 00:37 430  
[TXT]install-out.txt18-Apr-2024 00:37 950  
[   ]install-summary.dcf18-Apr-2024 00:37 260