Index of /checkResults/3.18/bioc-LATEST/ribosomeProfilingQC/raw-results

[ICO]NameLast modifiedSizeDescription

[DIR]Parent Directory  -  
[   ]info.dcf18-Apr-2024 00:35 294  
[DIR]kunpeng2/03-Nov-2023 00:41 -  
[DIR]lconway/05-Mar-2024 01:37 -  
[DIR]merida1/18-Apr-2024 00:38 -  
[DIR]nebbiolo2/18-Apr-2024 00:36 -  
[DIR]palomino4/18-Apr-2024 00:37 -