Index of /checkResults/3.18/bioc-LATEST/recoup/raw-results/palomino4

[ICO]NameLast modifiedSizeDescription

[DIR]Parent Directory  -  
[   ]install-summary.dcf18-Apr-2024 00:37 266  
[TXT]install-out.txt18-Apr-2024 00:37 1.0K 
[   ]checksrc-summary.dcf18-Apr-2024 00:37 443  
[TXT]checksrc-out.txt18-Apr-2024 00:37 5.0K 
[   ]buildsrc-summary.dcf18-Apr-2024 00:37 448  
[TXT]buildsrc-out.txt18-Apr-2024 00:37 834  
[   ]buildbin-summary.dcf18-Apr-2024 00:37 509  
[TXT]buildbin-out.txt18-Apr-2024 00:37 1.1K