Back to Multiple platform build/check report for BioC 3.18:   simplified   long
ABCDEFGHIJKLMN[O]PQRSTUVWXYZ

This page was generated on 2024-04-17 11:37:05 -0400 (Wed, 17 Apr 2024).

HostnameOSArch (*)R versionInstalled pkgs
nebbiolo2Linux (Ubuntu 22.04.3 LTS)x86_644.3.3 (2024-02-29) -- "Angel Food Cake" 4676
palomino4Windows Server 2022 Datacenterx644.3.3 (2024-02-29 ucrt) -- "Angel Food Cake" 4414
merida1macOS 12.7.1 Montereyx86_644.3.3 (2024-02-29) -- "Angel Food Cake" 4437
Click on any hostname to see more info about the system (e.g. compilers)      (*) as reported by 'uname -p', except on Windows and Mac OS X

Package 1463/2266HostnameOS / ArchINSTALLBUILDCHECKBUILD BIN
openPrimeRui 1.24.0  (landing page)
Matthias D├Âring
Snapshot Date: 2024-04-15 14:05:01 -0400 (Mon, 15 Apr 2024)
git_url: https://git.bioconductor.org/packages/openPrimeRui
git_branch: RELEASE_3_18
git_last_commit: 9aaeade
git_last_commit_date: 2023-10-24 10:59:45 -0400 (Tue, 24 Oct 2023)
nebbiolo2Linux (Ubuntu 22.04.3 LTS) / x86_64  OK    OK    OK  UNNEEDED, same version is already published
palomino4Windows Server 2022 Datacenter / x64  OK    OK    OK    OK  UNNEEDED, same version is already published
merida1macOS 12.7.1 Monterey / x86_64  OK    OK    OK    OK  UNNEEDED, same version is already published
kjohnson1macOS 13.6.1 Ventura / arm64see weekly results here

BUILD BIN results for openPrimeRui on palomino4


To the developers/maintainers of the openPrimeRui package:
- Allow up to 24 hours (and sometimes 48 hours) for your latest push to git@git.bioconductor.org:packages/openPrimeRui.git to reflect on this report. See Troubleshooting Build Report for more information.
- Use the following Renviron settings to reproduce errors and warnings.
- If 'R CMD check' started to fail recently on the Linux builder(s) over a missing dependency, add the missing dependency to 'Suggests:' in your DESCRIPTION file. See Renviron.bioc for more information.

raw results


Summary

Package: openPrimeRui
Version: 1.24.0
Command: rm -rf openPrimeRui.buildbin-libdir && mkdir openPrimeRui.buildbin-libdir && F:\biocbuild\bbs-3.18-bioc\R\bin\R.exe CMD INSTALL --build --library=openPrimeRui.buildbin-libdir openPrimeRui_1.24.0.tar.gz
StartedAt: 2024-04-16 07:23:50 -0400 (Tue, 16 Apr 2024)
EndedAt: 2024-04-16 07:24:12 -0400 (Tue, 16 Apr 2024)
EllapsedTime: 22.1 seconds
RetCode: 0
Status:   OK  
PackageFile: openPrimeRui_1.24.0.zip
PackageFileSize: 2.419 MiB

Command output

##############################################################################
##############################################################################
###
### Running command:
###
###   rm -rf openPrimeRui.buildbin-libdir && mkdir openPrimeRui.buildbin-libdir && F:\biocbuild\bbs-3.18-bioc\R\bin\R.exe CMD INSTALL --build --library=openPrimeRui.buildbin-libdir openPrimeRui_1.24.0.tar.gz
###
##############################################################################
##############################################################################


* installing *source* package 'openPrimeRui' ...
** using staged installation
** R
** inst
** byte-compile and prepare package for lazy loading
** help
*** installing help indices
** building package indices
** installing vignettes
** testing if installed package can be loaded from temporary location
** testing if installed package can be loaded from final location
** testing if installed package keeps a record of temporary installation path
* MD5 sums
packaged installation of 'openPrimeRui' as openPrimeRui_1.24.0.zip
* DONE (openPrimeRui)