Index of /checkResults/3.18/bioc-LATEST/omicsPrint/raw-results/nebbiolo2

[ICO]NameLast modifiedSizeDescription

[DIR]Parent Directory  -  
[TXT]buildsrc-out.txt18-Apr-2024 00:36 818  
[   ]buildsrc-summary.dcf18-Apr-2024 00:36 426  
[TXT]checksrc-out.txt18-Apr-2024 00:36 3.6K 
[   ]checksrc-summary.dcf18-Apr-2024 00:36 432  
[TXT]install-out.txt18-Apr-2024 00:36 1.0K 
[   ]install-summary.dcf18-Apr-2024 00:36 265