Index of /checkResults/3.18/bioc-LATEST/nuCpos/raw-results/palomino4

[ICO]NameLast modifiedSizeDescription

[DIR]Parent Directory  -  
[TXT]buildbin-out.txt18-Apr-2024 00:37 1.1K 
[   ]buildbin-summary.dcf18-Apr-2024 00:37 508  
[TXT]buildsrc-out.txt18-Apr-2024 00:37 894  
[   ]buildsrc-summary.dcf18-Apr-2024 00:37 448  
[TXT]checksrc-out.txt18-Apr-2024 00:37 3.5K 
[   ]checksrc-summary.dcf18-Apr-2024 00:37 442  
[TXT]install-out.txt18-Apr-2024 00:37 959  
[   ]install-summary.dcf18-Apr-2024 00:37 266