Index of /checkResults/3.18/bioc-LATEST/nuCpos/raw-results/nebbiolo2

[ICO]NameLast modifiedSizeDescription

[DIR]Parent Directory  -  
[TXT]install-out.txt18-Apr-2024 00:36 949  
[   ]install-summary.dcf18-Apr-2024 00:36 256  
[TXT]buildsrc-out.txt18-Apr-2024 00:36 865  
[   ]buildsrc-summary.dcf18-Apr-2024 00:36 414  
[TXT]checksrc-out.txt18-Apr-2024 00:36 3.5K 
[   ]checksrc-summary.dcf18-Apr-2024 00:36 409