Back to Multiple platform build/check report for BioC 3.18:   simplified   long
ABCDEFGHIJKLM[N]OPQRSTUVWXYZ

This page was generated on 2024-04-17 11:38:00 -0400 (Wed, 17 Apr 2024).

HostnameOSArch (*)R versionInstalled pkgs
nebbiolo2Linux (Ubuntu 22.04.3 LTS)x86_644.3.3 (2024-02-29) -- "Angel Food Cake" 4676
palomino4Windows Server 2022 Datacenterx644.3.3 (2024-02-29 ucrt) -- "Angel Food Cake" 4414
merida1macOS 12.7.1 Montereyx86_644.3.3 (2024-02-29) -- "Angel Food Cake" 4437
Click on any hostname to see more info about the system (e.g. compilers)      (*) as reported by 'uname -p', except on Windows and Mac OS X

Package 1407/2266HostnameOS / ArchINSTALLBUILDCHECKBUILD BIN
netresponse 1.62.0  (landing page)
Leo Lahti
Snapshot Date: 2024-04-15 14:05:01 -0400 (Mon, 15 Apr 2024)
git_url: https://git.bioconductor.org/packages/netresponse
git_branch: RELEASE_3_18
git_last_commit: b3dff34
git_last_commit_date: 2023-10-24 09:44:54 -0400 (Tue, 24 Oct 2023)
nebbiolo2Linux (Ubuntu 22.04.3 LTS) / x86_64  OK    OK    ERROR  
palomino4Windows Server 2022 Datacenter / x64  OK    OK    OK    OK  UNNEEDED, same version is already published
merida1macOS 12.7.1 Monterey / x86_64  OK    OK    OK    OK  UNNEEDED, same version is already published
kjohnson1macOS 13.6.1 Ventura / arm64see weekly results here

INSTALL results for netresponse on merida1


To the developers/maintainers of the netresponse package:
- Allow up to 24 hours (and sometimes 48 hours) for your latest push to git@git.bioconductor.org:packages/netresponse.git to reflect on this report. See Troubleshooting Build Report for more information.
- Use the following Renviron settings to reproduce errors and warnings.
- If 'R CMD check' started to fail recently on the Linux builder(s) over a missing dependency, add the missing dependency to 'Suggests:' in your DESCRIPTION file. See Renviron.bioc for more information.

raw results


Summary

Package: netresponse
Version: 1.62.0
Command: /Library/Frameworks/R.framework/Resources/bin/R CMD INSTALL netresponse
StartedAt: 2024-04-15 16:27:55 -0400 (Mon, 15 Apr 2024)
EndedAt: 2024-04-15 16:28:18 -0400 (Mon, 15 Apr 2024)
EllapsedTime: 22.8 seconds
RetCode: 0
Status:   OK  

Command output

##############################################################################
##############################################################################
###
### Running command:
###
###   /Library/Frameworks/R.framework/Resources/bin/R CMD INSTALL netresponse
###
##############################################################################
##############################################################################


* installing to library ‘/Library/Frameworks/R.framework/Versions/4.3-x86_64/Resources/library’
* installing *source* package ‘netresponse’ ...
** using staged installation
** libs
using C compiler: ‘Apple clang version 14.0.0 (clang-1400.0.29.202)’
using SDK: ‘MacOSX11.3.sdk’
clang -arch x86_64 -I"/Library/Frameworks/R.framework/Resources/include" -DNDEBUG   -I/opt/R/x86_64/include    -fPIC  -falign-functions=64 -Wall -g -O2  -c netresponse.c -o netresponse.o
netresponse.c:264:15: warning: unused variable 'prior_fields' [-Wunused-variable]
  const char *prior_fields[]={"Mumu","S2mu",
              ^
netresponse.c:686:6: warning: variable 'Mumu' is used uninitialized whenever 'if' condition is false [-Wsometimes-uninitialized]
  if(dim1) {
     ^~~~
netresponse.c:713:21: note: uninitialized use occurs here
  vdp_mk_log_lambda(Mumu, S2mu, Mubar, Mutilde, 
                    ^~~~
netresponse.c:686:3: note: remove the 'if' if its condition is always true
  if(dim1) {
  ^~~~~~~~~
netresponse.c:655:15: note: initialize the variable 'Mumu' to silence this warning
  double *Mumu, *S2mu, *Mubar, *Mutilde, 
              ^
               = NULL
netresponse.c:686:6: warning: variable 'S2mu' is used uninitialized whenever 'if' condition is false [-Wsometimes-uninitialized]
  if(dim1) {
     ^~~~
netresponse.c:713:27: note: uninitialized use occurs here
  vdp_mk_log_lambda(Mumu, S2mu, Mubar, Mutilde, 
                          ^~~~
netresponse.c:686:3: note: remove the 'if' if its condition is always true
  if(dim1) {
  ^~~~~~~~~
netresponse.c:655:22: note: initialize the variable 'S2mu' to silence this warning
  double *Mumu, *S2mu, *Mubar, *Mutilde, 
                     ^
                      = NULL
netresponse.c:686:6: warning: variable 'Mubar' is used uninitialized whenever 'if' condition is false [-Wsometimes-uninitialized]
  if(dim1) {
     ^~~~
netresponse.c:713:33: note: uninitialized use occurs here
  vdp_mk_log_lambda(Mumu, S2mu, Mubar, Mutilde, 
                                ^~~~~
netresponse.c:686:3: note: remove the 'if' if its condition is always true
  if(dim1) {
  ^~~~~~~~~
netresponse.c:655:30: note: initialize the variable 'Mubar' to silence this warning
  double *Mumu, *S2mu, *Mubar, *Mutilde, 
                             ^
                              = NULL
netresponse.c:686:6: warning: variable 'Mutilde' is used uninitialized whenever 'if' condition is false [-Wsometimes-uninitialized]
  if(dim1) {
     ^~~~
netresponse.c:713:40: note: uninitialized use occurs here
  vdp_mk_log_lambda(Mumu, S2mu, Mubar, Mutilde, 
                                       ^~~~~~~
netresponse.c:686:3: note: remove the 'if' if its condition is always true
  if(dim1) {
  ^~~~~~~~~
netresponse.c:655:40: note: initialize the variable 'Mutilde' to silence this warning
  double *Mumu, *S2mu, *Mubar, *Mutilde, 
                                       ^
                                        = NULL
netresponse.c:686:6: warning: variable 'AlphaKsi' is used uninitialized whenever 'if' condition is false [-Wsometimes-uninitialized]
  if(dim1) {
     ^~~~
netresponse.c:714:7: note: uninitialized use occurs here
                    AlphaKsi, BetaKsi, KsiAlpha, KsiBeta, 
                    ^~~~~~~~
netresponse.c:686:3: note: remove the 'if' if its condition is always true
  if(dim1) {
  ^~~~~~~~~
netresponse.c:656:14: note: initialize the variable 'AlphaKsi' to silence this warning
    *AlphaKsi, *BetaKsi, *KsiAlpha, *KsiBeta, *U_p, *prior_alpha,
             ^
              = NULL
netresponse.c:686:6: warning: variable 'BetaKsi' is used uninitialized whenever 'if' condition is false [-Wsometimes-uninitialized]
  if(dim1) {
     ^~~~
netresponse.c:714:17: note: uninitialized use occurs here
                    AlphaKsi, BetaKsi, KsiAlpha, KsiBeta, 
                              ^~~~~~~
netresponse.c:686:3: note: remove the 'if' if its condition is always true
  if(dim1) {
  ^~~~~~~~~
netresponse.c:656:24: note: initialize the variable 'BetaKsi' to silence this warning
    *AlphaKsi, *BetaKsi, *KsiAlpha, *KsiBeta, *U_p, *prior_alpha,
                       ^
                        = NULL
netresponse.c:686:6: warning: variable 'KsiAlpha' is used uninitialized whenever 'if' condition is false [-Wsometimes-uninitialized]
  if(dim1) {
     ^~~~
netresponse.c:714:26: note: uninitialized use occurs here
                    AlphaKsi, BetaKsi, KsiAlpha, KsiBeta, 
                                       ^~~~~~~~
netresponse.c:686:3: note: remove the 'if' if its condition is always true
  if(dim1) {
  ^~~~~~~~~
netresponse.c:656:35: note: initialize the variable 'KsiAlpha' to silence this warning
    *AlphaKsi, *BetaKsi, *KsiAlpha, *KsiBeta, *U_p, *prior_alpha,
                                  ^
                                   = NULL
netresponse.c:686:6: warning: variable 'KsiBeta' is used uninitialized whenever 'if' condition is false [-Wsometimes-uninitialized]
  if(dim1) {
     ^~~~
netresponse.c:714:36: note: uninitialized use occurs here
                    AlphaKsi, BetaKsi, KsiAlpha, KsiBeta, 
                                                 ^~~~~~~
netresponse.c:686:3: note: remove the 'if' if its condition is always true
  if(dim1) {
  ^~~~~~~~~
netresponse.c:656:45: note: initialize the variable 'KsiBeta' to silence this warning
    *AlphaKsi, *BetaKsi, *KsiAlpha, *KsiBeta, *U_p, *prior_alpha,
                                            ^
                                             = NULL
netresponse.c:696:6: warning: variable 'U_p' is used uninitialized whenever 'if' condition is false [-Wsometimes-uninitialized]
  if(dim2) {
     ^~~~
netresponse.c:716:7: note: uninitialized use occurs here
                    U_p, U_hat,
                    ^~~
netresponse.c:696:3: note: remove the 'if' if its condition is always true
  if(dim2) {
  ^~~~~~~~~
netresponse.c:656:51: note: initialize the variable 'U_p' to silence this warning
    *AlphaKsi, *BetaKsi, *KsiAlpha, *KsiBeta, *U_p, *prior_alpha,
                                                  ^
                                                   = NULL
netresponse.c:696:6: warning: variable 'U_hat' is used uninitialized whenever 'if' condition is false [-Wsometimes-uninitialized]
  if(dim2) {
     ^~~~
netresponse.c:716:12: note: uninitialized use occurs here
                    U_p, U_hat,
                         ^~~~~
netresponse.c:696:3: note: remove the 'if' if its condition is always true
  if(dim2) {
  ^~~~~~~~~
netresponse.c:661:14: note: initialize the variable 'U_hat' to silence this warning
  SEXP* U_hat;
             ^
              = NULL
11 warnings generated.
clang -arch x86_64 -dynamiclib -Wl,-headerpad_max_install_names -undefined dynamic_lookup -L/Library/Frameworks/R.framework/Resources/lib -L/opt/R/x86_64/lib -o netresponse.so netresponse.o -F/Library/Frameworks/R.framework/.. -framework R -Wl,-framework -Wl,CoreFoundation
installing to /Library/Frameworks/R.framework/Versions/4.3-x86_64/Resources/library/00LOCK-netresponse/00new/netresponse/libs
** R
** data
** inst
** byte-compile and prepare package for lazy loading
** help
*** installing help indices
** building package indices
** installing vignettes
** testing if installed package can be loaded from temporary location
** checking absolute paths in shared objects and dynamic libraries
** testing if installed package can be loaded from final location
** testing if installed package keeps a record of temporary installation path
* DONE (netresponse)